BEGIN:VCALENDAR
VERSION:2.0
PRODID:-//AVA - ECPv6.15.20//NONSGML v1.0//EN
CALSCALE:GREGORIAN
METHOD:PUBLISH
X-ORIGINAL-URL:https://associazionevegananimalista.it
X-WR-CALDESC:Eventi per AVA
REFRESH-INTERVAL;VALUE=DURATION:PT1H
X-Robots-Tag:noindex
X-PUBLISHED-TTL:PT1H
BEGIN:VTIMEZONE
TZID:Europe/Rome
BEGIN:DAYLIGHT
TZOFFSETFROM:+0100
TZOFFSETTO:+0200
TZNAME:CEST
DTSTART:20180325T010000
END:DAYLIGHT
BEGIN:STANDARD
TZOFFSETFROM:+0200
TZOFFSETTO:+0100
TZNAME:CET
DTSTART:20181028T010000
END:STANDARD
BEGIN:DAYLIGHT
TZOFFSETFROM:+0100
TZOFFSETTO:+0200
TZNAME:CEST
DTSTART:20190331T010000
END:DAYLIGHT
BEGIN:STANDARD
TZOFFSETFROM:+0200
TZOFFSETTO:+0100
TZNAME:CET
DTSTART:20191027T010000
END:STANDARD
BEGIN:DAYLIGHT
TZOFFSETFROM:+0100
TZOFFSETTO:+0200
TZNAME:CEST
DTSTART:20200329T010000
END:DAYLIGHT
BEGIN:STANDARD
TZOFFSETFROM:+0200
TZOFFSETTO:+0100
TZNAME:CET
DTSTART:20201025T010000
END:STANDARD
END:VTIMEZONE
BEGIN:VEVENT
DTSTART;TZID=Europe/Rome:20190502T180000
DTEND;TZID=Europe/Rome:20190502T203000
DTSTAMP:20260424T010652
CREATED:20190330T150828Z
LAST-MODIFIED:20190429T080952Z
UID:2900-1556820000-1556829000@associazionevegananimalista.it
SUMMARY:Da Buddha a Einstein:  viaggio oltre la terza dimensione
DESCRIPTION:Accostamenti tra la realtà dei mistici d’oriente e la scienza\, alla luce della rivoluzione della fisica quantistica. Un legame che apre lo scienziato all’intuizione di un’unità perduta\, raggiungibile di nuovo attraverso un percorso di consapevolezza. L’incontro dell’indagine occidentale con quella orientale. \n  \nDa Buddha a Einstein:  viaggio oltre la terza dimensione\nRelatore Dr. Paolo Guido\, Insegnante di Hatha Yoga\, Laura in Matematica\, Scrittore. \n  \nOriente e Occidente \ndue mondi complementari \nYoga \nFisica \nMatematica \nFilosofia \nPsicanalisi \nPaolo Guido insegnante di Hatha Yoga \npropone una pratica di yoga classico \ncon lo sguardo rivolto anche all’Occidente. \nAl nostro ambiente\, alla nostra cultura. \nDiplomato insegnante di Hatha Yoga nel 1985 all’Accademia Yoga di Roma del M° Giorgio Furlan dove ha svolto una pratica di insegnamento pluriennale.\nLaureato in Matematica e autore dei libri \n–  Lo Yoga della Relatività           Ed. Babaji (1991) \n– Da Buddha a Einstein               Ed. Il punto d’incontro (2004)\n– La psicanalisi dei chakra          Ed. Magnanelli  (2015) \nRelatore di conferenze  e seminari su diversi temi tra i quali \n\n\n Le diverse vie dello Yoga\n\n\nL’illusione del tempo\n\n\nLo studio dei Chakra e le teorie della Psicanalisi\n\n\nMatematica e Universo multidimensionale\n\n\nLo spirito dello Yoga nella Fisica contemporanea\n\n\nKarma ed Esistenza Totale\n\n\nSaper respirare e meditare\n\n\n  \nAttualmente insegna \n  \nall’Istituto Yoga Universale \n  \nL.go Magna Grecia 20 – ROMA \ne tiene un corso settimanale di Hatha Yoga\nall’Associazione Culturale \n  \nDojo Zen\nVia delle Mole 32\nALBANO LAZIALE \nShare on:
URL:https://associazionevegananimalista.it/event/da-buddha-a-einstein-viaggio-oltre-la-terza-dimensione/
CATEGORIES:Conferenze AVA 2019,Eventi AVA 2019
END:VEVENT
BEGIN:VEVENT
DTSTART;TZID=Europe/Rome:20190509T180000
DTEND;TZID=Europe/Rome:20190509T203000
DTSTAMP:20260424T010652
CREATED:20190330T153058Z
LAST-MODIFIED:20190507T142920Z
UID:2902-1557424800-1557433800@associazionevegananimalista.it
SUMMARY:SCOPRIRE VERITÀ E MENZOGNE  ATTRAVERSO I GESTI DEL CORPO
DESCRIPTION:SCOPRIRE VERITÀ E MENZOGNE ATTRAVERSO I GESTI DEL CORPO\nRelatore DR. ANTONIO LUCE \nPsicologo e Formatore\, Esperto del Linguaggio del Corpo\, \nRelatore presso 22 Questure italiane del Corso \n“Il linguaggio della menzogna nell’Anti-Terrorismo”\, \nPresidente dell’Europen Istitute of Body Language\, \nIstituto Europeo del Linguaggio del Corpo Memoreg A.C. \n  \nL’evoluzione ha portato senza dubbio un netto cambiamento nel modo di porsi tra gli altri e con gli altri. \nGli addetti allo studio del comportamento umano confermano che i movimenti del corpo valgono più di mille parole\nImpercettibile o evidente che sia\, ogni gestualità ha un preciso significato che non può sfuggire a chi sa osservare\, è quanto ipotizzato dai più importanti esperti di linguaggio del corpo\, tra questi in italia abbiamo il Prof. Antonio Luce\, Psicologo e Formatore\, Autore del Best Seller al 7° posto su Wikipedia ed esperto del Linguaggio del Corpo per il Telegiornale della Rai ed il TG5 di Mediaset. \nConsulente del Linguaggio della Menzogna presso Pomeriggio 5 di Barbara D’Urso e Mattino 5 di Federica Panicucci. \nDal 2003 dopo gli attentati dell’11 settembre\, il Dott. Luce è docente e consulente in molte Questure per Anti-Terrorismo. \nI seminari che ha organizzato in tutta Italia hanno raggiunto oltre 210.000 partecipanti e hanno parlato di lui su Resto del Carlino\, Panorama\, Wired e una miriade di altri mezzi di comunicazione. \n\nMa cosa è il linguaggio del corpo secondo il Dott. Luce ?\nIl linguaggio del corpo è il cosiddetto linguaggio non verbale e rappresenta oggi il più potente mezzo di comunicazione!\nChi conosce il linguaggio del corpo può essere in grado di utilizzarlo per comunicare sicurezza al proprio interlocutore: ciò che pochi sanno è che possiamo apprendere come educare il nostro corpo affinché esprima stati d’animo positivi (come sicurezza\, determinazione e gioia) o negativi (come la sensazione di fastidio). \nSe riflettiamo\, sulla differenza che intercorre tra un bravo ed un pessimo attore\, ad esempio\, ci renderemo immediatamente conto che il primo non utilizza soltanto la mimica facciale per esprimere le emozioni sul palcoscenico\, ma si avvale al contrario di tutto il proprio corpo. \nLe applicazioni del linguaggio del corpo sono\, quindi\, molteplici e ci permettono sia di mettere a proprio agio il nostro interlocutore sia\, nel caso in cui incontriamo una persona per la prima volta\, dare ad esso l’impressione di avere ‘una marcia in più’ rispetto ad un interlocutore non attento ai segnali che emette attraverso il suo corpo. \n\nQualche curiosità sul linguaggio del corpo\nSecondo noti studi americani\, il nostro interlocutore si crea un’impressione di noi nell’arco che va dai 40 ai 180 secondi che seguono la sua conoscenza\nBasta pensare che\, durante il primo minuto che segue la conoscenza di un’altra persona\, siamo in grado di emettere fino 10.000 messaggi attraverso il nostro linguaggio del corpo\, e tutto ciò avviene senza che ne abbiamo la minima percezione. \n  \nShare on:
URL:https://associazionevegananimalista.it/event/il-linguaggio-del-corpo-e-il-cosiddetto-linguaggio-non-verbale/
CATEGORIES:Conferenze AVA 2019,Eventi AVA 2019
END:VEVENT
BEGIN:VEVENT
DTSTART;TZID=Europe/Rome:20190516T180000
DTEND;TZID=Europe/Rome:20190516T203000
DTSTAMP:20260424T010652
CREATED:20190330T154515Z
LAST-MODIFIED:20190509T214712Z
UID:2904-1558029600-1558038600@associazionevegananimalista.it
SUMMARY:Dentosofia: correlazione tra denti\, alimentazione\, postura\, cervello e sistema immunitario
DESCRIPTION:Dentosofia: correlazione tra denti\, alimentazione\, postura\, cervello e sistema immunitario\nRelatori Dr. Mimmo Micarelli\, Fisioterapista\, Naturopata\, Osteopatia\, Posturologia\, Associaz. Italiana Clinica e Terapia Olistica – Dr. Andrea Abazari\,Odontoiatra \n\nDott. Domenico Micarelli \n\nLaureato in fisioterapia\, opera nel campo della riabilitazione dal 1982\n\nGià atleta e preparatore sportivo (Coni-Fidal) si interessa inizialmente di metodiche riabilitative “classiche” e di psicomotricità. \nFormatosi in ambito classico-umanistico\, con alle spalle studi in Scienze Biologiche e Dietistica\, si occupa nel tempo di terapie Bionaturali: osteopatia\, kinesiologia applicata\, floriterapia\, aromaterapia\, naturopatia … \n\n\nPresta\,fin da subito\, particolare attenzione alla gnattologia posturale\, convinto della straordinaria importanza della funzione masticatoria ai fini riabilitativi. \nI suoi studi si incentrano sulla occlusione dentaria e sulla funzione dei muscoli gnatomimici\, percorrendo quelle correlazioni con organi\, emozioni\, prestazioni sportive\, energia vitale\, nutrizione\, malattia o stato di benessere\, postura\, ed elaborando – negli ultimi anni – un percorso riabilitativo personale denominato ROI – 1997 . \nIntroduce\, inoltre\, nella metodica terapeutica\,la valenza della componente elettromagnetica\, spirituale e della “progetto terapia”\, quest’ultima intesa come opportunità di autorealizzazione dell’individuo\, coniugando cosi arte\,scienza\,umanesimo e ricerca. \nRelatore in vari simposi scientifici\, nel 2001 e nel 2002 è invitato dal Dipartimento di scienze stomatologiche presso l’Università degli studi di Palermo ad esporre le ricerche inerenti le particolari interpretazioni olistiche ai fini riabilitativi e gli studi sulla valenza dei muscoli gnatomimici in relazione alla postura e al “comportamento emotivo” . \nE’ presidente dell’ITER – Istituto Transdisciplinare Europeo di Ricerca e docente presso l’AICTO-Associazione Italiana di Clinica e Terapia Olistica in convenzione scientifica con l’Istituto Superiore di Medicina Olistica e di Ecologia. \n  \nDr. Andrea Abazari \nLaureatosi in Odontoiatria e Protesi Dentaria nel 2010\, prosegue gli studi conseguendo un Master in Ortodonzia nel 2012 e collaborando con il padre nello studio dentistico di Perugia.\nDal 2017 è Direttore Sanitario presso la clinica A.R.G.O di Rieti\, dove collabora con il famoso osteopata Mimmo Micarelli e con il Dott. Alessandro Micarelli. \nSi occupa principalmente di Riabilitazione Occlusale\, Rimozione dei Metalli Pesanti e Ortodonzia Funzionale. \nDal 2011 sceglie di seguire uno stile di vita che non comporti lo sfruttamento animale e approfondisce il tema dell’alimentazione studiando Arnold Ehret\, Herbert Shelton\, Armando D’Elia\, Colin Campbell\, e altri autori. \nNel 2016 conosce e sperimenta su di sé l’alimentazione Fruttariana: esperienza che lo colpisce profondamente in quanto trova così la risoluzione definitiva e inaspettata ai suoi problemi di salute che da sempre lo affliggevano (asma\, allergia\, costipazione\, cefalee\, insonnia e stanchezza cronica). \nTrova nel Fruttarismo non solo uno stato di salute vigoroso e indissolubile ma anche solidi princìpi di amore\, rispetto e compassione verso ogni forma di vita\, animale e vegetale. \nSi occupa anche di Sovranità Monetaria e Signoraggio Bancario\, comprendendo come il raggiungimento della libertà individuale sia imprescindibile da una rivoluzione alimentare e dallo sviluppo di sistemi economici e monetari alternativi. \n  \n\nShare on:
URL:https://associazionevegananimalista.it/event/dentosofia-correlazione-tra-denti-alimentazione-postura-cervello-e-sistema-immunitario/
CATEGORIES:Conferenze AVA 2019,Eventi AVA 2019
END:VEVENT
BEGIN:VEVENT
DTSTART;TZID=Europe/Rome:20190519T180000
DTEND;TZID=Europe/Rome:20190519T210000
DTSTAMP:20260424T010652
CREATED:20190507T151809Z
LAST-MODIFIED:20190519T080043Z
UID:3130-1558288800-1558299600@associazionevegananimalista.it
SUMMARY:Cucina vegana per l’estate - Corso base con Antonella Tomassini
DESCRIPTION:Cucina vegana per l’estate – Corso base con Antonella Tomassini\nDurante la stagione estiva è preferibile consumare alimenti freschi e leggeri\, ricchi di vitamine\, antiossidanti e sali minerali per affrontare il caldo ed essere in forma. \nScopo del corso è quello di preparare veloci e nutrienti ricette green realizzate con ingredienti naturali e di stagione.\nIl corso della durata di 3 ore (dalle 18:00 alle 21:00) sarà così articolato: \nBreve introduzione delle cucina vegana per l’estate e presentazione dei piatti. \n– Estratto di melone\, pera\, limone\n– Pesto raw di peperoni\n– Tabulè di zucchine e menta\n– Involtini di melanzane\, pomodorini e glassa di aceto balsamico\n– Insalata di fagiolini e patate alla curcuma\n– Cruditè di carote e frutta secca\n– Millefoglie con crema dolce di fragole e ceci \nA fine corso saranno degustate le pietanze preparate.\n————————-\nCosto corso: € 20\,00\nDispense omaggio \nPer info e prenotazioni : 339/4914120 \nNumero minimo partecipanti: 10\nSarà possibile prenotarsi entro le ore 15:00 del giorno 18/05/2019 \nAntonella Tomassini è esperta di cucina naturale e senza derivati animali\, food blogger\, veg chef\, collaboratrice dei magazine online ilvegano.it e vegamami.it\, autrice del libro Pianeta Vegan\, riflessioni e ricette per un mondo cruelty free\, edito da Mediterranee e Micio e i suoi a-mici\, un romanzo animalista\, il cui ricavato è devoluto in beneficienza all’ Associazione D.I.A.NA che si occupa della sterilizzazione e delle cure veterinarie dei randagini. \nAVA (Associazione Vegan Animalista)– Piazza Asti 5/A Roma 00182 \nEvento su Facebook : Cucina vegana per l’estate – Corso base con Antonella Tomassini \nShare on:
URL:https://associazionevegananimalista.it/event/cucina-vegana-per-lestate-corso-base-con-antonella-tomassini/
CATEGORIES:Conferenze AVA 2019,corsi di cucina vegan,Eventi AVA 2019
ATTACH;FMTTYPE=image/jpeg:https://associazionevegananimalista.it/wp-content/uploads/2019/05/anto.jpg
END:VEVENT
BEGIN:VEVENT
DTSTART;TZID=Europe/Rome:20190523T180000
DTEND;TZID=Europe/Rome:20190523T203000
DTSTAMP:20260424T010652
CREATED:20190407T143216Z
LAST-MODIFIED:20190520T084316Z
UID:2974-1558634400-1558643400@associazionevegananimalista.it
SUMMARY:Il vegetarismo nella religione induista
DESCRIPTION:SVAMINI HAMSANANDA GHIRI\nMonaca induista del Monastero Svami Gita- nanda Ashram di Altare e vice-presidente dell’Unione Induista Italiana\, è referente per l’Induismo presso il Comitato Interfedi della Città di Torino. \n  \nIl vegetarismo nella religione induista\nL’essere umano non è il centro\, ma è parte dell’universo e deve contribuire con la sua opera al mantenimento del Pianeta e di tutte le creature.\nÈ questo che insegnano i testi sacri dell’Induismo.\nGrazie a tutti per questo invito fatto per celebrare la diversità.\n\nL’induismo si basa sui Veda infatti dice che “Dio è uno\, ma che i saggi lo chiamano in modi diversi”.\n\nLa diversità fa parte della manifestazione\, ma tutti noi\, in modo diverso\, aneliamo all’unità.\n\nEcco perché è bello essere qui tutti insieme a celebrare la diversità.\n\nDovete sapere che una delle parole con le quali gli induisti si definiscono non è indù\, ma SanathanaDharma\, un termine che deriva da il sanscrito\, Dahrma\, che è ciò che nutre e sostiene l’universo.\n\nL’indù deve sentire questa relazione con tutti gli esseri\, questa interdipendenza.\n\nIl più alto grado del Dharma è la non violenza\, nel senso di non nuocere a tutte le creature e tutti gli elementi che compongono l’universo\, ma anche il nostro corpo\n\nDa qui derivano tutta una serie di leggi etiche.\n\nL’uomo non è il centro dell’universo\, l’uomo è il parte dell’universo e ha il dovere di sostenerlo.\n\nVive insieme al tutto.\n\nLa seconda legge è il dare\, non si può prendere se prima non si è dato.\n\nSe cogli una pianta\, devi piantarne altre due\n\n\nL’induismo è un’ortoprassi e non è vero che noi induisti siamo tutti vegetariani\, dipende dalla responsabilità personale che si ha nei confronti della vita. \nVi racconterò una storia.\n\nDio padre ha creato il giorno e la notte\, gli dei e i demoni\n\nUn giorno i figli tornano dal padre e lo accusano di essere ingiusto.\n\nAllora lui gli propone una sfida.\n\nLi mette di fronte a una tavola imbandita di ogni bene e gli dà una unica regola: “Per mangiare\, dovete utilizzare dei cucchiai lunghissimi che non permettono di piegare i gomiti”.\n\nI demoni non riescono a mangiare e hanno fame\, mentre gli dei trovano subito la soluzione: si imboccano l’uno con l’altro.\n\nQuesto per spiegare che la condivisione è fondamentale.\n\nLa condivisione del cibo che fa bene è la medicina a tutti i mali\, questo ci insegna l’ayurveda.\n\nA questo punto\, ne approfitto per chiedere ai Ministri dei governi di darci la possibilità di acquistare del cibo sano e alimenti di cui conosciamo la provenienza per poter essere\, con le nostre scelte\, il cambiamento che vogliamo.\n\n\n\nShare on:
URL:https://associazionevegananimalista.it/event/il-vegetarismo-nella-religione-induista/
CATEGORIES:Conferenze AVA 2019,Eventi AVA 2019
END:VEVENT
BEGIN:VEVENT
DTSTART;TZID=Europe/Rome:20190530T180000
DTEND;TZID=Europe/Rome:20190530T203000
DTSTAMP:20260424T010652
CREATED:20190407T144935Z
LAST-MODIFIED:20190524T080012Z
UID:2977-1559239200-1559248200@associazionevegananimalista.it
SUMMARY:Il digiuno felice: il segreto per essere più sani e più belli
DESCRIPTION:Dottor  Salvatore Simeone\,  Medicina Biologica Integrata\, Medicina Quantica \n  \nIl digiuno felice: il segreto per essere più sani e più belli\nLa medicina biologica è l’argomento trattato da Salvatore Simeone\, medico\, specializzato in medicina biologica e integrata\, agopuntore\, esperto di fama mondiale in digiunoterapia. \nIl dottor Simeone propone le cure biologiche\, tra le altre cose\, per rafforzare il sistema immunitario e detossificare l’organismo. \nE’ impegnato nella costante ricerca di una ‘Nuova Medicina’ olistica. \nPremessa \n\n\n‘I farmaci anti bios chiamati così\, antivita\, hanno ormai preso il sopravvento.\n\nAntibiotici\, antinfiammatori\, antipiretici\, anti nevralgici\, antipertensivi\, antidepressivi\, ansiolitici\, cortisonici\, gli immunosoppressori la fanno da padrone e fanno parte della\n\n\n\nquotidianità di miliardi di persone.\n\n\n\n\nEppure  l’infiammazione\, la febbre sono le fisiologiche reazioni che l’organismo innesca nel caso esista uno stato di acidosi metabolica provocata dall’accumulo di tossine\, cataboliti\, batteri\, virus\, eccetera.\n\nL’infiammazione è la cura più potente che l’organismo mette in atto contro tossine\, agenti patogeni\n\nMa allora perché bloccare questa cura naturale che il corpo mette in atto?…. per interesse\, su questo non ci piove.\n\nSe le persone sapessero che l’infiammazione è la cura biologicamente opportuna che il corpo mette in atto crollerebbe tutto il sistema delle lobbies farmaceutiche.\n\nEcco l’industria farmaco è questo\, l’industria farmaceutica non crea cure ma crea clienti’\n\n\n\nLa medicina biologica\n\n\n\n‘Il termine medicina biologica è stato coniato negli anni novanta per sostituire termini un po’ inadeguati come possono essere medicina alternativa\, dolce\, naturale o anche complementare (dolce è la peggiore perché fa venire il diabete\, ahahaha).\n\nAltri termini utilizzati per caratterizzare la medicina alternativa sono olistica e non convenzionale ma anche questi non rispondono appieno.\n\nC’è l’esigenza di una nuova semantica in linea con nuovo paradigma delle scienze…\n\n‘Medicina non convenzionale anche se non mi piace\, se avesse questo significato.\n\nMi piacerebbe se medicina non convenzionale significasse non conformato alla convenzione cioè non conformato a paradigmi standard.\nIl termine più rispondente secondo me è medicina biologica.\n\nBiologico significa conforme alla natura\, ossia conforme alle basi\, ai rapporti e alle connessioni delle leggi\n\n\n\nnaturali.\n\nScusate se è poco.\n\nLa medicina biologica considera i disturbi e le malattie reazioni dell’organismo necessarie e utili per riequilibrare lo stato di salute .\n\nL’obiettivo è  di curare sostenendo e ripristinando le capacità di guarigione proprie della persona rispettandone l’equilibrio e l’integrità.\n\nOgni sintomo patologico è considerato come un segnale d’allarme necessario per comprendere le reali cause della malattia.\n\nLe cause della malattia sono sempre associate a componenti non solo fisiche ma anche psicologiche  e ambientali\n\n\nLa medicina biologica è una scienza medica che in fase di diagnosi e di terapia si focalizza sulle funzioni vitali e attuali interventi curativi in sintonia con le capacità naturali di rigenerazione adattamento e autoguarigione dell’organismo.\n\nIl criterio principe è la salvaguardia dell’integrità della persona\, avvalendosi e inserendosi nel campo dell’ecologia\, della biologia molecolare\, della fisica quantistica.\n\nLa medicina biologica cerca di individuare le leggi della vita\,  non per opporvisi ma per assecondare la diagnosi\nInfatti molto spesso pur sottoponendosi a tutti gli esami convenzionali non si riescono a capire le vere cause di moltissime patologie con il rischio di effettuare a volte diagnosi superficiali tipo stress\, virus eccetera.\n\nCiò succede quando i sintomi sono di tipo funzionale cioè non hanno ancora alla base un’alterazione della struttura organica ma una debolezza funzionale che non si riesce a evidenziare con gli esami clinici di routine.\n\nStatisticamente ciò accade nel 60 circa per cento dei casi.\n\nShare on:
URL:https://associazionevegananimalista.it/event/il-digiuno-felice-il-segreto-per-essere-piu-sani-e-piu-belli/
CATEGORIES:Conferenze AVA 2019,Eventi AVA 2019
END:VEVENT
END:VCALENDAR