BEGIN:VCALENDAR
VERSION:2.0
PRODID:-//AVA - ECPv6.15.20//NONSGML v1.0//EN
CALSCALE:GREGORIAN
METHOD:PUBLISH
X-WR-CALNAME:AVA
X-ORIGINAL-URL:https://associazionevegananimalista.it
X-WR-CALDESC:Eventi per AVA
REFRESH-INTERVAL;VALUE=DURATION:PT1H
X-Robots-Tag:noindex
X-PUBLISHED-TTL:PT1H
BEGIN:VTIMEZONE
TZID:Europe/Rome
BEGIN:DAYLIGHT
TZOFFSETFROM:+0100
TZOFFSETTO:+0200
TZNAME:CEST
DTSTART:20180325T010000
END:DAYLIGHT
BEGIN:STANDARD
TZOFFSETFROM:+0200
TZOFFSETTO:+0100
TZNAME:CET
DTSTART:20181028T010000
END:STANDARD
BEGIN:DAYLIGHT
TZOFFSETFROM:+0100
TZOFFSETTO:+0200
TZNAME:CEST
DTSTART:20190331T010000
END:DAYLIGHT
BEGIN:STANDARD
TZOFFSETFROM:+0200
TZOFFSETTO:+0100
TZNAME:CET
DTSTART:20191027T010000
END:STANDARD
BEGIN:DAYLIGHT
TZOFFSETFROM:+0100
TZOFFSETTO:+0200
TZNAME:CEST
DTSTART:20200329T010000
END:DAYLIGHT
BEGIN:STANDARD
TZOFFSETFROM:+0200
TZOFFSETTO:+0100
TZNAME:CET
DTSTART:20201025T010000
END:STANDARD
BEGIN:DAYLIGHT
TZOFFSETFROM:+0100
TZOFFSETTO:+0200
TZNAME:CEST
DTSTART:20210328T010000
END:DAYLIGHT
BEGIN:STANDARD
TZOFFSETFROM:+0200
TZOFFSETTO:+0100
TZNAME:CET
DTSTART:20211031T010000
END:STANDARD
END:VTIMEZONE
BEGIN:VEVENT
DTSTART;TZID=Europe/Rome:20191205T180000
DTEND;TZID=Europe/Rome:20191205T200000
DTSTAMP:20260423T142937
CREATED:20191111T135936Z
LAST-MODIFIED:20191204T105134Z
UID:3758-1575568800-1575576000@associazionevegananimalista.it
SUMMARY:Gli scopi ed i principi fondamentali del Movimento Universalista/Vegan
DESCRIPTION:Al di sopra di ogni fazione l’Universalismo cerca la sintonia tra le parti nel rispetto dell’altrui persona e pensiero.\nMa affinché ciò possa avvenire è necessario che ognuno sia individualmente portatore e testimone di armonia\, di giustizia\, di onestà\, di altruismo\, di buona volontà\, di mitezza\, di tolleranza\, di amor proprio\, di dignità umana. \n(Franco Libero Manco) \nLeggi condividi e diffondi: PROGETTO PACE NEL MONDO – EDUCARE L’UMANITA’ ALLA PACE di Franco Libero Manco \nVisita il nostro sito Associazione Vegan Animalista \nMetti “Mi piace” sulla pagina Facebook del presidente Franco Libero Manco \nMetti “Mi piace” sulla nostra pagina Facebook AVA Associazione Vegan Animalista \nIscriviti alla nostra Newsletter \nVisiona iscriviti e condividi le nostre videoconferenze dal nostro canale Youtube \n Iscriviti ai nostri gruppi su Facebook: \nAVA Associazione Vegan Animalista \nSupporta Agripunk e tutti i Rifugi di Animali Liberi \n  \nGli scopi ed i principi fondamentali del Movimento Universalista/Vegan\nSede AVA 5 dicembre 2019 dalle ore 18 alle 20 \n  \nRelatore Dottor. Franco Libero Manco\, presidente AVA \nEduca l’uomo alla compassione e abolirai le guerre\nNoi che guardiamo con stupore la bellezza dell’alga\, della balena\, dell’elefante\, del moscerino\, dell’orchidea\, dell’ortica\, abbiamo una missione da compiere: quella di dare il nostro contributo per rendere migliore questo mondo\, di rendere l’essere umano più giusto e sensibile\, consapevole delle possibilità riposte nella sua anima. \nMa “Non si accende una lampada per metterla sotto il moggio”. \nNoi non chiediamo una povertà più dignitosa\, ma la sua totale abolizione; non chiediamo guerre meno cruenti\, ma la loro cancellazione dalla storia futura; non chiediamo giustizia per gli uomini\, ma per tutte le creature in grado di soffrire; non chiediamo gabbie più grandi per gli animali\, più pulite\, ma che siano considerate una vergogna del passato; non chiediamo la regolamentazione della caccia o della pesca\, ma la loro totale eliminazione; non chiediamo la riduzione del consumo della carne ma la demolizione fino alle fondamenta dei mattatoi; noi non chiediamo la chiusura degli stabulari dei vivisettori\, ma la loro irrevocabile e perenne chiusura. \nNoi amiamo la Vita\,\ndi un amore struggente ed inestinguibile\, percepiamo il dolore e il dramma di ogni vittima innocente e ognuno di noi\, muore mille volte al giorno al pensiero della lama che inesorabile spegne per sempre l’anelante desiderio di esistere di un vitello\, un agnello\, un coniglio…; per questo non è nella nostra natura essere tiepidi\, assolvere coloro che considerano gli animali oggetti ad uso e consumo dell’uomo: sarebbe come chiedere agli antischiavisti di non colpevolizzare coloro che fustigavano e uccidevano gli schiavi\, o alle vittime dei campi di sterminio di non colpevolizzare i loro carnefici. \nNoi siamo la voce di coloro che non possono difendersi:\nchiederci di non gridare il nostro disappunto è come chiedere ad una madre di non urlare mentre suo figlio viene colpito. Noi non differenziamo gioia e dolore\, vita e morte\, crimini e delitti; non adottiamo due pesi e due misure (questa è la nostra forza e la nostra grandezza morale): per noi un’azione criminosa resta tale chiunque sia la vittima. \nNon giudichiamo\, sarà la Vita a farlo per noi\, ma la nostra coscienza ci impone di affermare che uccidere un animale è fratricidio.\nSiamo considerati estremisti\, \nesagerati e certo lo siamo: per noi uccidere uno o centomila è la stessa cosa perché il valore della vita non è inversamente proporzionale al numero dei suoi componenti; per noi la violenza e l’ingiustizia non è più o meno grave a seconda della vittima; per noi quando viene ucciso un cavallo\, un uccello o un abete è parte di noi che viene uccisa. \nProcedere con calma senza infastidire i macellatori di animali ed i guerrafondai? \nNon è nella nostra visione delle cose. Ma chiedere tutto e subito è follia. Occorre procedere per gradi dando alla gente il tempo di capire\, di informarsi\, di sensibilizzarsi\, perché l’ignoranza è madre di tutte le sventure e l’indifferenza verso chi soffre ha fatto di questo mondo un luogo di dolore. \nMolto dipende da noi\, dalla nostra volontà\, dalla passione e dall’amore con cui conduciamo questa luminosa missione. La nostra causa procederà inevitabilmente\, è nell’ordine evolutivo delle cose\, nonostante la deludente realtà che a volte anche i migliori\, dopo un primo entusiastico approccio\, dimenticano la causa e si eclissano per motivi forse non sempre sono giustificabili. \nUtopia era considerare\, al tempo dei romani\, \nl’abolizione dei combattimenti al Colosseo; era utopia pensare di scoprire nuove terre oltre le colonne d’Ercole; era considerare l’unificazione dell’Italia al tempo dei Borboni; era pensare di approdare sulla luna\, parlare e vedere in diretta l’immagine di qualcuno che si trova all’altro capo del pianeta. Ma un’utopia non si attua in un giorno: è sempre il frutto sofferto e maturato di un processo evoluivo. \nOgni filosofia\, ogni dottrina nasce da un seme gettato che col tempo diventa albero e dà i suoi frutti. \n  \nNon tutte le utopie sono destinate a diventare realtà: solo se nella loro essenza vive il seme per il bene di tutte le cose: così sarà l’utopia vegana. \nMa affinché le utopie diventino realtà c’è bisogno di gente folle\, disposta a credere realizzabile un progetto mai realizzato. \nIo sarò duro nel denunciare questa cultura di sfruttamento e di sistematico massacro dei più deboli\, \nquesta spaventosa indifferenza verso la sofferenza di miliardi di creature innocenti; so di essere nel giusto perché difendo la vita\, la civiltà\, il progresso morale\, civile e spirituale; non scenderò a compromessi con la mia coscienza\, non sarò edulcorato\, non celerò la verità dei fatti. \nParlerò con garbo\, gentilezza ma con determinazione\, informerò\, sensibilizzerò il cuore della gente\, sempre ed ovunque\, e sarò ascoltato.\n \nFranco Libero Manco\, nasce in Aradeo (Le) il 22.10.1948.\nNel 1968 vince una medaglia d’oro nei campionati sportivi delle forze armate.\nNel 1970 prende la maturità artistica in un istituto privato di Roma.\nL’11.12.1975 si laurea architettura presso l’università di Roma.\nDal 1993 è Dirigente Tecnico presso il Ministero dell’Interno; presso la stessa Amministrazione insegna disegno tecnico\, tecnica delle costruzioni e matematica ai corsi di perfezionamento del personale.\nNel 1975 diventa vegano per motivi etici.\nNel 1976 fonda il Movimento Cristiano Ecologico trasformatosi poi nel Movimento dell’Amore Universale i cui principi mirano ad ampliare la sfera del diritto al rispetto\, alla libertà e alla vita dall’uomo ad ogni essere senziente. \nFin dal 1977 s’impegna a favore del Terzo Mondo e per diversi anni è responsabile dell’Associazione Amici dei Lebbrosi della sezione romana. Contestualmente lotta contro la violenza\, l’aborto\, la tortura\, la pena di morte mettendo in atto alcune iniziative per l’unità spirituale dei popoli\, per il rinnovo della coscienza morale dei cittadini\, per la difesa degli animali e dell’ambiente\, per la diffusione della filosofia dell’Universalismo e dell’etica universale da inserire nei programmi didattici di ogni ordine e grado. Inoltre collabora attivamente con molte associazioni ecologiste ed animaliste.\nNel 2002 viene insignito\, dal presidente della Repubblica Ciampi e dal capo del governo Berlusconi\, il titolo onorifico di Cavaliere.\nDa molti anni tiene conferenze quindicinali nella sede dell’AVA in cui il tema dell’Universalismo e del vegetarismo viene affrontato in termini salutistici\, etici\, antropologici\, spirituali\, ecologici ecc. Ha partecipato ad alcuni programmi televisivi e radiofonici in tema di etica e scienza alimentare.\nNel 2004 ha organizzato in Campidoglio\, con il patrocinio del Comune di Roma\, un convegno sul tema: “Alimenti nocivi e sponsorizzazioni” coinvolgendo decine di relatori. Nel 2005 ha organizzato un secondo convegno dal titolo “I 7 problemi più gravi del mondo correlati al consumo della carne”. Di questo convegno come del precedente si sono interessate alcune televisioni e testate giornalistiche.\nNel 2003\,con l’adesione di molte associazioni ambientaliste\, animaliste e vegetariane e con il patrocinio del IX Municipio\, ha organizzato a Roma\, nei giardini di piazza re di Roma\, la 1^ festa nazionale dei vegetariani\, riscuotendo interesse e partecipazione da parte del pubblico. Nel 2004 ha organizzato la 2^ festa nazionale dei vegetariani\, madrina della quale è stata la Principessa Barbara Massimo. Nel 2005 ha organizzato la 3^ festa nazionale dei vegetariani\, madrina di quest’ultima festa è stata l’on. Monica Cirinnà. Di questi eventi ne hanno dato notizia i giornali.\nAttualmente è presidente del Movimento dell’Amore Universale\, dell’Associazione Vegetariana Animalista e del Forum Vegetariano.\nComplessivamente ha stampato e pubblicato dieci testi a carattere etico\, spirituale\, filosofico\, poetico\, antropologico: L’uomo essenziale; Il cuore e l’anima\, Crisalide\, Il terzo polo\, Pensieri e massime\, Lotta all’antropocentrismo\, Innamorato di Dio\, Fiori stellari\, Il grande enigma\, Biocentrismo\, l’alba della nuova civiltà umana. Giornali e riviste nel corso degli anni hanno pubblicato migliaia di suoi articoli a carattere etico\, salutistico e antropologico. \nShare on:
URL:https://associazionevegananimalista.it/event/gli-scopi-ed-i-principi-fondamentali-del-movimento-universalista-vegan/
CATEGORIES:Conferenze AVA 2019,Eventi AVA 2019
ATTACH;FMTTYPE=image/jpeg:https://associazionevegananimalista.it/wp-content/uploads/2019/11/etica.jpg
END:VEVENT
BEGIN:VEVENT
DTSTART;TZID=Europe/Rome:20191215T160000
DTEND;TZID=Europe/Rome:20191215T190000
DTSTAMP:20260423T142937
CREATED:20191211T173732Z
LAST-MODIFIED:20191212T110903Z
UID:4195-1576425600-1576436400@associazionevegananimalista.it
SUMMARY:Incontro del Circolo degli Amici di Bruno Gröning per l’assorbimento di forza spirituale
DESCRIPTION:“Questo mio insegnamento è una saggezza di vita con la quale già molti miei amici vivono ottenendo successi. Applicando questo insegnamento si sono verificati profondi cambiamenti\, che spesso hanno portato ad una guarigione.” \nIncontro del Circolo degli Amici di Bruno Gröning per l’assorbimento di forza spirituale\n “Nel pomeriggio di Domenica 15 Dicembre incontro trisettimanale del Circolo degli Amici di Bruno Gröning per l’assorbimento di forza spirituale. L’ingresso è gratuito\, ma per i non introdotti che vogliano sapere di che si tratti l’orario d’ingresso deve essere concordato telefonando al numero 333 3 279 314. E alla fine\, a ingresso libero anche senza telefonata\, lezione di canto dalle 19 alle 20.” \nL’insegnamento di Bruno Gröning\nAiuto e guarigione per via spirituale\n \nL’insegnamento di Bruno Gröning si basa sull’effetto delle energie spirituali sull’uomo. L’influsso di questa forza è più grande di quanto si possa comunemente credere. \nL’uomo come “batteria” – per adempiere ai suoi compiti\, deve accumulare sempre nuova energia\nBruno Gröning paragona l’essere umano ad una batteria. Nella vita quotidiana tutti consumiamo dell’energia\, ma spesso questa energia vitale non viene recuperata a sufficienza. Così come una batteria scarica non può funzionare\, così un corpo spossato non è in grado di adempiere a suoi compiti. Spossatezza\, nervosismo\, paure esistenziali e non da ultimo le malattie\, ne sono le conseguenze. \nBruno Gröning spiegava come ogni individuo possa accumulare nuove energie. La condizione preliminare indispensabile per raggiungere questo obiettivo è la fede nel bene e la volontà di riottonere la salute. L’uomo è circondato ovunque da onde benefiche e non deve fare altro che recepirle. Secondo Bruno Gröning non esistono malattie inguaribili\, cosa peraltro ampiamente confermata dalle testimonianze di successo esaminate dai medici. Le guarigioni avvengono per via spirituale e non sono legate alla persona fisica di Bruno Gröning. \nCome l’uomo può accogliere al meglio lo Heilstrom\nAllo scopo di recepire questa corrente guaritrice ci si siede a mani aperte senza accavallare le gambe e senza tenere le braccia conserte per non ostacolare il flusso dell’energia. Pensare a qualche cosa di bello è di grande aiuto\, mentre rivolgere i pensieri alla malattia e alle preoccupazioni crea degli ostacoli. \nQuando l’energia guaritrice fluisce nel corpo\, tocca gli organi ammalati\, allora comincia il lavoro di purificazione. È possibile allora che si avvertano dei dolori\, segni della purificazione del corpo. Non essendo la malattia\, nella sua sostanza\, voluta da Dio\, sarà eliminata. In alcuni casi questo avviene anche spontaneamente. Importante è lo staccarsi dai pensieri di malattia e credere che per Dio non esiste niente d’inguaribile. \nPer mantenersi in buona salute gli amici di Bruno Gröning si sintonizzano giornalmente per ricevere la corrente guaritrice (fanno “Einstellen”). Il corpo sano crea la base per una vita in armonia con se stesso\, con il prossimo e con la natura. \nBruno Gröning fornisce agli uomini un insegnamento\nLo scopo dell’insegnamento di Bruno Gröning è di trasformare ogni uomo in una persona felice\, libera da preoccupazioni fisiche e spirituali. \nA questo proposito Bruno Gröning dice testualmente: “Questo mio insegnamento è una saggezza di vita con la quale già molti miei amici vivono ottenendo successi. Applicando questo insegnamento si sono verificati profondi cambiamenti\, che spesso hanno portato ad una guarigione.” \nBruno Gröning aspirava soltanto ad aiutare i sofferenti. Egli dava loro il suo insegnamento che non era intellettuale\, bensì un’intuitiva percezione delle leggi spirituali. Chi si avvicina a questo insegnamento\, riconoscerà in esso una complessità inattesa che va ben oltre la guarigione poiché l’uomo non guarisce solo il proprio corpo ma anche la propria anima. Egli richiamava gli uomini a credere al bene e a metterlo in pratica. \nShare on:
URL:https://associazionevegananimalista.it/event/incontro-del-circolo-degli-amici-di-bruno-groning-per-lassorbimento-di-forza-spirituale/
CATEGORIES:Eventi AVA 2019
ATTACH;FMTTYPE=image/jpeg:https://associazionevegananimalista.it/wp-content/uploads/2019/12/gering-scaled.jpg
END:VEVENT
BEGIN:VEVENT
DTSTART;TZID=Europe/Rome:20191231T203000
DTEND;TZID=Europe/Rome:20200101T020000
DTSTAMP:20260423T142937
CREATED:20191217T135635Z
LAST-MODIFIED:20191218T114309Z
UID:4228-1577824200-1577844000@associazionevegananimalista.it
SUMMARY:FESTA DI CAPODANNO 2020 IN SEDE AVA!
DESCRIPTION:“La semplicità è delle anime grandi\, di chi è in pace con se stesso\, si conosce e si mostra per quello che è. La semplicità è il linguaggio con cui un cuore parla a un altro cuore.” \n(Antonio Curnetta) \nFESTA DI CAPODANNO 2020 IN SEDE AVA!\nGiochi di società con premi\, brindisi a mezzanotte musica dal vivo e ballo dalle ore 20\,30 alle ore 2 dopo mezzanotte. \n  \nSpunti tratti del libro di Mahatma Gandhi \nGUIDA ALLA SALUTE\n La nostra salute fisica e morale dipende dal conoscere e mettere in pratica le leggi della natura\, della semplicità della vita\, della sobrietà: il malessere o il benessere di un individuo derivano da lui stesso. \nI medici troppo spesso cedono alla tentazione a scrivere una ricetta invece che insegnare ai loro pazienti a disciplinare meglio le abitudini della loro vita.\nAlcune medicine sono inutili\, altre sicuramente dannose. Un malato che ingurgita dei medicinali è come chi vuole pulire casa coprendo il sudiciume. Le malattie non sono altro che un ammonimento della natura che ci avverte delle immondizie accumulate in questa o quella parte del corpo. Prendendo delle medicine si intralcia l’opera purificatrice della natura. \nQuando accogliamo in casa una medicina questa ne tira dietro molte altre.\nIl Dr. Baker e il Dr. Frank dicono che gli uomini uccisi dalla medicine sono maggiori di quelli morti per malattia. E il Dr. Masongood arriva perfino a dire che i medicinali hanno fatto più vittime che la guerra\, la carestia e la pestilenze unite insieme. \nE’ pure provato che le malattie aumentino in proporzione all’aumento del  numero dei medici.\nCorpo e spirito sono così intimamente legati tra loro che se uno patisce ne soffre tutto l’organismo. I pensieri cattivi e le male passioni non sono che varie forme di malattia. Se noi non siamo veramente sani è perché prima di noi non lo sono stati nemmeno i nostri genitori. \nLa cottura distrugge gli elementi più vitali dei cibi; gli alimenti che non si possono mangiare crudi  non erano destinati dalla natura a nutrirci. \nLa migliore dieta è quella della frutta è dopo quella vegetale\, come ortaggi e cereali.\nOso considerare il latte come uno dei cibi da escludere. L’idea popolare del valore del latte è non altro che pura superstizione. Tra l’altro la purezza del latte dipende dal foraggio di cui si nutre la mucca e dalle sue condizioni di salute. Tutti sanno che i bambini lattanti prendono con grande facilità i mali di cui soffre la madre; anzi quando un bambino è malato si usa dare alla madre una medicina alla madre perché agisca sul bambino attraverso il latte. L’uomo che beve latte di mucca avrà dunque la salute della stessa mucca. Anche il mangiar zucchero è una follia. Abbiamo fatto del nostro stomaco una latrina\, che portiamo in giro con noi. \nIn merito alla sessualità.\nMa la cosa veramente necessaria\, al di sopra di tutte le altre è vivere la castità. La forza segreta generatrice di vita che Dio ci ha concesso dobbiamo serbarla gelosamente\, con la più rigida disciplina\, trasformarla in energia\, potenza\, non solo del corpo ma dello spirito e dell’anima nostra. Questo male incurabile indebolisce la mente e ci conduce a morte prematura. Non solo i rapporti sessuali non sono necessari a mantenere la salute ma che anzi la danneggiano decisamente. Finché ci sarà l’adulterio e la prostituzione non v’è speranza alcuna per la razza umana. I godimenti del sesso sono l’origine di tutti i mali. Chi domina i propri sensi ha realmente dominato il mondo intero\, è giunto a far parte di Dio. \n In merito alla sperimentazione animale.\nAffaticandosi a liberare l’organismo umano dai mali che l’affliggono ha calpestato tutti i diritti degli animali. Così l’uomo\, invece di farsi signore e protettore degli altri esseri creati è divenuto il loro tiranno è la scienza medica è diventata il più feroce strumento di questa tirannide. \nLa vivisezione è\, a parer mio\, il più nero di tutti i neri delitti di cui l’uomo si rende colpevole verso Dio e verso la sua creazione meravigliosa. E’ assai meglio rinunciare alla vita piuttosto che conquistarla col martirio di creature che sentono e soffrono come noi. Come osiamo invocare ogni giorno nelle nostre preci il Dio di Misericordia mentre chiudiamo il cuore ai più elementari sentimenti di pietà verso le altre creature? Dobbiamo educare il popolo a trattare gli animali umanamente. \n \nCaro Babbo Natale\, sono stato un maialino bravissimo lo giuro e vorrei tanto chiederti un regalo. Mi piacerebbe tantissimo rivedere la mia mamma\, i signori dell’allevamento non vogliono ma forse se glielo chiedi tu mi lasciano rivederla.\nVorrei tantissimissimo passare con lei almeno il giorno di Natale\, così potrei baciarla e farmi fare tante coccole e magari potrebbe sentirsi meno triste e sola e forse anche io potrei essere felice. \nSai lei vive tutto il tempo in una gabbia piccolissima perché i signori dell’allevamento non vogliono che si muove. Io ho pochi ricordi di mia mamma perché mi hanno portato via da lei quando ero piccolissimo ma mi ricordo che piangeva e che mi diceva che mi voleva tanto bene e che non dovevo avere paura. Mi diceva anche che dovevo tapparmi le orecchie quando i miei amici venivano portati nel tunnel. Mia mamma mi aveva spiegato che non dovevo sentire i miei amici che piangevano e urlavano altrimenti non sarei più riuscito a fare i sogni che mi piacciono tanto. \nSai Babbo Natale se posso chiedere anche un altro regalo\, mi piacerebbe moltissimo vedere un giardino. I maialini più grandi mi hanno detto che esistono tanti giardini fuori dalle pareti di cemento\, mi hanno raccontato che ci sono gli alberi e che si può sentire il vento che ti abbraccia e ti accarezza! Capisci Babbo Natale il vento! Chissà cosa si prova a sentire questo vento! E poi mi hanno detto che c’è anche una cosa che chiamano sole e che vola in cielo e che ti scalda ma io a questa cosa però non ci credo\, secondo me solo tu puoi volare Babbo Natale!\nI miei amici mi hanno detto che i giardini fuori dall’allevamento sono grandi e puliti. Io mi vergogno a raccontartelo ma io cammino e dormo sempre sulla mia cacca\, io provo tanto a non toccarla ma il mio recinto è troppo piccolo e non riesco! Per favore non dirlo a nessuno però\, anche se non sono pulito sono buono te lo giuro Babbo Natale! \nPensa che cosa strana è successa… ieri è entrato in allevamento un maiale strano che aveva il pelo lungo e il muso buffo e la coda lunghissima ma proprio lunghissima. Non capisco come mai\, forse i signori dell’allevamento si sono dimenticati di tagliarla\, strano però a noi lo fanno quando siamo ancora piccoli. Ci tagliano la coda\, le cosine che abbiamo sotto la coda e anche i denti. Mamma mia Babbo Natale non sai quanto fanno male i denti\, mi tremano le zampe solo a ricordare.\nI miei amici hanno detto però che non era un maiale ma era un cane e che lui può andare nei giardini tutte le volte che vuole. Pensa che lui può vivere in casa con i signori dell’allevamento e loro gli fanno perfino le coccole e gli hanno dato perfino un nome! Ci credi Babbo Natale? Un nome! Che fortuna che ha quel maiale-cane\, mi piacerebbe tanto essere come lui\, chissà quanto deve essere bello avere qualcuno che ti fa le coccole e che ti chiama per nome. Deve essere proprio fantastico essere un maiale-cane. \nBabbo Natale ora ti lascio perché so che hai le letterine di tanti cuccioli da leggere\, spero tanto che tu riesci a farmi questi regali. Se puoi farmi uno solo allora lascia stare il giardino ma per piacere\, per piacere Babbo Natale fammi rivedere la mia mamma. \nFirmato: un maialino \n——————————– \nMolti maialini nel mondo soffrono ogni minuto della loro triste vita a causa di chi acquista prodotti di origine animale. Le persone fanno finta di non vedere cosa accade a questi animali indifesi e di non sapere che in realtà i maiali sono dolci e più intelligenti di cani e gatti. Ma la verità è che se loro non acquistassero quei “prodotti” non ci sarebbe nessuna azienda a commercializzarli\, quindi nessun allevamento a sfruttarli e nessun macello ad ucciderli. \nQuello che le persone non sanno è che per non recare più sofferenza agli animali non è necessario rinunciare ai sapori ai quali siamo abituati\, perché le alternative VEG sono moltissime\, sono gustose\, sono economiche e sono sane. \nSalvare un animale non cambierà il mondo\, ma per quell’animale il mondo cambierà per sempre. \nGiustizia Animalista\n  \nShare on:
URL:https://associazionevegananimalista.it/event/festa-di-capodanno-2020-in-sede-ava/
CATEGORIES:Eventi AVA 2019
ATTACH;FMTTYPE=image/jpeg:https://associazionevegananimalista.it/wp-content/uploads/2019/12/IMG-20191215-WA0040.jpg
END:VEVENT
END:VCALENDAR