BEGIN:VCALENDAR
VERSION:2.0
PRODID:-//AVA - ECPv6.15.20//NONSGML v1.0//EN
CALSCALE:GREGORIAN
METHOD:PUBLISH
X-WR-CALNAME:AVA
X-ORIGINAL-URL:https://associazionevegananimalista.it
X-WR-CALDESC:Eventi per AVA
REFRESH-INTERVAL;VALUE=DURATION:PT1H
X-Robots-Tag:noindex
X-PUBLISHED-TTL:PT1H
BEGIN:VTIMEZONE
TZID:Europe/Rome
BEGIN:DAYLIGHT
TZOFFSETFROM:+0100
TZOFFSETTO:+0200
TZNAME:CEST
DTSTART:20190331T010000
END:DAYLIGHT
BEGIN:STANDARD
TZOFFSETFROM:+0200
TZOFFSETTO:+0100
TZNAME:CET
DTSTART:20191027T010000
END:STANDARD
BEGIN:DAYLIGHT
TZOFFSETFROM:+0100
TZOFFSETTO:+0200
TZNAME:CEST
DTSTART:20200329T010000
END:DAYLIGHT
BEGIN:STANDARD
TZOFFSETFROM:+0200
TZOFFSETTO:+0100
TZNAME:CET
DTSTART:20201025T010000
END:STANDARD
BEGIN:DAYLIGHT
TZOFFSETFROM:+0100
TZOFFSETTO:+0200
TZNAME:CEST
DTSTART:20210328T010000
END:DAYLIGHT
BEGIN:STANDARD
TZOFFSETFROM:+0200
TZOFFSETTO:+0100
TZNAME:CET
DTSTART:20211031T010000
END:STANDARD
END:VTIMEZONE
BEGIN:VEVENT
DTSTART;TZID=Europe/Rome:20200924T180000
DTEND;TZID=Europe/Rome:20200924T200000
DTSTAMP:20260423T002028
CREATED:20200921T205059Z
LAST-MODIFIED:20200921T205059Z
UID:5364-1600970400-1600977600@associazionevegananimalista.it
SUMMARY:FRAMMENTAZIONE DEL MOVIMENTO ANIMALISTA  E LEGGI A TUTELA DEGLI ANIMALI
DESCRIPTION:“È più importante impedire la sofferenza degli animali piuttosto che sedere a contemplare i mali dell’universo pregando in compagnia dei maestri” (Buddha) \n\nIl Nostro Canto Libero\n\nFRAMMENTAZIONE DEL MOVIMENTO ANIMALISTA E LEGGI A TUTELA DEGLI ANIMALI\nConferenza del 24 settembre ore 18\,00\nRelatrice \nDr.ssa Carla Rocchi\, Antropologa\, ex Senatrice Verdi\, presidente ENPA \n \nL’Ente Nazionale Protezione Animali (E.N.P.A.) è la più antica e importante associazione protezionistica d’Italia. Fondata da Giuseppe Garibaldi nel 1871\, l’E.N.P.A. svolge oggi la sua attività in tutti i settori per la tutela\, il benessere e la protezione degli animali. Fino al 1979 l’E.N.P.A. è stato un “ente morale di diritto pubblico” sotto il controllo del Ministero degli Interni\, diretta emanazione dello Stato. Ente morale di diritto privato dal 1979\, apartitica\, senza fini di lucro\, l’E.N.P.A. è una ONLUS che non riceve finanziamenti governativi. Opera solo grazie all’aiuto di chi condivide le sue finalità. L’ente è organizzato in coordinamenti regionali e in sezioni. Attualmente le sezioni sono circa 160.\n\nL’Ente è riconosciuto dal Ministero dell’Ambiente italiano quale associazione nazionale di protezione ambientale ed è componente dei seguenti organismi:\n– Ministero dell’Agricoltura: Comitato Tecnico Faunistico Venatorio Nazionale\n– Ministero per i Beni Culturali: Commissione di Revisione Cinematografica\n– Ministero della Salute: Commissione Randagismo e Task Force Influenza Aviaria \n\nAttività istituzionale\nL’Ente realizza periodiche assemblee ed incontri\, sia istituzionali che di informazione interna rivolti ad associati e dirigenti periferici; una volta all’anno viene inoltre svolto un seminario di aggiornamento sulle tematiche proprie destinato ai responsabili locali\, al fine di aggiornarli sulle principali tematiche operative o amministrative.\nL’attività istituzionale ed informativa\, in sede locale assume spesso la caratteristica di attività formativa ed informativa rivolta ai volontari che operano in seno all’ente. \nAttività di gestione  \nL’Ente possiede sull’intero territorio nazionale numerose proprie strutture di ricovero per animali\, attraverso le quali realizza gli scopi sociali di garantirne il benessere e sottrarli al rischio di maltrattamenti\, promuovendone l’affidamento a privati oppure curando il recupero degli stessi sotto il profilo medico o psicologico.\nIn alcuni casi\, le strutture dell’Ente sono destinate al ricovero di animali selvatici oppure allo svolgimento di particolari servizi\, come ad esempio di pronto soccorso di animali randagi feriti o malati\, o il trasporto di animali\, tramite mezzi appositamente attrezzati. In alcuni casi\, infine\, l’Ente ha strutture attrezzate di cura e terapia per animali\, nelle quali operano medici veterinari convenzionati\, che offrono un servizio sia ai soci sia alla generalità dei cittadini.\nAttività convenzionate ex Legge 281/91 e relative leggi regionali \nLa Legge 281/91 e le successive e correlate leggi regionali hanno previsto l’affidamento alla associazione della gestione delle strutture pubbliche (di norma comunali) destinate al ricovero per animali (canili). L’Ente ha pertanto stipulato ed è attualmente titolare in convenzione di numerose attività di conduzione di strutture pubbliche destinate al ricovero per animali\, riconducibili ad un rilevante numero di Enti locali. \nAttività di vigilanza\n\nAttraverso le proprie Guardie Zoofile volontarie l’Ente opera\, in collaborazione con gli organismi di pubblica sicurezza\, per la vigilanza nei casi di sevizie e maltrattamenti nei confronti di animali e per reprimere le attività malavitose legate ad un utilizzo illegale dei medesimi.\nShare on:
URL:https://associazionevegananimalista.it/event/frammentazione-del-movimento-animalista-e-leggi-a-tutela-degli-animali/
CATEGORIES:Eventi AVA 2020
ATTACH;FMTTYPE=image/jpeg:https://associazionevegananimalista.it/wp-content/uploads/2020/09/aaaaaenpa.jpg
END:VEVENT
END:VCALENDAR