BEGIN:VCALENDAR
VERSION:2.0
PRODID:-//AVA - ECPv6.15.20//NONSGML v1.0//EN
CALSCALE:GREGORIAN
METHOD:PUBLISH
X-WR-CALNAME:AVA
X-ORIGINAL-URL:https://associazionevegananimalista.it
X-WR-CALDESC:Eventi per AVA
REFRESH-INTERVAL;VALUE=DURATION:PT1H
X-Robots-Tag:noindex
X-PUBLISHED-TTL:PT1H
BEGIN:VTIMEZONE
TZID:Europe/Rome
BEGIN:DAYLIGHT
TZOFFSETFROM:+0100
TZOFFSETTO:+0200
TZNAME:CEST
DTSTART:20190331T010000
END:DAYLIGHT
BEGIN:STANDARD
TZOFFSETFROM:+0200
TZOFFSETTO:+0100
TZNAME:CET
DTSTART:20191027T010000
END:STANDARD
BEGIN:DAYLIGHT
TZOFFSETFROM:+0100
TZOFFSETTO:+0200
TZNAME:CEST
DTSTART:20200329T010000
END:DAYLIGHT
BEGIN:STANDARD
TZOFFSETFROM:+0200
TZOFFSETTO:+0100
TZNAME:CET
DTSTART:20201025T010000
END:STANDARD
BEGIN:DAYLIGHT
TZOFFSETFROM:+0100
TZOFFSETTO:+0200
TZNAME:CEST
DTSTART:20210328T010000
END:DAYLIGHT
BEGIN:STANDARD
TZOFFSETFROM:+0200
TZOFFSETTO:+0100
TZNAME:CET
DTSTART:20211031T010000
END:STANDARD
END:VTIMEZONE
BEGIN:VEVENT
DTSTART;TZID=Europe/Rome:20201105T180000
DTEND;TZID=Europe/Rome:20201105T200000
DTSTAMP:20260422T211330
CREATED:20201102T174852Z
LAST-MODIFIED:20201102T174853Z
UID:5505-1604599200-1604606400@associazionevegananimalista.it
SUMMARY:COVID-19\, CAMBIAMENTO CLIMATICO E IMPATTO SULLE DIFESE IMMUNITARIE
DESCRIPTION:Come potrebbero due esseri capirsi senza quella speciale comunicazione di silenzi?\n\n\n-Kahlil Gibran –\n(Foto: Pavona e pavoncino by @wild_myth)\n\nLeggi condividi e diffondi: PROGETTO PACE NEL MONDO – EDUCARE L’UMANITA’ ALLA PACE di Franco Libero Manco \nVisita il nostro sito Associazione Vegan Animalista \nMetti “Mi piace” sulla pagina Facebook del presidente Franco Libero Manco \nMetti “Mi piace” sulla nostra pagina Facebook AVA Associazione Vegan Animalista \nVieni a trovarci presso la nostra sede di Roma in Piazza Asti\, 5/A  \nVisiona iscriviti e condividi le nostre videoconferenze dal nostro canale Youtube \n Iscriviti ai nostri gruppi su Facebook: \nAVA Associazione Vegan Animalista \nSupporta Agripunk e tutti i Rifugi di Animali Liberi \nCOVID-19\, CAMBIAMENTO CLIMATICO E IMPATTO SULLE DIFESE IMMUNITARIE\nConferenza del 5 novembre ore 18\,00\nDottor ROBERTO FAVATA membro e coordinatore del Comitato Scientifico  AssoVegan \nIl Relatore risponderà alle domande del pubblico \nLA CONFERENZA SI SVOLGERA’ SECONDO LE PRESCRISIONI PREVISTE PER LEGGE \n————————- \nI GIOVEDI’ CULTURALI DELL’AVA\nAssociazione Vegan Animalista APS \nLe conferenze si tengono dalle ore 18\,00 in piazza Asti 5/a Roma \n(Metro Re di Roma\, uscita Vercelli\, trenino staz.ne Tuscolana o bus 85-81-16) \n—————————————— \nLA FARSA DELLA DIETA MEDITERRANEA\ndi Franco Libero Manco \nNon v’è nutrizionista che in televisione non esalti e raccomandi l’adozione della dieta mediterranea universalmente riconosciuta come la più adatta a conservare la salute\, alla quale però (a dir loro) occorre aggiungere la carne almeno due volte a settimana\, altrettanto il pesce ed i formaggi. \nPraticamente la dieta consigliata è quella che già segue la maggior parte della popolazione e quindi è una madornale presa in giro. Infatti nella dieta dei contadini del Cilento\, presa come riferimento dal prof. Ancel Keys fin dal 1950\, la cosiddetta dieta mediterranea era fondamentalmente composta da frutta\, verdura\, cereali\, legumi\, olio d’oliva\,  poco vino\, qualche uovo da cortile e raramente del formaggio\, mentre il consumo di carne o pesce era relegato a ricorrenze festive.\nRicordiamo che nel 1926 il quantitativo di carne consumata in un anno era di un kg pro capite\, non certo di due chili a settimana. In fatto alimentare tutto questo genera sempre più confusione. Ma\, si sa\, l’importante è non turbare il sonno della popolazione che non intende rinunciare ai piaceri della tavola\,  ma soprattutto non mettere in pericolo le cospicue prebende elargite dalle lobby zootecniche e agroalimentari\, delle grandi industrie di allevatori e macellatori che devono pur lavorare\, anche a costo di una pandemia planetaria. \n————————- \nL’UNIVERSO\nUn punto nel vuoto \nperso nella notte della memoria \ne poi… \nIl furore degli elementi. \nL’alba dell’Universo. \nLe radici del male. \nIl seme della discordia. \nIl buio del peccato. \nIl sogno della libertà. \nLa febbre di denaro. \nLa follia della guerra. \nLa paura della morte. \nIl solco del dolore. \nL’amarezza del pianto. \nI morsi della fame. \nLa maschera dell’ipocrisia. \nL’angoscia del silenzio. \nIl peso della solitudine. \nIl dubbio della mente. \nLa maturità della coscienza. \nL’evoluzione dell’anima. \nLa luce della speranza. \nIl profumo della virtù. \nIl calore dell’amicizia. \nLa gioia dell’intesa. \nL’impeto della passione. \nLa dolcezza dell’amore. \nIl sorriso della vita. \nIl fascino dell’ignoto. \nL’immensità del Cosmo. \nIl mistero di Dio. \n(Franco Libero Manco) \n\n \nNon c’è una causa più urgente\, nè più giusta\, del proteggere il futuro di tutte le specie – Carl Sagan \n@lolayabonobo Sanctuary \nMyriam Jael Riboldi\n\n\nShare on:
URL:https://associazionevegananimalista.it/event/covid-19-cambiamento-climatico-e-impatto-sulle-difese-immunitarie/
CATEGORIES:Eventi AVA 2020
ATTACH;FMTTYPE=image/jpeg:https://associazionevegananimalista.it/wp-content/uploads/2020/11/aaaapav.jpg
END:VEVENT
BEGIN:VEVENT
DTSTART;TZID=Europe/Rome:20201108T080000
DTEND;TZID=Europe/Rome:20201108T233000
DTSTAMP:20260422T211330
CREATED:20201105T102430Z
LAST-MODIFIED:20201105T102431Z
UID:5517-1604822400-1604878200@associazionevegananimalista.it
SUMMARY:Un signore\, che ha appena perso la moglie\, si reca al giornale locale per far pubblicare un necrologio: "Buongiorno\, dovrei pubblicare un necrologio." "Bene. Prego\, mi detti il testo." "MORTA MARTA." "Come??? No\, non è possibile! Ha idea di quante Marta ci siano Italia??? E poi sappia che fino a cinque parole la tariffa è la stessa!" "Ah\, ma davvero? Bene. Allora scriva: MORTA MARTA VENDO PANDA BLU!"
DESCRIPTION:Un signore\, che ha appena perso la moglie\, si reca al giornale locale per far pubblicare un necrologio:\n\n“Buongiorno\, dovrei pubblicare un necrologio.”\n“Bene. Prego\, mi detti il testo.”\n“MORTA MARTA.”\n“Come??? No\, non è possibile! Ha idea di quante Marta ci siano Italia??? E poi sappia che fino a cinque parole la tariffa è la stessa!”\n\n“Ah\, ma davvero? Bene. Allora scriva: MORTA MARTA VENDO PANDA BLU!”\n\n\n\nLeggi condividi e diffondi: PROGETTO PACE NEL MONDO – EDUCARE L’UMANITA’ ALLA PACE di Franco Libero Manco \nVisita il nostro sito Associazione Vegan Animalista \nMetti “Mi piace” sulla pagina Facebook del presidente Franco Libero Manco \nMetti “Mi piace” sulla nostra pagina Facebook AVA Associazione Vegan Animalista \nVieni a trovarci presso la nostra sede di Roma in Piazza Asti\, 5/A  \nVisiona iscriviti e condividi le nostre videoconferenze dal nostro canale Youtube \n Iscriviti ai nostri gruppi su Facebook: \nAVA Associazione Vegan Animalista \nSupporta Agripunk e tutti i Rifugi di Animali Liberi \n\nShare on:
URL:https://associazionevegananimalista.it/event/un-signore-che-ha-appena-perso-la-moglie-si-reca-al-giornale-locale-per-far-pubblicare-un-necrologio-buongiorno-dovrei-pubblicare-un-necrologio-bene-prego-mi-detti-il-testo-morta-mar/
CATEGORIES:Citazioni
ATTACH;FMTTYPE=image/jpeg:https://associazionevegananimalista.it/wp-content/uploads/2020/11/aaaaaaabarb888.jpg
END:VEVENT
BEGIN:VEVENT
DTSTART;TZID=Europe/Rome:20201112T180000
DTEND;TZID=Europe/Rome:20201112T200000
DTSTAMP:20260422T211330
CREATED:20201109T171432Z
LAST-MODIFIED:20201109T191652Z
UID:5544-1605204000-1605211200@associazionevegananimalista.it
SUMMARY:SHOW-COOKING DI CUCINA VEGANA: COME PREPARARE PIATTI SEMPLICI\, SANI E CRUELTY FREE
DESCRIPTION:“Forse oggi l’obiettivo principale non è di scoprire che cosa siamo\, ma piuttosto di rifiutare quello che siamo. Dobbiamo immaginare e costruire ciò che dovremmo diventare” (Michel Foucault) \nLeggi condividi e diffondi: PROGETTO PACE NEL MONDO – EDUCARE L’UMANITA’ ALLA PACE di Franco Libero Manco \nVisita il nostro sito Associazione Vegan Animalista \nMetti “Mi piace” sulla pagina Facebook del presidente Franco Libero Manco \nMetti “Mi piace” sulla nostra pagina Facebook AVA Associazione Vegan Animalista \nVieni a trovarci presso la nostra sede di Roma in Piazza Asti\, 5/A  \nVisiona iscriviti e condividi le nostre videoconferenze dal nostro canale Youtube \n Iscriviti ai nostri gruppi su Facebook: \nAVA Associazione Vegan Animalista \nSupporta Agripunk e tutti i Rifugi di Animali Liberi \nI GIOVEDI’ CULTURALI DELL’AVA\nAssociazione Vegan Animalista APS\nLe conferenze si tengono dalle ore 18\,00 in piazza Asti 5/a Roma\n(Metro Re di Roma\, uscita Vercelli\, trenino staz.ne Tuscolana o bus 85-81-16) \n—————————————— \nConferenza del 12 novembre ore 18\,00\nAntonella Tomassini\, Cucina Naturale cruelty free\, Food Blogger\, Collaboratrice  Magazine online Il Vegano.it \, Autrice di “Pianeta Vegan” \nSHOW-COOKING DI CUCINA VEGANA: COME PREPARARE PIATTI SEMPLICI\, SANI E CRUELTY FREE\nCosa è la cucina naturale? Perchè è meglio mangiare cibi di stagione? Di cosa abbiamo bisogno per essere sempre in forma?\nPiatti semplici\, sfiziosi e salutari preparati in poco tempo per dimostrare che cruelty free è meglio per gli animali\, il pianeta e noi stessi.\nLa Relatrice risponderà alle domande del pubblico \n—————– \nLa conferenza si svolgerà secondo le prescrizioni previste per legge \nLA PALEODIETA\ndi Franco Libero Manco \nC’è chi è convinto che la dieta più adatta a noi umani del 2000 d.C. sia la dieta del paleolitico\, cioè la dieta dell’uomo cavernicolo\,  considerata la più completa e salutare\, quella che farebbe vivere l’uomo fino a 120 anni; ma si dimentica che nel paleolitico la vita media dell’individuo era di 35 anni e che fu adottata per estreme necessità di sopravvivenza a causa dei cambiamenti climatici\, non per predisposizione naturale. \nE dimentica pure che la genesi umana non parte dal paleolitico\, e che i nostri antichi progenitori prima di tale periodo sono vissuti da frugivori nella foresta intertropicale\, non nella savana\, per altri 4 milioni di anni\, essendo primati antropoidi e quindi come tali anatomicamente strutturati per un’alimentazione vegetariana.\nProbabilmente chi sostiene il valore di tale dieta ha trascurato i testi di anatomia comparata. \nMa ammesso ( e non concesso) che tale dieta fosse adatta a noi\, la civiltà l’intelligenza e la coscienza ci induce a propendere per una dieta più confacente alle esigenze morali\, scientifiche e spirituali della dieta vegana dal momento che non solo non è necessario ricorrere a prodotti animali per assicurarsi la salute\, come conferma l’ottimo stato di benessere dei vegani\, ma che i prodotti cadaverici degli animali sono dannosi per la salute umana\, per l’ambiente\, l’economia\, il terzo mondo.\nInoltre\, la brevità di vita dell’uomo nel paleolitico viene attribuita non all’introduzione della carne nella dieta ma a malattie batteriche\, senza dimostrare perché solo l’ominide ne era vittima e viveva così poco mentre gli altri mammiferi vivevano ottimamente il periodo stabilito per loro da madre natura. \n—————– \n \n#ilsensodellavita\n“Quando sarò libero? – Quando la tua egoità sarà scomparsa e la tua volontà si sarà fusa con quella divina” (Ramakrishna) \n“Al saggio tutta la Terra è aperta\, perchè patria di un’anima bella è il mondo intero” (Democrito) \n“Oh me\, oh vita!\nDomande come queste mi perseguitano\,\ninfiniti cortei d’infedeli\,\ncittà gremite di stolti.\nChe vi è di nuovo in tutto questo\, oh me\, oh vita!\nRisposta:\nChe tu sei qui\,\nche la vita esiste e l’identità.\nChe il potente spettacolo continui\,\ne che tu puoi contribuire con un verso” (Walt Whitman) \n#maketheconnection #antispecismo\n#animamundi #earthlings \nL’Umanità è chiamata ad assumere le proprie responsabilità per le azioni con le quali quotidianamente devasta la Terra e compie stragi di Esseri Senzienti (Umani e Non Umani). Invocare l’estinzione della nostra specie presuppone una scelta\, che esclude quella (indubbiamente più faticosa) di maturare Consapevolezza e presa di Coscienza del nostro impatto sul Pianeta e sui suoi abitanti. Cambiare ed invertire drasticamente rotta; avere Rispetto per ogni Vita e considerare ogni Vivente nostro pari: questo è quanto dobbiamo fare. Questo restituirebbe e restituirà alla nostra specie la dimensione animale e quell’umanità ormai rinnegate e perdute.\n– Il Nostro Canto Libero – \nShare on:
URL:https://associazionevegananimalista.it/event/show-cooking-di-cucina-vegana-come-preparare-piatti-semplici-sani-e-cruelty-free/
CATEGORIES:Eventi AVA 2020
ATTACH;FMTTYPE=image/jpeg:https://associazionevegananimalista.it/wp-content/uploads/2020/11/aaaaaaanto.jpg
END:VEVENT
BEGIN:VEVENT
DTSTART;TZID=Europe/Rome:20201119T180000
DTEND;TZID=Europe/Rome:20201119T200000
DTSTAMP:20260422T211330
CREATED:20201116T172752Z
LAST-MODIFIED:20201116T172753Z
UID:5576-1605808800-1605816000@associazionevegananimalista.it
SUMMARY:COME PRESERVARE IL LAVORO DEL SISTEMA IMMUNITARIO PER RESTARE IN BUONA SALUTE
DESCRIPTION:“Possa l’Anima di tutti gli uomini rifiorire innamorata di Tutta l’Esistenza”‘(Rudolf Steiner) \nLeggi condividi e diffondi: PROGETTO PACE NEL MONDO – EDUCARE L’UMANITA’ ALLA PACE di Franco Libero Manco \nVisita il nostro sito Associazione Vegan Animalista \nMetti “Mi piace” sulla pagina Facebook del presidente Franco Libero Manco \nMetti “Mi piace” sulla nostra pagina Facebook AVA Associazione Vegan Animalista \nIscriviti alla nostra Newsletter \nVisiona iscriviti e condividi le nostre videoconferenze dal nostro canale Youtube \n Iscriviti ai nostri gruppi su Facebook: \nAVA Associazione Vegan Animalista \nSupporta Agripunk e tutti i Rifugi di Animali Liberi \n—————————- \nI GIOVEDI’ CULTURALI DELL’AVA\nAssociazione Vegan Animalista APS \nLe conferenze si tengono dalle ore 18\,00 in piazza Asti 5/a Roma \n(Metro Re di Roma\, uscita Vercelli\, trenino staz.ne Tuscolana o bus 85-81-16) \n—————————————— \nConferenza del 19 novembre ore 18\,00\nCOME PRESERVARE IL LAVORO DEL SISTEMA IMMUNITARIO PER RESTARE IN BUONA SALUTE\nDr. Federico Calviello\, Biologo Nutrizionista\, Master in  Alimentazione Benessere e la Salute\, Nutrizione dello sportivo\nIl Relatore risponderà alle domande del pubblico\nLA CONFERENZA SI SVOLGERA’ SECONDO LE PRESCRIZIONI PREVISTE PER LEGGE \n  \nIL SISTEMA IMMUNITARIO\ndi Franco Libero Manco \nLa vera salute è la sintesi dell’armonia\ntra la mente\, serena\, aperta alla conoscenza\,\nil corpo\, attivo\, libero da tossine\ne lo spirito proteso verso il divino \nIl sistema immunitario è la nostra polizia interna in difesa della nostra salute e le armi gliele fornisce il nostro stile di vita\, la corretta alimentazione\, il movimento\, l’aria pulita\, i pensieri positivi\, la serenità di spirito. \nIl sistema immunitario è un esercito di soldati che si oppongono rapidamente e in modo efficace ad ogni potenziale nemico: microrganismi\, proteine estranee\, cellule infettate o tumorali. I batteri simbiotici\, i microbi che si trovano su pelle e mucose\, che impediscono lo sviluppo di altri microbi dannosi\, collaborano con il sistema immunitario.\nQuando un agente patogeno\, batterio\, parassita\, fungo\, o protozoo\, oppure una qualunque sostanza tossica che riesce a superare le difese di superficie e a penetrare nell’organismo\, il sistema immunitario attiva due ordini di risposte: l’immunità innata e l’immunità acquisita che sono attività cellulari e processi biochimici coordinati tra loro con lo scopo di eliminare gli ospiti indesiderati. \nL’immunità innata identifica e riconosce molti agenti patogeni senza bisogno di una precedente esperienza:  risponde rapidamente all’attacco anche se non sa distinguere i singoli agenti patogeni in modo differenziato. Quindi la sua efficacia è limitata e non sempre ottimale in quanto possono sfuggire agenti patogeni diversi da quelli conosciuti. Tuttavia fa una sorta di scrematura degli intrusi affinché vengano messe in atto\, in un secondo tempo\, contromisure mirate.  \nL’immunità acquisita è un meccanismo più sofisticato e preciso: ha la capacità di potenziare e ottimizzare la reazione iniziata dall’immunità innata i cui protagonisti (i linfociti B e linfoiciti T) sono specializzati nella produzione di anticorpi (o immunoglobuline). L’immunità acquisita registra in modo permanente le caratteristiche per poi mettere in atto una risposta selettiva ed efficiente.\n—————————- \n \n#ilsensodellavita\n“La geometria esiste ovunque. Tuttavia\, ci vogliono gli occhi per vedere\, l’intelligenza per capire e un’anima per ammirarla” (Johannes Kepler detto Keplero) \n“Non importa quello che stai guardando\, ma quello che riesci a vedere” (Henry David Thoreau) \nOgni gesto\, seppur all’apparenza minuscolo\, assume senso e forza grazie al modo in cui viene compiuto e concepito. Prima di manifestarsi esteriormente\, deve essere un moto sincero del cuore. Ogni parola\, anche la più fievole\, ha valore se scaturisce da uno slancio interiore. Affinare lo sguardo per cogliere l’Armonia che regna ovunque è un esercizio che richiede empatia\, mente libera e scevra da pregiudizi\, umiltà e delicatezza.\nLe azioni sono l’esternazione di un linguaggio dell’anima. Porre attenzione alle parole che il nostro Io più profondo ed incontaminato (non corrotto da egoismi) suggerisce\, insegna a guardarci dentro\, a maturare in Consapevolezza e ad imprimere Amore autentico ad ogni nostro pensiero\, ad ogni nostro avvicinarsi con tenerezza e rispettoso riguardo “all’altro-da-noi”\, ad ogni sguardo incrociato lungo il nostro cammino. Progredire in Coscienza significa\, in prima ed in ultima istanza\, compiere atti non superficiali o distratti (deconcentrati)\, bensì con “concentrazione” (il sostantivo deriva dal latino “cum” e “centrum”\, ossia «spingere nel (al) centro»); dunque\, raccogliendo ogni fibra del nostro essere nel realizzare e nell’operare un’azione\, qualunque essa sia. Essere (con)centrati rimanda al concetto buddhista del “qui e ora”. Chi agisce nel “qui e ora” è in perfetta Armonia con se stesso\, la propria vita interiore\, col Sè universale e col cosmo (il karma cosmico).\nIl mondo (macrocosmo) cambia a partire da noi (microcosmo).\n– Il Nostro Canto Libero – \nShare on:
URL:https://associazionevegananimalista.it/event/come-preservare-il-lavoro-del-sistema-immunitario-per-restare-in-buona-salute/
CATEGORIES:Eventi AVA 2020
ATTACH;FMTTYPE=image/jpeg:https://associazionevegananimalista.it/wp-content/uploads/2020/11/aaaaaaaaaaaacivcan.jpg
END:VEVENT
END:VCALENDAR