BEGIN:VCALENDAR
VERSION:2.0
PRODID:-//AVA - ECPv6.15.20//NONSGML v1.0//EN
CALSCALE:GREGORIAN
METHOD:PUBLISH
X-WR-CALNAME:AVA
X-ORIGINAL-URL:https://associazionevegananimalista.it
X-WR-CALDESC:Eventi per AVA
REFRESH-INTERVAL;VALUE=DURATION:PT1H
X-Robots-Tag:noindex
X-PUBLISHED-TTL:PT1H
BEGIN:VTIMEZONE
TZID:Europe/Rome
BEGIN:DAYLIGHT
TZOFFSETFROM:+0100
TZOFFSETTO:+0200
TZNAME:CEST
DTSTART:20190331T010000
END:DAYLIGHT
BEGIN:STANDARD
TZOFFSETFROM:+0200
TZOFFSETTO:+0100
TZNAME:CET
DTSTART:20191027T010000
END:STANDARD
BEGIN:DAYLIGHT
TZOFFSETFROM:+0100
TZOFFSETTO:+0200
TZNAME:CEST
DTSTART:20200329T010000
END:DAYLIGHT
BEGIN:STANDARD
TZOFFSETFROM:+0200
TZOFFSETTO:+0100
TZNAME:CET
DTSTART:20201025T010000
END:STANDARD
BEGIN:DAYLIGHT
TZOFFSETFROM:+0100
TZOFFSETTO:+0200
TZNAME:CEST
DTSTART:20210328T010000
END:DAYLIGHT
BEGIN:STANDARD
TZOFFSETFROM:+0200
TZOFFSETTO:+0100
TZNAME:CET
DTSTART:20211031T010000
END:STANDARD
END:VTIMEZONE
BEGIN:VEVENT
DTSTART;TZID=Europe/Rome:20201203T180000
DTEND;TZID=Europe/Rome:20201203T193000
DTSTAMP:20260422T193911
CREATED:20201201T210528Z
LAST-MODIFIED:20220907T184226Z
UID:5622-1607018400-1607023800@associazionevegananimalista.it
SUMMARY:RELIGIONE E QUESTIONE ANIMALI NELL’ETICA UNIVERSALE DELLA NUOVA COSCIENZA VEGAN
DESCRIPTION:L’amore protegge. E’ il sentimento universale che palpita in ogni cuore. L’amore non conosce specismo. E’ insondabile ed inesprimibile. Non necessita di spiegazioni per sua stessa natura. E’ la Vita che prende forma\, libera e perfetta. \n(Il Nostro Canto Libero) \nLeggi condividi e diffondi: PROGETTO PACE NEL MONDO – EDUCARE L’UMANITA’ ALLA PACE di Franco Libero Manco \nVisita il nostro sito Associazione Vegan Animalista \nMetti “Mi piace” sulla pagina Facebook del presidente Franco Libero Manco \nMetti “Mi piace” sulla nostra pagina Facebook AVA Associazione Vegan Animalista \nIscriviti alla nostra Newsletter \nVisiona iscriviti e condividi le nostre videoconferenze dal nostro canale Youtube \n Iscriviti ai nostri gruppi su Facebook: \nAVA Associazione Vegan Animalista \nSupporta Agripunk e tutti i Rifugi di Animali Liberi \nI GIOVEDI’ CULTURALI DELL’AVA\nAssociazione Vegan Animalista APS \nLe conferenze si tengono dalle ore 18\,00 in piazza Asti 5/a Roma \nSECONDO LE MODALITA’ PREVISTE DALLA LEGGE \n(Metro Re di Roma\, uscita Vercelli\, trenino staz.ne Tuscolana o bus 85-81-16) \n—————————————— \nConferenza del 3 dicembre ore 18\,00\nRELIGIONE E QUESTIONE ANIMALI\nNELL’ETICA UNIVERSALE DELLA NUOVA COSCIENZA VEGAN\n Dr. Franco Libero Manco\, Presidente AVA \nIl Relatore risponderà alle domande del pubblico. \n—————— \nDENTRO LO SPAZIO DEL MIO CUORE\ndi Franco Libero Manco \nDentro il riquadro\ndel mio piccolo giardino\nho incontrato\nminuti esseri tra l’erba\ne leggere fragranze\ndi petali novelli.\nDentro lo spazio\ndi un chilometro\nho incontrato\nspecchi lacustri\, radure\ne maestosi alberi svettanti.\nDentro lo spazio\ndi cento chilometri\nho incontrato città geometriche\ne agglomerati sconnessi\nsulle sponde ondulate dei declivi.\nDentro lo spazio\ndi mille chilometri\nho incontrato deserti\, banchise\,\nsperoni possenti\ned immense voragini oceaniche.\nDentro lo spazio\ndi un milione di chilometri\nho incontrato pianeti\ndalle orbite fluttuanti\,\nmeteore vorticose\ne comete incandescenti alla deriva.\nDentro lo spazio\ndi un miliardo di anni luce\nho incontrato arcobaleni siderali\,\ntenui nebulose\ned universi pulsanti\ndalla spinta primigenia del Big-Bang.\nMa dentro lo spazio\ndi pochi centimetri del mio cuore\nlì ho incontrato Dio. \n———————————– \nLa divinità scende fino alle cose minime per la comunicazione di se stessa (Giordano Bruno\, 1548-1600) \nErmete Trismegisto\, il primo grande iniziatore in Egitto  alla dottrina esoterica. Dai greci considerato tre volte grande: re\, legislatore e sacerdote. Scrisse 42 libri. Resterà centro e vetta di iniziazione egiziana. Per Ermete Trismegisto il piccolo è come il grande: nulla è piccolo e nulla è grande agli occhi di Dio. Solo colui che è libero può liberare. Colui che comanda se stesso può comandare gli altri. Non fate soltanto il bene ma siate buoni e il movente non sia nei frutti ma nell’azione. \n“Se impariamo ad amare gli animali\, saremo molto più vicini a Dio” (Madre Teresa) \n“Vuoi essere simile alla natura degli dei? Sii misericordioso con gli animali e ti avvicinerai ad essi. La dolce misericordia è il vero sogno della nobiltà”. (Shakespeare) \nE’ più importante impedire a una bestia di soffrire che restare seduti a contemplare i mali dell’universo pregando in compagnia dei sacerdoti.  (Gautama Buddha) \n“Per vedere faccia a faccia l’universale e onnipresente Spirito della Verità si deve essere in grado di amare il più infimo degli esseri creati come se stessi. E un uomo che aspira a ciò  non può permettersi di estraniarsi da nessun campo delle attività umane. E’ per questo che la mia devozione alla Verità mi ha condotto alla politica; e posso dire\, senza esitazione\, anche se con assoluta umiltà\, che coloro che affermano che la religione non ha nulla a che fare con la politica non sanno che cosa significa religione. L’identificazione con ogni essere vivente è impossibile senza auto-purificazione; senza auto-purificazione l’osservanza della legge dell’haimsa rimane un vuoto sogno; Dio non potrà mai essere realizzato da chi non ha un cuore puro. Auto-purificazione deve significare purificazione in tutti i campi della vita. E poiché la purificazione è fortemente contagiosa\, la purificazione di un individuo porta necessariamente alla purificazione di coloro che lo circondano” (Gandhi). \n \n“Con il cuore colmo di vita e di amore camminerò.\nFelice seguirò la mia strada.\nFelice invocherò le grandi nuvole cariche d’acqua.\nFelice invocherò la pioggia che placa la sete.\nFelice invocherò i germogli sulle piante.\nFelice invocherò polline in abbondanza.\nFelice invocherò una coperta di rugiada.\nVoglio muovermi nella bellezza e nell’armonia.\nLa bellezza e l’armonia siano davanti a me.\nLa bellezza e l’armonia siano dietro di me.\nLa bellezza e l’armonia siano sotto di me.\nLa bellezza e l’armonia siano sopra di me.\nChe la bellezza e l’armonia siano ovunque\,\nsul mio cammino.\nNella bellezza e nell’armonia tutto si compie.\nNon si può imbrigliare il vento!”\n(Preghiera della Notte\, Tribù dei Navajo) \n– Il Nostro Canto Libero – \nShare on:
URL:https://associazionevegananimalista.it/event/religione-e-questione-animali-nelletica-universale-della-nuova-coscienza-vegan/
CATEGORIES:Eventi AVA 2020
ATTACH;FMTTYPE=image/jpeg:https://associazionevegananimalista.it/wp-content/uploads/2022/07/291570633_5267774939975098_8644553626983126715_n.jpg
END:VEVENT
END:VCALENDAR