BEGIN:VCALENDAR
VERSION:2.0
PRODID:-//AVA - ECPv6.15.20//NONSGML v1.0//EN
CALSCALE:GREGORIAN
METHOD:PUBLISH
X-ORIGINAL-URL:https://associazionevegananimalista.it
X-WR-CALDESC:Eventi per AVA
REFRESH-INTERVAL;VALUE=DURATION:PT1H
X-Robots-Tag:noindex
X-PUBLISHED-TTL:PT1H
BEGIN:VTIMEZONE
TZID:Europe/Rome
BEGIN:DAYLIGHT
TZOFFSETFROM:+0100
TZOFFSETTO:+0200
TZNAME:CEST
DTSTART:20200329T010000
END:DAYLIGHT
BEGIN:STANDARD
TZOFFSETFROM:+0200
TZOFFSETTO:+0100
TZNAME:CET
DTSTART:20201025T010000
END:STANDARD
BEGIN:DAYLIGHT
TZOFFSETFROM:+0100
TZOFFSETTO:+0200
TZNAME:CEST
DTSTART:20210328T010000
END:DAYLIGHT
BEGIN:STANDARD
TZOFFSETFROM:+0200
TZOFFSETTO:+0100
TZNAME:CET
DTSTART:20211031T010000
END:STANDARD
BEGIN:DAYLIGHT
TZOFFSETFROM:+0100
TZOFFSETTO:+0200
TZNAME:CEST
DTSTART:20220327T010000
END:DAYLIGHT
BEGIN:STANDARD
TZOFFSETFROM:+0200
TZOFFSETTO:+0100
TZNAME:CET
DTSTART:20221030T010000
END:STANDARD
END:VTIMEZONE
BEGIN:VEVENT
DTSTART;TZID=Europe/Rome:20210304T180000
DTEND;TZID=Europe/Rome:20210304T200000
DTSTAMP:20260422T101805
CREATED:20210302T205657Z
LAST-MODIFIED:20210302T205842Z
UID:5881-1614880800-1614888000@associazionevegananimalista.it
SUMMARY:NOI\, L’EPIGENETICA E LA FISICA QUANTISTICA
DESCRIPTION:“La sfida lanciata dai diritti animali è molto semplice: tratta gli animali con lo stesso rispetto con cui vorresti essere trattato tu. Un’idea genuinamente rivoluzionaria” (Jeremy Rifkin) \nLeggi condividi e diffondi: PROGETTO PACE NEL MONDO – EDUCARE L’UMANITA’ ALLA PACE di Franco Libero Manco \nVisita il nostro sito Associazione Vegan Animalista \nMetti “Mi piace” sulla pagina Facebook del presidente Franco Libero Manco \nMetti “Mi piace” sulla nostra pagina Facebook AVA Associazione Vegan Animalista \nIscriviti alla nostra Newsletter \nVisiona iscriviti e condividi le nostre videoconferenze dal nostro canale Youtube \n Iscriviti ai nostri gruppi su Facebook: \nAVA Associazione Vegan Animalista \nSupporta Agripunk e tutti i Rifugi di Animali Liberi \nI GIOVEDI’ CULTURALI DELL’AVA\nAssociazione Vegan Animalista APS \nLe conferenze si tengono in piazza Asti 5/a Roma \n(Metro Re di Roma\, uscita Vercelli\, trenino staz.ne Tuscolana o bus 85-81-16) \n—————————————– \nGiovedì 4 marzo ore 18\,00\, \n conferenza del Dr. Valerio Sgalambro\, Laurea in Pedagogia\, Presidente Istituto di BioQuantica Applicata\, \ngià Direttore Didattico Counselor Olistico\, Psicosomatologia\, \nTraining  Scienza di Guarigione\, autore di testi Salute e Benessere\, sul tema: \n“NOI\, L’EPIGENETICA\nE LA FISICA QUANTISTICA”\nLA CONFERENZA SI SVOLGERA’ IN RISPETTO DELLA NORMATIVA ANTI COVID \nL’ASSOLUTO\nTutto nel cosmo è vita\, movimento\, armonia \ne tutto dice che la nostra esistenza è \nper altre dimensioni\, luoghi di sogno\, \n luci ed aurore inestinguibili. \nNella sfolgorante bellezza dell’esistere. \nTutto è in Te e Tu sei nel Tutto. \nOgni frammento d’infinita sapienza \nè per Te come l’unico essere. \nNelle tue leggi severe e ineluttabili \nogni disarmonia paga l’urto dell’onda di ritorno \ne la tua potenza si manifesta incessante \nnegli infiniti mondi ed universi. \nIl volo della libellula non è meno stupefacente \ndell’espandersi delle galassie \ne l’esplosione di mille supernove \nè un bagliore per Te simile alla lucciola. \nTu sei il perfetto\, l’indefinibile. \nAl di là del tempo e dello spazio \ntrascendi ogni percezione sensoriale. \nStupefatto o Dio di tutte le dimensioni\, \nti ammiro\, chiunque tu sia. \nFranco Libero Manco \n \nMa chi è questo galletto dai colori splendenti e dalla voce possente\, ma timido timido e poco più grande di un merlo? Ecco a voi Maciste!\nProveniente da una situazione delicata\, da qualche settimana questo nostro nuovo amico ha trovato casa qui a Paperopoli\, dove allieta il cortile con i suoi riflessi nero-verdi\, le zampette buffamente piumate\, un incedere strampalato ed uno sguardo tipo Mr. Magoo.\nCome non volergli bene?\nBenarrivato Maciste! \nFattoria Capre e Cavoli\nShare on:
URL:https://associazionevegananimalista.it/event/5881/
CATEGORIES:Eventi AVA 2021
ATTACH;FMTTYPE=image/jpeg:https://associazionevegananimalista.it/wp-content/uploads/2021/03/capriolicanlib.jpg
END:VEVENT
BEGIN:VEVENT
DTSTART;TZID=Europe/Rome:20210311T180000
DTEND;TZID=Europe/Rome:20210311T200000
DTSTAMP:20260422T101805
CREATED:20210310T204528Z
LAST-MODIFIED:20210310T204528Z
UID:5902-1615485600-1615492800@associazionevegananimalista.it
SUMMARY:LA STRUTTURA MULTIDIMENSIONALE DELL’UNIVERSO SECONDO LA FILOSOFIA ORIENTALE E LA FISICA MODERNA
DESCRIPTION:“La natura ci parla tramite i simboli. Un prato\, un bosco\, un fiume: non sono soltanto luoghi esteriori\, ma spazi dell’anima. Il simbolo non è soltanto lì fuori\, ma non è nemmeno solamente una nostra elaborazione mentale. La sua vera essenza è nel rapporto\, nell’assonanza che fa vibrare all’unisono il cuore e il mondo esterno. Grazie a questa empatia\, a questa grande compassione\, l’essere umano può accedere a una relazione con la natura che altrimenti gli rimarrebbe preclusa.” \n(Francesco Boer) \nLeggi condividi e diffondi: PROGETTO PACE NEL MONDO – EDUCARE L’UMANITA’ ALLA PACE di Franco Libero Manco \nVisita il nostro sito Associazione Vegan Animalista \nMetti “Mi piace” sulla pagina Facebook del presidente Franco Libero Manco \nMetti “Mi piace” sulla nostra pagina Facebook AVA Associazione Vegan Animalista \nIscriviti alla nostra Newsletter \nVisiona iscriviti e condividi le nostre videoconferenze dal nostro canale Youtube \n Iscriviti ai nostri gruppi su Facebook: \nAVA Associazione Vegan Animalista \nSupporta Agripunk e tutti i Rifugi di Animali Liberi \nI GIOVEDI’ CULTURALI DELL’AVA\nAssociazione Vegan Animalista APS \nLe conferenze si tengono in piazza Asti 5/a Roma \n(Metro Re di Roma\, uscita Vercelli\, trenino staz.ne Tuscolana o bus 85-81-16) \n—————————————– \nGiovedì 11 marzo ore 18\,00\, \nDr. Pietro Musilli\, Laurea in Scienze Politiche\, Documentarista\, Astrofilo del Gruppo Astrofili Hipparcos\, \nMuseo Geopaleontologico e Osservatorio Astronomico di Rocca di Cave \n “LA STRUTTURA MULTIDIMENSIONALE DELL’UNIVERSO\nSECONDO LA FILOSOFIA ORIENTALE E LA FISICA MODERNA”\nLA CONFERENZA SI SVOLGERA’ IN RISPETTO DELLA NORMATIVA ANTI COVID \n—————- \nL’INCONTRO DI DOMENICA 7 MARZO IN SEDE AVA SI SVOLGERA’ SECONDO LE PRESCRIZIONI IN MERITO AL COVID 19 E SOLO A CONDIZIONE VI SIANO PRENOTAZIONI ENTRO E NON OLTRE LE ORE 15\,00 DI SABATO 6 MARZO TELEFONANDO AL 3391406256 \n—————- \nIL SIGNORE DELL’UNIVERSO\nStasera la luna domina incontrastata \nnel suo fulgido splendore e la natura \nsembra ricomporsi sgomenta dopo il temporale \npassato furente come schiere armate. \nOh mia silente sovrana \nche nell’indaco ti stagli della notte \ndimmi chi è Colui che cavalca gli uragani\, \nche  pulsa nel fuoco divorante della vita? \nDimmi chi ha appeso le galassie in mezzo al cielo \ni cui confini vanno oltre ogni limite mentale \ne accende l’alba prorompente di colori \nin questa danza cosmica di astri turbinanti? \nChi modellò la fragile libellula \ned il possente corpo del bisonte? \nChi innalzò a picco queste rocce \ndove superbe planano le aquile? \nChi inventò l’abisso degli oceani \ne l’acqua ruscellante delle nubi? \nE’ forse senza ragione \nquesta terra e questo cielo sublime? \nEsci dal tuo mistico silenzio o mia regina\, \ne nel tuo letto di stelle stanotte parlami \ndi Colui che genera la Vita. \n(Franco Libero Manco) \nRENDITI  PARTE ATTIVA\, TRASMETTI AD AMICI E CONOSCENTI DOCUMENTI E PROGETTI AVA \nSOSTIENI CON IL TUO CONTR IBUTO E IL TUO 5X1000 L’ATTIVITA’ DELL’AVA: \nc.c.p. n. 58343153: Associazione Vegan Animalista via Cesena 14 Roma 00182 \nCodice IBAN: IT38 N076 0103 2000 0005 8343 153 \nPostePay 4023 6009 40988241 \n \n“In qualche modo anche noi in Occidente cominciamo a renderci conto che qualcosa non funziona nel nostro modo di comportarci con la natura. A volte abbiamo persino l’impressione che la nostra vantata civiltà\, tutta fondata sulla ragione\, sulla scienza e sul dominio di ciò che ci circonda\, ci abbia portati in un vicolo cieco\, ma tutto sommato pensiamo ancora che proprio la ragione e la scienza ci aiuteranno a uscirne. Così continuiamo imperterriti a tagliare foreste\, inquinare fiumi\, seccare laghi\, spopolare oceani\, allevare e massacrare ogni sorta di animali perché questo – ci dicono gli scienziati economisti – produce benessere. E col miraggio che più benessere vuol dire più felicità\, investiamo tutte le nostre energie nel consumare\, come se la vita fosse un eterno banchetto romano in cui si mangia e si vomita per poter rimangiare. \nQuel che è sorprendente è che facciamo ormai tutto questo con grande naturalezza\, ognuno convinto che quello è il suo diritto. Non ci sentiamo in alcun modo parte del tutto. Al contrario. Ognuno si vede come un’entità separata\, a sé; ognuno si sente forte del proprio ingegno\, delle proprie capacità e soprattutto della propria libertà. Ma è proprio questo sentirci liberi\, disgiunti dal resto del mondo\, a causarci un gran senso di solitudine e di tristezza. Diamo per scontato solo quel poco che abbiamo attorno e con questo limitato punto di vista non riusciamo a sentire la grandezza del resto di cui siamo pur parte.” \n(Tiziano Terzani\, Un altro giro di giostra) \nLIBERACTION\nShare on:
URL:https://associazionevegananimalista.it/event/la-struttura-multidimensionale-delluniverso-secondo-la-filosofia-orientale-e-la-fisica-moderna/
CATEGORIES:Eventi AVA 2021
ATTACH;FMTTYPE=image/jpeg:https://associazionevegananimalista.it/wp-content/uploads/2021/03/prociolib666.jpg
END:VEVENT
BEGIN:VEVENT
DTSTART;TZID=Europe/Rome:20210317T080000
DTEND;TZID=Europe/Rome:20210317T233000
DTSTAMP:20260422T101805
CREATED:20200815T101741Z
LAST-MODIFIED:20210313T104250Z
UID:5235-1615968000-1616023800@associazionevegananimalista.it
SUMMARY:Conosco un bambino così povero che non ha mai veduto il mare: a Ferragosto lo vado a prendere in treno a Ostia lo voglio portare. “Ecco\, guarda\, gli dirò questo è il mare\, pigliane un po’!” Col suo secchiello\, fra tanta gente\, potrà rubarne poco o niente: ma con gli occhi che sbarrerà il mare intero si prenderà. (Gianni Rodari)
DESCRIPTION:Conosco un bambino così povero\nche non ha mai veduto il mare:\na Ferragosto lo vado a prendere\nin treno a Ostia lo voglio portare.\n“Ecco\, guarda\, gli dirò\nquesto è il mare\, pigliane un po’!”\nCol suo secchiello\, fra tanta gente\,\npotrà rubarne poco o niente:\nma con gli occhi che sbarrerà\nil mare intero si prenderà.\n(Gianni Rodari)\n\nLeggi condividi e diffondi: PROGETTO PACE NEL MONDO – EDUCARE L’UMANITA’ ALLA PACE di Franco Libero Manco \nVisita il nostro sito Associazione Vegan Animalista \nMetti “Mi piace” sulla pagina Facebook del presidente Franco Libero Manco \nMetti “Mi piace” sulla nostra pagina Facebook AVA Associazione Vegan Animalista \nVieni a trovarci presso la nostra sede di Roma in Piazza Asti\, 5/A  \nVisiona iscriviti e condividi le nostre videoconferenze dal nostro canale Youtube \n Iscriviti ai nostri gruppi su Facebook: \nAVA Associazione Vegan Animalista \nSupporta Agripunk e tutti i Rifugi di Animali Liberi \nShare on:
URL:https://associazionevegananimalista.it/event/conosco-un-bambino-cosi-povero-che-non-ha-mai-veduto-il-mare-a-ferragosto-lo-vado-a-prendere-in-treno-a-ostia-lo-voglio-portare-ecco-guarda-gli-diro-questo-e-il-mare-pigliane-un-po/
CATEGORIES:Citazioni
ATTACH;FMTTYPE=image/jpeg:https://associazionevegananimalista.it/wp-content/uploads/2020/08/aaaaaaaaaferr.jpg
END:VEVENT
BEGIN:VEVENT
DTSTART;TZID=Europe/Rome:20210318T180000
DTEND;TZID=Europe/Rome:20210318T200000
DTSTAMP:20260422T101805
CREATED:20210316T215225Z
LAST-MODIFIED:20210316T215225Z
UID:5921-1616090400-1616097600@associazionevegananimalista.it
SUMMARY:LA SPIRITUALITÀ DEL 3° MILLENNIO
DESCRIPTION:“Sono stata spesso accusata di avere più sollecitudine per gli animali che per le persone: perchè intenerirsi per i bruti quando gli esseri razionali sono così infelici? E’ che tutto va insieme\, dall’uccello la cui covata viene schiacciata ai nidi umani decimati dalla guerra…\nAl fondo della mia rivolta contro i potenti trovo\, più antico\, il ricordo delle torture inflitte alle bestie… e più l’uomo è feroce con la bestia\, più striscia di fronte a coloro che lo dominano.” \n(Luise Michel) \nLeggi condividi e diffondi: PROGETTO PACE NEL MONDO – EDUCARE L’UMANITA’ ALLA PACE di Franco Libero Manco \nVisita il nostro sito Associazione Vegan Animalista \nMetti “Mi piace” sulla pagina Facebook del presidente Franco Libero Manco \nMetti “Mi piace” sulla nostra pagina Facebook AVA Associazione Vegan Animalista \nIscriviti alla nostra Newsletter \nVisiona iscriviti e condividi le nostre videoconferenze dal nostro canale Youtube \n Iscriviti ai nostri gruppi su Facebook: \nAVA Associazione Vegan Animalista \nSupporta Agripunk e tutti i Rifugi di Animali Liberi \n  \nI GIOVEDI’ CULTURALI DELL’AVA\nAssociazione Vegan Animalista APS \nLe conferenze si tengono in piazza Asti 5/a Roma \n(Metro Re di Roma\, uscita Vercelli\, trenino staz.ne Tuscolana o bus 85-81-16) \n—————————————– \nGiovedì 18 marzo ore 18\,00\, \n conferenza del Dr. Giuseppe Cali’\, Presidente Fondazione Famiglie per la Pace Mondiale\, \nPresidente Universal Peace Federation South Europe\, sul tema: \n“LA SPIRITUALITÀ DEL 3° MILLENNIO”\nEntra nella riunione in Zoom \nhttps://zoom.us/j/97863350679?pwd=OW5uckJzUzR6Y1ZodG1MRXJIUHdrQT09 \nID riunione: 978 6335 0679 – Passcode: 902940 \n—————————— \nIL VERO AMORE E’ AMORE PER LA VITA UNIVERSALE\ndi Franco Libero Manco \nNon è vero amore quando si ama soltanto la nostra famiglia\, i nostri amici\, chi ci è vicino; non è vero amore quando si ama solo una parte del tutto  e si è indifferenti alla condizione di chi è fisicamente lontano o diverso. Il vero amore valica i confini del gruppo di appartenenza\, di  nazionalità\, di etnia\, di cultura\, di religione\, di specie\, e si espande sfericamente sino ad inglobare nel suo sentire ogni cosa che ha vita. Ama veramente colui che sa far sue non solo le sofferenze degli uomini ma chi sa sacrificarsi per il bene anche dell’essere più umile senza aspettarsi lodi o ricompense. \nIl vero amore è condivisione delle necessità del nostro prossimo universale e  non tollera distinzioni di forma o di contenuto; non si dona a seconda della specie\, del colore della pelle; non aspetta il manifestarsi della necessità\, ma  accoglie\, conforta\, soccorre; non sopporta l’inerzia\, l’inettitudine\, ma ama l’ultimo essere del mondo come fosse il figlio\, il fratello\, il genitore.\nAma veramente colui che sa far sua la responsabilità del destino collettivo; colui che sa trattare con gentilezza e amore l’essere più umile della terra come se da questo dipendesse il suo destino. \nIl vero amore è cascata che frange gli steccati ideologici: scende atterrando tutto quanto non è amore. Noi amiamo la Vita\, di un amore struggente ed inestinguibile\, condividiamo il dolore e il dramma di ogni vittima innocente che muore per malattia\, ignoranza\, fame o sotto la mano violenta dell’uomo che spegne l’anelante desiderio di esistere di un essere umano come di un vitello\, un agnello\, un coniglio. Per questo non è nella nostra natura essere tiepidi\, tacere\, assolvere coloro che uccidono la compassione\, la civiltà\, l’amore.\n—————————— \nSecondo i grandi Maestri\, il cibarsi di carne risulta dannoso anche per chi intende praticare la meditazione\, perché le energie negative della carne di animali brutalmente uccisi impediscono l’armonizzazione delle energie personali con quelle dell’universo. Tutti i grandi yogi indiani si astenevano dalla carne perché il corpo astrale è condizionato da quello fisico. Anche gli inquinanti e le tossine\, oltre ad essere dannosi per l’organismo\, rendono il corpo astrale più denso.   Come il corpo fisico anche gli altri corpi hanno bisogno di essere alimentati e richiedono per il loro sviluppo particolari energie che l’organismo deve sintetizzare a partire dall’alimentazione. La carne degli animali uccisi emana radiazioni di terrore\, e quando l’individuo consuma simili alimenti assorbe tali emanazioni. Il teosofo americano C.W. Leadbeater sostiene che l’alimentazione vegetariana è l’unica che consenta la purificazione e che l’alimentazione carnea è di ostacolo allo sviluppo di percezioni extrasensoriali \n  \n \nNon sento mai la parola “fuga”\nsenza un colpo al cuore.\nUn’improvvisa attesa –\nun impulso al volo. \nNon sento di prigioni smisurate\nabbattute da soldati\, senza scuotere\nle sbarre della mia – come un bambino –\nper fallire una volta ancora. \n(Emily Dickinson) \nLIBERACTION\nShare on:
URL:https://associazionevegananimalista.it/event/la-spiritualita-del-3-millennio/
CATEGORIES:Eventi AVA 2021
ATTACH;FMTTYPE=image/jpeg:https://associazionevegananimalista.it/wp-content/uploads/2021/03/pecorlib.jpg
END:VEVENT
BEGIN:VEVENT
DTSTART;TZID=Europe/Rome:20210325T180000
DTEND;TZID=Europe/Rome:20210325T200000
DTSTAMP:20260422T101805
CREATED:20210323T212547Z
LAST-MODIFIED:20210323T212547Z
UID:5939-1616695200-1616702400@associazionevegananimalista.it
SUMMARY:IL MIRACOLO DEL PH ALCALINO: STRUMENTO DI IDRATAZIONE E DEPURAZIONE ORGANICA
DESCRIPTION:“Ti faccio spazio dentro di me\, in questo incrocio di sguardi che riassume milioni di attimi e di parole” \n(Pablo Neruda) \nLeggi condividi e diffondi: PROGETTO PACE NEL MONDO – EDUCARE L’UMANITA’ ALLA PACE di Franco Libero Manco \nVisita il nostro sito Associazione Vegan Animalista \nMetti “Mi piace” sulla pagina Facebook del presidente Franco Libero Manco \nMetti “Mi piace” sulla nostra pagina Facebook AVA Associazione Vegan Animalista \nIscriviti alla nostra Newsletter \nVisiona iscriviti e condividi le nostre videoconferenze dal nostro canale Youtube \n Iscriviti ai nostri gruppi su Facebook: \nAVA Associazione Vegan Animalista \nSupporta Agripunk e tutti i Rifugi di Animali Liberi \nI GIOVEDI’ CULTURALI DELL’AVA\nAssociazione Vegan Animalista APS \nLe conferenze si tengono in piazza Asti 5/a Roma \n(Metro Re di Roma\, uscita Vercelli\, trenino staz.ne Tuscolana o bus 85-81-16) \n—————————————– \nGiovedì 25 marzo ore 18\,00\, \n conferenza di Marilù Giamporcaro\, Naturopata e Consulente Etica Olistica\, sul tema: \n“IL MIRACOLO DEL PH ALCALINO:\nSTRUMENTO DI IDRATAZIONE E DEPURAZIONE ORGANICA”\nEntra nella riunione in Zoom\nhttps://us04web.zoom.us/j/3306436745?pwd=Q3lYSXcwVnJRTzJydWRJQ25vMDRpZz09 \n———— \nADDITIVI E CONSERVANTI\ndi Franco Libero Manco \nGli additivi nei cibi sono sostanze tossiche\, nocive per l’organismo: deprimono il sistema immunitario e lo predispongono a moltissime patologie; impoveriscono il valore nutrizionale degli alimenti\, accelerano l’invecchiamento\, abbassano il pH del sangue favorendo l’insorgenza di patologie come il cancro\, il diabete\, cardiopatie\, allergie ecc. \nBisognerebbe consumare un quantitativo venti volte maggiore per avere gli stessi nutrienti di un cibo biologico. Un cibo trattato\, conservato\, inscatolato\, incellofanato ecc. limita l’assimilazione di quell’esigua quantità di nutrienti contenuta nei cibi allo stato naturale.\nSaziarsi non equivale a nutrirsi e le nostre cellule restano affamate di nutrienti indispensabili; questo porta a squilibri\, deficit immunitario\, scarsa resistenza alle infezioni\, predisposizione alle malattie. \nIn genere negli alimenti trattati vengono aggiunte circa 1500 diverse sostanze chimiche che non è obbligatorio menzionare nelle etichette; sostanze appetizzanti\, che generano dipendenza in modo che ognuno possa acquistare quantitativi sempre maggiori di quel prodotto e questo può causare mal di testa\, irritabilità\, nausea\, depressione\, ansia ecc. finché non torna a consumare quel determinato alimento. \nAlcuni componenti sono programmati per far ingrassare: le persone grasse mangiano molto perché l’organismo è portato a reperire il quantitativo necessario di sostanze mancanti in maggiori quantità di alimenti.\nSembra che fertilizzanti\, pesticidi\, diserbanti\, ormoni della crescita\, additivi e farmaci permangono nel nostro organismo e vengono immagazzinati nei tessuti grassi e siccome il cervello è costituito in larga misura da sostanza grassa succede che questo accumulo di tossine generi ansia\, depressione\, difficoltà di apprendimento ecc. \nUna tecnica di lavorazione abbastanza comune degli alimenti industriali è l’irradiazione che consiste nel bombardare gli alimenti con radiazioni per uccidere i batteri.\nLa fotografia di Kirlian evidenzia che una mela coltivata in maniera biologica mostra un’aura armonica e perfetta; la stessa mela trattata con radiazioni mostra un’aura irregolare\, spigolosa\, instabile\, simile a quella dell’arsenico. \n———————————— \nRENDITI  PARTE ATTIVA\, TRASMETTI AD AMICI E CONOSCENTI DOCUMENTI E PROGETTI AVA \nLeggi condividi e diffondi:  \nPROGETTO PACE NEL MONDO- EDUCARE L’UMANITA’ ALLA PACE \n Visita il nostro sito ASSOCIAZIONE VEGAN ANIMALISTA \n Metti “Mi piace” sulla pagina Facebook del presidente Franco Libero Manco \nMetti “Mi piace” sulla nostra pagina Facebook AVA Associazione Vegan Animalista \nIscriviti alla nostra Newsletter \n Iscriviti ai nostri gruppi su Facebook:  AVA Associazione Vegan Animalista \n—————————————– \nIL TUO 5X1000 E’ FONDAMENTALE PER L’ESISTENZA DELL’AVA:  CF 97365030580 \nCodice IBAN: IT38 N076 0103 2000 0005 8343 153 \nPostePay 4023 6009 40988241 – – C.c.p. n. 58343153 \n \n#enonmangiochihauncuoreio\nProprio in quel tempo Drogo si accorse come gli uomini\, per quanto possano volersi bene\, rimangono sempre lontani; che se uno soffre il dolore è completamente suo\, nessun altro può prenderne su di sé una minima parte; che se uno soffre\, gli altri per questo non sentono male\, anche se l’amore è grande\, e questo provoca la solitudine della vita.\n**DINO BUZZATI da IL DESERTO DEI TARTARI\n**\n**Di mamma ne esiste una sola. Di secondi piatti possono essercene tanti altri. Lascialo con la mamma. Inventa un vero menù!\n**#eveganrevolution \nAnin Nitilu\nShare on:
URL:https://associazionevegananimalista.it/event/il-miracolo-del-ph-alcalino-strumento-di-idratazione-e-depurazione-organica-2/
CATEGORIES:Eventi AVA 2021
ATTACH;FMTTYPE=image/jpeg:https://associazionevegananimalista.it/wp-content/uploads/2021/03/cantoliberoava.jpg
END:VEVENT
END:VCALENDAR