BEGIN:VCALENDAR
VERSION:2.0
PRODID:-//AVA - ECPv6.15.20//NONSGML v1.0//EN
CALSCALE:GREGORIAN
METHOD:PUBLISH
X-ORIGINAL-URL:https://associazionevegananimalista.it
X-WR-CALDESC:Eventi per AVA
REFRESH-INTERVAL;VALUE=DURATION:PT1H
X-Robots-Tag:noindex
X-PUBLISHED-TTL:PT1H
BEGIN:VTIMEZONE
TZID:Europe/Rome
BEGIN:DAYLIGHT
TZOFFSETFROM:+0100
TZOFFSETTO:+0200
TZNAME:CEST
DTSTART:20200329T010000
END:DAYLIGHT
BEGIN:STANDARD
TZOFFSETFROM:+0200
TZOFFSETTO:+0100
TZNAME:CET
DTSTART:20201025T010000
END:STANDARD
BEGIN:DAYLIGHT
TZOFFSETFROM:+0100
TZOFFSETTO:+0200
TZNAME:CEST
DTSTART:20210328T010000
END:DAYLIGHT
BEGIN:STANDARD
TZOFFSETFROM:+0200
TZOFFSETTO:+0100
TZNAME:CET
DTSTART:20211031T010000
END:STANDARD
BEGIN:DAYLIGHT
TZOFFSETFROM:+0100
TZOFFSETTO:+0200
TZNAME:CEST
DTSTART:20220327T010000
END:DAYLIGHT
BEGIN:STANDARD
TZOFFSETFROM:+0200
TZOFFSETTO:+0100
TZNAME:CET
DTSTART:20221030T010000
END:STANDARD
END:VTIMEZONE
BEGIN:VEVENT
DTSTART;TZID=Europe/Rome:20210923T180000
DTEND;TZID=Europe/Rome:20210923T200000
DTSTAMP:20260422T004807
CREATED:20210921T203710Z
LAST-MODIFIED:20210921T203710Z
UID:6220-1632420000-1632427200@associazionevegananimalista.it
SUMMARY:“A CHE PUNTO E’ LA CAUSA ANIMALISTA IN ITALIA E NEL MONDO”
DESCRIPTION:GRINDADRAP: 1428 DELFINI UCCISI IN UNA SOLA BATTUTA \nContinua l’eccidio di cetacei alle isole Fær Øer\, regione autonoma della Danimarca che ogni anno da il via alla pratica in barba a leggi e moratorie internazionali. \nBasta delfinari \nLeggi condividi e diffondi: PROGETTO PACE NEL MONDO – EDUCARE L’UMANITA’ ALLA PACE di Franco Libero Manco \nVisita il nostro sito Associazione Vegan Animalista \nMetti “Mi piace” sulla pagina Facebook del presidente Franco Libero Manco \nMetti “Mi piace” sulla nostra pagina Facebook AVA Associazione Vegan Animalista \nIscriviti alla nostra Newsletter \nVisiona iscriviti e condividi le nostre videoconferenze dal nostro canale Youtube \n Iscriviti ai nostri gruppi su Facebook: \nAVA Associazione Vegan Animalista \nSupporta Ippoasi e tutti i Rifugi di Animali Liberi \nI GIOVEDI’ CULTURALI DELL’AVA\nAssociazione Vegan Animalista APS \nLe conferenze si tengono in piazza Asti 5/a Roma \n(Metro Re di Roma\, uscita Vercelli\, trenino staz.ne Tuscolana o bus 85-81-16) \n—————————————– \nGiovedì 23 settembre ore 18\,00\, \n conferenza della  Dr.ssa Carla Rocchi\,  Presidente ENPA\, già Senatrice dei Verdi\, Antropologa\,  sul tema: \n“A CHE PUNTO E’ LA CAUSA ANIMALISTA IN ITALIA E NEL MONDO”\nLa Relatrice risponderà alle domande del pubblico. \nL’incontro si svolgerà secondo le prescrizioni anti-Covid \nPosti limitati. E’ necessaria la prenotazione al 3391406256 \nCERCASI AVVOCATO \ndisponibile come certificatore firme per il referendum abolizione caccia \ntel. 333 9633050 \n—————————— \nVERGOGNA DANIMARCA\, MILLE VOLTE VERGOGNA!\ndi Franco Libero Manco \nLa strage dei delfini in Danimarca fa sprofondare nella vergogna il mondo occidentale che solo per questo dovrebbe cessare di considerarsi civile. La sensibilità e l’intelligenza del delfino (tra le più belle creature del pianeta) è paragonabile a quella di un bambino di 4 anni. Trucidarli nel tradizionale Grindadrap è un’infamia che grida giustizia. Sia proscritto il danese che non si dissocia e condanna questa mattanza d’anime; sia proscritto chiunque giustifica questo orrore che fa vergognare di appartenere alla comunità europea. Se io fossi il presidente della repubblica chiederei l’immediato ritiro dell’ambasciatore e se avessi il potere di parlare ai delfini direi “State alla larga da questa progenie ingrata e malvagia\, diffidate degli umani\, fuggiteli e quando un umano (che non sia un bambino) è in pericolo di vita nel vostro mare\, quando sta per annegare o essere assalito dagli squali non salvatelo lasciate che si compia per lui quello che gli umani sanguinari lasciano che si compia per voi”. \nScriviamo all’Ambasciatore di Danimarca: romamb@um.dk \nSignor Ambasciatore la mattanza dei delfini nelle isole Faroe del vostro paese è una tradizione indegna di un popolo civile\, vera e propria strage degli innocenti di biblica memoria. Finchè non sarà abolita questa barbara tradizione non verremo in Danimarca e inviteremo amici e parenti a fare altrettanto. \nFirmato \n——————————— \nSe sei capace di percepire la bellezza ed il miracolo della vita\, l’intima essenza delle cose\, la perfezione di un essere vivente\, l’analogia tra te e un animale; se sai dare valore alla voce del cuore\, della coscienza e per questo aprirti alla compassione e condividere l’intima ispirazione alla pace\, l’indomabile anelito ad esistere di ogni creatura\, allora sei parte della nuova progenie umana. (flm) \n————– \n \nQuello della notte scorsa è stato il grind più sanguinario mai documentato\, Sea Shepherd riporta il numero esatto di animali uccisi: 1428.\nQuasi tutti massacrati dagli abitanti del posto\, alcuni dilaniati dalle eliche dei motori delle imbarcazioni. \nIl grindadráp (letteralmente: “macinare”) ogni anno costa la vita a centinaia di animali in un rito brutale e sanguinario a cui partecipano tutti\, bambini compresi. \nI cetacei vengono accerchiati dalle imbarcazioni e spinti verso riva\, dove decine di persone li aspettano\, pronti a massacrarli recidendo loro il midollo spinale di fronte agli altri abitanti delle isole che assistono allo spettacolo\, in una tradizione violenta e crudele. \nLe Fær Øer sono una regione autonoma della Danimarca\, il governo danese è connivente con la situazione e in passato ha inviato squadre di militari per difendere i cacciatori dagli attivisti e permettere loro di proseguire la mattanza. \nQuesto\, nonostante la caccia alle balene sia proibita.\nIgnorando una moratoria internazionale\, Fær Øer\, Giappone\, Norvegia\, Canada\, Islanda e pochi altri ignorano la normativa e proseguono più o meno indisturbati la caccia. \nNegli anni\, molti attivisti sono stati arrestati per aver agito contro la mattanza; le forze dell’ordine e il governo locali sostengono la “tradizione” e dal 2015\, oltre a punire chi cerca di salvare i cetacei\, è condannato anche chi avvista un gruppo di animali in mare e non lo segnala ai cacciatori\, in una escalation di follia macabra e esaltata. \nFino ad ora\, nulla è riuscito a fermarli. \nhttps://bit.ly/3lktU1F \nBasta delfinari\nShare on:
URL:https://associazionevegananimalista.it/event/a-che-punto-e-la-causa-animalista-in-italia-e-nel-mondo/
CATEGORIES:Eventi AVA 2021
ATTACH;FMTTYPE=image/jpeg:https://associazionevegananimalista.it/wp-content/uploads/2021/09/delfinidanim.jpg
END:VEVENT
BEGIN:VEVENT
DTSTART;TZID=Europe/Rome:20210930T180000
DTEND;TZID=Europe/Rome:20210930T200000
DTSTAMP:20260422T004807
CREATED:20210928T225036Z
LAST-MODIFIED:20210928T225036Z
UID:6232-1633024800-1633032000@associazionevegananimalista.it
SUMMARY:BENESSERE\, INTELLIGENZA E MEMORIA CON LA RESPIRAZIONE\, LE CURE NATURALI E LO YOGA
DESCRIPTION:«Io non conosco nessuna preghiera più bella di quella con cui si concludevano gli antichi spettacoli dell’India: “Possano tutti gli esseri viventi restare liberi dal dolore”» (Detto Indiano) \n~ Il Nostro Canto Libero ~ \nLeggi condividi e diffondi: PROGETTO PACE NEL MONDO – EDUCARE L’UMANITA’ ALLA PACE di Franco Libero Manco \nVisita il nostro sito Associazione Vegan Animalista \nMetti “Mi piace” sulla pagina Facebook del presidente Franco Libero Manco \nMetti “Mi piace” sulla nostra pagina Facebook AVA Associazione Vegan Animalista \nIscriviti alla nostra Newsletter \nVisiona iscriviti e condividi le nostre videoconferenze dal nostro canale Youtube \n Iscriviti ai nostri gruppi su Facebook: \nAVA Associazione Vegan Animalista \nSupporta Ippoasi e tutti i Rifugi di Animali Liberi \nI GIOVEDI’ CULTURALI DELL’AVA\nAssociazione Vegan Animalista APS \nLe conferenze si tengono in piazza Asti 5/a Roma \n(Metro Re di Roma\, uscita Vercelli\, trenino staz.ne Tuscolana o bus 85-81-16) \n—————————————– \nGiovedì 30 settembre ore 18\,00\, \n Conferenza della  Dr.ssa Lia Veneziani\, Insegnante di Yoga Yani\, Cromopuntore\, Operatore Olistico\, Igienistica\, Alimentazione Vegana\, cure naturali\, digiuno terapia\, naturopatia e fitocomplementi\, Presidente Associazione di Promozione Sociale Essenza APS\, Permacoltura\, Tai Chi\, Qi Gong\, sul tema: \n“BENESSERE\, INTELLIGENZA E MEMORIA CON LA RESPIRAZIONE\,\nLE CURE NATURALI E LO YOGA”\nL’INCONTRO SI SVOLGERA’ SECONDO LE PRESCRIZIONI ANTI-COVID \n——————— \nI CATARI\nIl più grande movimento vegan della storia\ndi Franco Libero Manco \nA dire di alcuni cronisti ed esponenti della prima Chiesa cristiana\, le antiche comunità osservavano l’astinenza dalla carne. Egisippo dice che molti esseni\, che erano rigorosamente vegetariani\, divennero cristiani\, col nome di Ebioniti o Nazirei e che transitarono nel cristianesimo influenzandone il pensiero e la condotta. Eusebio di Cesarea dice che tutti gli apostoli erano vegetariani\, S. Clemente Romano asserisce che Pietro mangiava solo pane\, olive e un po’ di verdura\, S. Girolamo afferma che nei primi secoli i veri cristiani si astenevano dalla carne e che coloro che mangiavano la carne facevano parte della chiesa corrotta\, e Tertulliano asseriva che nei primi secoli i cristiani non toccarono mai la carne. \nMa la corrente vegetariana che si era sviluppata all’interno del cristianesimo primitivo trovò l’opposizione della Chiesa che considera eretici i suoi seguaci fino alla loro persecuzione e l’annientamento di intere loro comunità\, come nel caso dei Càtari (Albigesi o Patarini). \nA mano a mano che i ricchi entrarono nella gestione della religione la Chiesa si distaccò dallo spirito originale e venne a generasi una demarcazione tra lo spiritualismo primitivo cristiano\, caratterizzato da austerità di costumi dei primi cristiani\, e la Chiesa ufficiale che divenne potente\, guerrafondaia\, corrotta\, spietata verso chiunque interferiva con le sue regole. Le regole dell’astinenza della carne furono bandite per favorire l’apertura della nuova religione non solo ai ricchi e all’imperatore Costantino ma alla  popolazione pagana. Iniziarono le persecuzioni verso i vegetariani considerati eretici e nel 385 con lo sterminio del vescovo Priscilliano ed i suoi seguaci si decretò la fine alla corrente vegetariana all’interno della Chiesa cattolica. \nQuando intorno al X secolo in Europa vi fu un generale risveglio spirituale nel desiderio di tornare alla semplicità di vita e alle regole delle prime comunità cristiane\, si sviluppò il movimento vegan più grosso della storia\, il Catarismo dal termine greco che significa “puro”. Questo movimento si sviluppò nel sud della Francia\, in Italia\, in  Germania\, in Bosnia\, Serbia\, Bulgaria\, nell’impero Bizantino. I Catari si rifacevano al messaggio di Cristo; erano asceti\, pacifisti\, digiunatori\, rifiutavano il matrimonio e la procreazione\, non possedevano ricchezze\, professavano la dottrina dualista e predicavano un’assoluta purezza di vita; condannavano tutto ciò che è carnale e terreno\, compreso il matrimonio\, la proprietà privata\, l’uso delle armi; erano  poveri\, semplici\, casti\, vestivano un abito nero ed andavano scalzi. Rispolverarono antichi testi gnostici\, scrissero vangeli in lingua volgare e pare che fu proprio la lettura di questi testi a portare  S. Francesco verso la sua dottrina ecologica.  Per i Càtari essere vegan era la condizione per diventare “perfetti” e faceva parte del giuramento che doveva prestare l’adepto”…Bisogna che facciate a Dio la promessa che non commetterete mai omicidio\, che mai volontariamente mangerete formaggio\, latte\, uova\, né carne di qualunque animale…”. \nI Càtari si dividevano in due categorie\, i “perfetti” che erano vegan\, cioè i capi di questa setta religiosa\, e i “credenti” che ancora non lo erano; La loro diffusione e la conversione delle masse al catarismo fu vastissima al punto da suscitare l’avversione della Chiesa che li perseguitò in tutta Europa fino a sterminarli con roghi e impiccagioni. Il modo di identificare un càtaro da parte degli inquisitori era ordinargli di uccidere un animale: coloro che si rifiutavano salivano sul patibolo. \nCosì nel 1209 per ordine di Innocenzo III (il papa che strappava i denti ad uno ad uno agli ebrei che non pagavano le tasse\, il papa che quando i francesi avevano minato il suo regno d’Inghilterra disse: “Spada\, spada esci dal tuo fodero e semina sterminio”\, il papa che prometteva il paradiso a chi avesse ucciso un albigese\, cioè un càtaro) ordì una vera crociata contro i Càtari condotta dal cavaliere Simon de Montfort che fu autorizzato a sterminare più gente che poteva senza fare prigionieri. E quando i crociati chiesero al legato papale Arnaldo Amalrico\, generale cistercense\, prima dell’invasione della città di Bézieres come avrebbero distinto i càtari rispose “Uccideteli tutti\, li riconoscerà Dio”. Al grido di “Vieni spirito santo” furono trucidate 20.000 persone  e la città fu distrutta. A Minerve 140 Catari furono spinti sulle fiamme di un’enorme catasta di legna; alcuni perfetti si gettarono senza essere spinti e senza un urlo di dolore. A Lovaur altri 400 perfetti furono bruciati su un’enorme pila. Il papa\, informato di ogni tappa della crociata in una lettera a Monfort scrisse: “Sia lode e grazie a Dio per ciò che ha operato nella sua clemenza contro i suoi nemici pestilenziali”. \nI pochi superstiti si rifugiarono nelle grotte o nei boschi da dove partivano per predicare e convertire la popolazione della Catalogna fino a circa il 1244 quando gli ultimi 220 catari rappresentanti del Catarismo rifugiatisi nel castello di Montsegar vicino Tolosa\, furono arsi al rogo decretando la fine del movimento càtaro in Europa. Anche S. Luigi Gonzaga diede il suo contributo organizzando nel 1229 un’inquisizione per eliminare il catarismo dalla Francia. Dopo 20 anni di guerra per estirpare i Catari i morti furono più di un milione. \nDa allora\, e per secoli\, la Chiesa vedrà in tutti coloro che per scelta etica rinunciassero a mangiare la carne\, un focolaio di eresia da ostacolare con ogni mezzo. La Chiesa con tali estremi tentativi di opporsi alla diffusione del veganismo e del vegetarismo confermava la sua antica posizione sancita in 4 differenti Concili in cui proibiva al clero l’astinenza dalla carne pena la destituzione dei pubblici ministeri. Nel Concilio di Ancyranum del 314 viene ribadita la ferma decisione di allontanare i religiosi che rifiutavano di mangiare la carne; nel Concilio Gangrense del 324 la Chiesa ritorna sullo stesso argomento per neutralizzare le molte tendenze in rispetto della vita degli animali; nel Concilio di Braga del 577 viene dichiarato da papa Benedetto I che se qualcuno giudica immonde le carni che Dio ha dato all’uomo per nutrirsi e non perché desidera mortificarsi\, si astiene dal mangiare queste carni\, su di lui anatema;  nel Concilio di Aquisgrana dell’816 viene stabilito che chi non osserva le regole della vita pratica deve essere allontanato dall’ordine religioso; i membri del clero che aborriscono le carni\, perfino gli ortaggi che si cuociono insieme ad esse\, devono essere allontanati dall’ordine. \nE mentre in Europa va spegnendosi l’ascetismo spirituale cristiano il veganismo resta circoscritto nei monasteri che da vegan diventano vegetariani\, poi con la conquista musulmana dei territori mediterranei l’ascetismo cristiano viene ereditato dalla religione islamica che trova nel Sufismo la corrente più rappresentativa.     Oggi il veganismo a buona ragione può essere considerato come la versione moderna del Catarismo con i suoi aspetti più o meno etici\, sociali\, religiosi o spirituali. \n  \nRACCOLTA FIRME REFERENDUM  PER L’ABOLIZIONE DELLA CACCIA\nÈ consigliabile firmare online considerando le difficoltà   sorte per la firma nei comuni\, \nmolto meglio firmare online evitando comuni e banchini. \n  \nPRIMA FIRMA \nhttps://raccoltafirme.cloud/app/user.html?codice=CACCIA157 \n  \nSECONDA FIRMA \nhttps://raccoltafirme.cloud/app/user.html?codice=CACCIA842 \n———————————————— \n \n#abolizionecaccia\nSe non avete ancora aderito\, fatelo.\nÈ possibile firmare fino al 20 ottobre. Non aspettiamo l’ultimo momento.\nLe modalità previste per apporre la propria firma sono diverse: da quella online a quella dei banchetti informativi che riportano il logo relativo al referendum. È possibile firmare anche nei Comuni delle nostre città e paesi. \nPer ogni informazione consultate il link che riportiamo. Questo  https://www.referendumsiaboliamolacaccia.it/ \nNoi abbiamo abbiamo già firmato. E Voi? \n__________\n“La caccia è un’altra forma di guerra” (W.G.) \n~ Il Nostro Canto Libero ~ \nShare on:
URL:https://associazionevegananimalista.it/event/benessere-intelligenza-e-memoria-con-la-respirazione-le-cure-naturali-e-lo-yoga/
CATEGORIES:Eventi AVA 2021
ATTACH;FMTTYPE=image/jpeg:https://associazionevegananimalista.it/wp-content/uploads/2021/09/elefcant.jpg
END:VEVENT
END:VCALENDAR