BEGIN:VCALENDAR
VERSION:2.0
PRODID:-//AVA - ECPv6.15.20//NONSGML v1.0//EN
CALSCALE:GREGORIAN
METHOD:PUBLISH
X-WR-CALNAME:AVA
X-ORIGINAL-URL:https://associazionevegananimalista.it
X-WR-CALDESC:Eventi per AVA
REFRESH-INTERVAL;VALUE=DURATION:PT1H
X-Robots-Tag:noindex
X-PUBLISHED-TTL:PT1H
BEGIN:VTIMEZONE
TZID:Europe/Rome
BEGIN:DAYLIGHT
TZOFFSETFROM:+0100
TZOFFSETTO:+0200
TZNAME:CEST
DTSTART:20210328T010000
END:DAYLIGHT
BEGIN:STANDARD
TZOFFSETFROM:+0200
TZOFFSETTO:+0100
TZNAME:CET
DTSTART:20211031T010000
END:STANDARD
BEGIN:DAYLIGHT
TZOFFSETFROM:+0100
TZOFFSETTO:+0200
TZNAME:CEST
DTSTART:20220327T010000
END:DAYLIGHT
BEGIN:STANDARD
TZOFFSETFROM:+0200
TZOFFSETTO:+0100
TZNAME:CET
DTSTART:20221030T010000
END:STANDARD
BEGIN:DAYLIGHT
TZOFFSETFROM:+0100
TZOFFSETTO:+0200
TZNAME:CEST
DTSTART:20230326T010000
END:DAYLIGHT
BEGIN:STANDARD
TZOFFSETFROM:+0200
TZOFFSETTO:+0100
TZNAME:CET
DTSTART:20231029T010000
END:STANDARD
END:VTIMEZONE
BEGIN:VEVENT
DTSTART;TZID=Europe/Rome:20220113T180000
DTEND;TZID=Europe/Rome:20220113T200000
DTSTAMP:20260421T174054
CREATED:20220110T214630Z
LAST-MODIFIED:20220110T214630Z
UID:6377-1642096800-1642104000@associazionevegananimalista.it
SUMMARY:TOSSIEMIA\, MADRE DI TUTTE LE MALATTIE
DESCRIPTION:Il mondo sarebbe davvero un posto migliore se tutti amassero così\, fossero così. \nSilvia Bandini \nLeggi condividi e diffondi: PROGETTO PACE NEL MONDO – EDUCARE L’UMANITA’ ALLA PACE di Franco Libero Manco \nVisita il nostro sito Associazione Vegan Animalista \nMetti “Mi piace” sulla pagina Facebook del presidente Franco Libero Manco \nMetti “Mi piace” sulla nostra pagina Facebook AVA Associazione Vegan Animalista \nIscriviti alla nostra Newsletter \nVisiona iscriviti e condividi le nostre videoconferenze dal nostro canale Youtube \n Iscriviti ai nostri gruppi su Facebook: \nAVA Associazione Vegan Animalista \nSupporta Ippoasi e tutti i Rifugi di Animali Liberi \nINAUGURAZIONE NUOVA SEDE AVA E CONFERENZA DEL PROF SENNI: “TOSSIEMIA\, MADRE DI TUTTE LE MALATTIE”\n“TOSSIEMIA\, MADRE DI TUTTE LE MALATTIE”\nGiovedì 13 gennaio ore 18\,00\, via dei Rogazionisti 3 \n(a 100 mt dalla sede di piazza Asti\, la strada a sinistra dalla chiesa\,) \nConferenza del Prof. Antonello Senni\, Scienze Bio e Nutrizione Umana\, Ecologo\, Evoluzionista\, \nAntropologo\, Genomica Nutr.le\, già Dirig. Gen. Min. Ambiente \ne Dipart. Protez. Civile\, Doc. Educaz. Alimentare e Cucina Dietetica \nLA CONFERENZA SI SVOLGERA’ SECONDO LE PRESCRIZIONI ANTI COVID \nE’ NECESSARIO INDOSSARE LA MASCHERINA \nINAUGURAZIONE CON APERITIVO ALLE ORE 17\,00 \n………………………………. \n“Il vegano vive in buona salute non perché esclude la carne  dalla sua dieta ma perché ha uno stile di vita più sano”. Questa affermazione è un nostro punto di forza dal momento che ha lo scopo di indurre la persona ad una maggiore consapevolezza verso un più corretto stile di vita. Ma non è vero che sia solo questo il motivo della buona salute dei vegani. \nPer vivere in salute non è tanto importante quello che si mangia quanto ciò che si esclude dalla propria dieta. Se mangiassimo il cibo degli dei ma contestualmente consumassimo cicuta la nostra salute sarebbe ugualmente minacciata. La carne è un alimento incompatibile con il nostro organismo e quindi portatore di moltissime malattie.\n“Non esistono cibi buoni e cibi cattivi”. Ci sono certamente cibi buoni e cattivi. Infatti la mucca non mangia indistintamente tutte le erbe del campo ma solo quelle buone\, adatte alla sua specie. E ogni specie fa lo stesso. Tutte le ricerche indipendenti di scienziati\, medici\, chimici\, biologi ecc. dimostrano la correlazione diretta tra aumento di malattie\, consumo di prodotti animali e cibi industriali. La carne\, il pesce\, i formaggi e derivati sono la principale causa delle peggiori patologie moderne. La dimostrazione pratica\, tangibile del danno che producono\, viene confermata da coloro che aderendo a questo tipo di alimentazione si liberano di molte patologie. Il più corretto stile di vita che prevede un’alimentazione di carnami è peggiore della peggiore dieta vegana. \n \n“Insegnare ad un bambino a non calpestare un bruco\nè importante per il bambino come per il bruco.\n☆Bradley Millar☆ \nFelines\nShare on:
URL:https://associazionevegananimalista.it/event/tossiemia-madre-di-tutte-le-malattie/
CATEGORIES:Eventi AVA 2022
ATTACH;FMTTYPE=image/jpeg:https://associazionevegananimalista.it/wp-content/uploads/2022/01/silviadog.jpg
END:VEVENT
BEGIN:VEVENT
DTSTART;TZID=Europe/Rome:20220120T180000
DTEND;TZID=Europe/Rome:20220120T200000
DTSTAMP:20260421T174054
CREATED:20220118T220158Z
LAST-MODIFIED:20220118T220158Z
UID:6388-1642701600-1642708800@associazionevegananimalista.it
SUMMARY:LA REINCARNAZIONE  PER GLI UMANI\, GLI ANIMALI ED ALTRE FORME DI VITA. TESTIMONIANZE SOGGETTIVE IN IPNOSI REGRESSIVA
DESCRIPTION:“Se l’umanità ha una speranza di sopravvivenza\, questa è nel ritrovare un equilibrio con la natura. Il seme di quell’equilibrio è nella saggezza “primitiva” che\, strada facendo\, abbiamo dimenticato. Non è indispensabile andare lontano per scoprire dei tesori” (Tiziano Terzani) \nLeggi condividi e diffondi: PROGETTO PACE NEL MONDO – EDUCARE L’UMANITA’ ALLA PACE di Franco Libero Manco \nVisita il nostro sito Associazione Vegan Animalista \nMetti “Mi piace” sulla pagina Facebook del presidente Franco Libero Manco \nMetti “Mi piace” sulla nostra pagina Facebook AVA Associazione Vegan Animalista \nIscriviti alla nostra Newsletter \nVisiona iscriviti e condividi le nostre videoconferenze dal nostro canale Youtube \n Iscriviti ai nostri gruppi su Facebook: \nAVA Associazione Vegan Animalista \nSupporta Ippoasi e tutti i Rifugi di Animali Liberi \n“Ogni filo d’erba ha il suo angelo chino su di lui che sussurra:”Cresci\, cresci” (Talmud).\n“Quando si vede un gran numero di uomini aridi\, vuoti e crudeli\, collerici\, avidi\, feroci\, tirannici assassini dei loro stessi bambini o dei loro genitori\, non è una follia pensare che noi abbiamo dei doveri verso di essi solo perché appartengono alla specie umana\, mentre verso il bue da lavoro\, la mucca da latte\, il cane\, il mulo\, la pecora\, il cavallo non ne abbiamo alcuno”? (Plutarco) \nCHI SONO IO?\nDimmi\, o Spirito Supremo\, \ntu che aleggi nel centro di ogni essere \ne permei ogni dimensione sconosciuta\, \nchi sono io che vivo un solo istante \nin questo corpo di atomi pensanti? \n“Tu sei uomo e donna e nulla di tutto questo. \nSei spirito e materia e nulla di tutto questo. \nIn te vive l’universo infinito \ne ciò che sta oltre l’apparenza delle cose. \nTu sei la sintesi di tutto ciò che ti precede nel tempo \ne sei il tempo che precede le cose. \nSei l’acqua che scorre nei ruscelli \ne il fuoco divorante dei vulcani. \nIl respiro del vento ti pulsa nelle vene \ne la zolla spaccata dal vomere \nè parte della tua più intima natura. \nMa sei anche la lucciola che illumina la sera \nbruciandosi d’amore \ne sei l’esile foglia che cade in autunno. \nSei la gioia della vita che boccia \ne il dolore del ramo spezzato. \nTu appartieni alla luce  dorata \nche danza sulla spuma del mare \ne alla notte che sprofonda negli abissi della materia. \nTutto questo tu sei e nulla di tutto questo \nperché questo Io sono e nulla di tutto questo.” \nFranco Libero Manco \n——————————— \nLA REINCARNAZIONE  PER GLI UMANI\, GLI ANIMALI ED ALTRE FORME DI VITA. TESTIMONIANZE SOGGETTIVE IN IPNOSI REGRESSIVA\nGiovedì 20 gennaio ore 18\,00\, via dei Rogazionisti n.3 \nConferenza del Dr. Evaldo Cavallaro\, Psicologo e Psicoterapeuta\, Esperto di Ipnosi Regressiva e Motivazionale \nLA CONFERENZA SI SVOLGERA’ SECONDO LE PRESCRIZIONI ANTI COVID \nPOSTI LIMITATI\, E’ NECESSARIA LA PRENOTAZIONE AL TEL 3391406256 \n \nNella “normalità” dell’allevamento Jasna avrebbe avuto due sole possibilità…\nEssere tenuta segregata come\, accaduto alla madre\, per diventare una “riproduttrice” e anno dopo anno essere continuamente stuprata per partorire nuovi schiavi di cui questo sistema è vorace.\nOppure essere imprigionata e messa “all’ingrasso” per poi\, alla fine essere uccisa e fatta a pezzi per “ingrassare” le tavole dei ciechi e insensibili consumatori finali. \nEd invece… \nJasna è nata qui al rifugio\, simbolo vivente di un meccanismo di mero dominio – finalmente – interrotto con la liberazione di sua madre Harriet. \nRifugio Jill Phipps\nShare on:
URL:https://associazionevegananimalista.it/event/la-reincarnazione-per-gli-umani-gli-animali-ed-altre-forme-di-vita-testimonianze-soggettive-in-ipnosi-regressiva/
CATEGORIES:Eventi AVA 2022
ATTACH;FMTTYPE=image/jpeg:https://associazionevegananimalista.it/wp-content/uploads/2022/01/janaphipps.jpg
END:VEVENT
END:VCALENDAR