BEGIN:VCALENDAR
VERSION:2.0
PRODID:-//AVA - ECPv6.15.20//NONSGML v1.0//EN
CALSCALE:GREGORIAN
METHOD:PUBLISH
X-ORIGINAL-URL:https://associazionevegananimalista.it
X-WR-CALDESC:Eventi per AVA
REFRESH-INTERVAL;VALUE=DURATION:PT1H
X-Robots-Tag:noindex
X-PUBLISHED-TTL:PT1H
BEGIN:VTIMEZONE
TZID:Europe/Rome
BEGIN:DAYLIGHT
TZOFFSETFROM:+0100
TZOFFSETTO:+0200
TZNAME:CEST
DTSTART:20220327T010000
END:DAYLIGHT
BEGIN:STANDARD
TZOFFSETFROM:+0200
TZOFFSETTO:+0100
TZNAME:CET
DTSTART:20221030T010000
END:STANDARD
BEGIN:DAYLIGHT
TZOFFSETFROM:+0100
TZOFFSETTO:+0200
TZNAME:CEST
DTSTART:20230326T010000
END:DAYLIGHT
BEGIN:STANDARD
TZOFFSETFROM:+0200
TZOFFSETTO:+0100
TZNAME:CET
DTSTART:20231029T010000
END:STANDARD
BEGIN:DAYLIGHT
TZOFFSETFROM:+0100
TZOFFSETTO:+0200
TZNAME:CEST
DTSTART:20240331T010000
END:DAYLIGHT
BEGIN:STANDARD
TZOFFSETFROM:+0200
TZOFFSETTO:+0100
TZNAME:CET
DTSTART:20241027T010000
END:STANDARD
END:VTIMEZONE
BEGIN:VEVENT
DTSTART;TZID=Europe/Rome:20230501T080000
DTEND;TZID=Europe/Rome:20230501T233000
DTSTAMP:20260420T122451
CREATED:20200521T092917Z
LAST-MODIFIED:20230331T181932Z
UID:4860-1682928000-1682983800@associazionevegananimalista.it
SUMMARY:"Non metterti a discutere con un imbecille. Ti trascina al suo livello e ti batte con l'esperienza" (Oscar Wilde)
DESCRIPTION:“Non metterti a discutere con un imbecille. Ti trascina al suo livello e ti batte con l’esperienza”\n\n\n(Oscar Wilde)\n\n\n\nLeggi condividi e diffondi: PROGETTO PACE NEL MONDO – EDUCARE L’UMANITA’ ALLA PACE di Franco Libero Manco \nVisita il nostro sito Associazione Vegan Animalista \nMetti “Mi piace” sulla pagina Facebook del presidente Franco Libero Manco \nMetti “Mi piace” sulla nostra pagina Facebook AVA Associazione Vegan Animalista \nIscriviti alla nostra Newsletter \nVisiona iscriviti e condividi le nostre videoconferenze dal nostro canale Youtube \n Iscriviti ai nostri gruppi su Facebook: \nAVA Associazione Vegan Animalista \nSupporta Agripunk e tutti i Rifugi di Animali Liberi \n\n\n \n\n\n\n\n\nShare on:
URL:https://associazionevegananimalista.it/event/non-metterti-a-discutere-con-un-imbecille-ti-trascina-al-suo-livello-e-ti-batte-con-lesperienza-oscar-wilde/
CATEGORIES:Citazioni
ATTACH;FMTTYPE=image/jpeg:https://associazionevegananimalista.it/wp-content/uploads/2020/05/aaaaaaaserp9.jpg
END:VEVENT
BEGIN:VEVENT
DTSTART;TZID=Europe/Rome:20230503T080000
DTEND;TZID=Europe/Rome:20230503T233000
DTSTAMP:20260420T122451
CREATED:20200524T095400Z
LAST-MODIFIED:20230402T181841Z
UID:4877-1683100800-1683156600@associazionevegananimalista.it
SUMMARY:Gli uomini sono delle creature con due gambe e otto mani. (Jane Mansfield)
DESCRIPTION:Gli uomini sono delle creature con due gambe e otto mani.\n\n\n(Jane Mansfield)\n\nLeggi condividi e diffondi: PROGETTO PACE NEL MONDO – EDUCARE L’UMANITA’ ALLA PACE di Franco Libero Manco \nVisita il nostro sito Associazione Vegan Animalista \nMetti “Mi piace” sulla pagina Facebook del presidente Franco Libero Manco \nMetti “Mi piace” sulla nostra pagina Facebook AVA Associazione Vegan Animalista \nIscriviti alla nostra Newsletter \nVisiona iscriviti e condividi le nostre videoconferenze dal nostro canale Youtube \n Iscriviti ai nostri gruppi su Facebook: \nAVA Associazione Vegan Animalista \nSupporta Agripunk e tutti i Rifugi di Animali Liberi \n\n \n\n\n\n\n\nShare on:
URL:https://associazionevegananimalista.it/event/gli-uomini-sono-delle-creature-con-due-gambe-e-otto-mani-jane-mansfield/
CATEGORIES:Citazioni
ATTACH;FMTTYPE=image/jpeg:https://associazionevegananimalista.it/wp-content/uploads/2020/05/aaaaaacatfin.jpg
END:VEVENT
BEGIN:VEVENT
DTSTART;TZID=Europe/Rome:20230505T080000
DTEND;TZID=Europe/Rome:20230505T233000
DTSTAMP:20260420T122451
CREATED:20200607T094550Z
LAST-MODIFIED:20230405T110121Z
UID:4933-1683273600-1683329400@associazionevegananimalista.it
SUMMARY:La felicità è come una farfalla: se l’insegui non riesci mai a prenderla\, ma se ti metti tranquillo può anche posarsi su di te. (Nathaniel Hawthorne)
DESCRIPTION:La felicità è come una farfalla: se l’insegui non riesci mai a prenderla\, ma se ti metti tranquillo può anche posarsi su di te.\n\n\n(Nathaniel Hawthorne)\nLeggi condividi e diffondi: PROGETTO PACE NEL MONDO – EDUCARE L’UMANITA’ ALLA PACE di Franco Libero Manco \nVisita il nostro sito Associazione Vegan Animalista \nMetti “Mi piace” sulla pagina Facebook del presidente Franco Libero Manco \nMetti “Mi piace” sulla nostra pagina Facebook AVA Associazione Vegan Animalista \nVieni a trovarci presso la nostra sede di Roma in Piazza Asti\, 5/A  \nVisiona iscriviti e condividi le nostre videoconferenze dal nostro canale Youtube \n Iscriviti ai nostri gruppi su Facebook: \nAVA Associazione Vegan Animalista \nSupporta Agripunk e tutti i Rifugi di Animali Liberi \n\n\n \n\n\n\n\n\nShare on:
URL:https://associazionevegananimalista.it/event/la-felicita-e-come-una-farfalla-se-linsegui-non-riesci-mai-a-prenderla-ma-se-ti-metti-tranquillo-puo-anche-posarsi-su-di-te-nathaniel-hawthorne/
CATEGORIES:Citazioni
ATTACH;FMTTYPE=image/jpeg:https://associazionevegananimalista.it/wp-content/uploads/2020/06/aaaaaafarfa234.jpg
END:VEVENT
BEGIN:VEVENT
DTSTART;TZID=Europe/Rome:20230506T080000
DTEND;TZID=Europe/Rome:20230506T233000
DTSTAMP:20260420T122451
CREATED:20200507T090903Z
LAST-MODIFIED:20230405T175644Z
UID:4794-1683360000-1683415800@associazionevegananimalista.it
SUMMARY:Mio padre era talmente distratto che\, quando andai da lui per dirgli che ero incinta\, mi chiese: "Sei sicura che sia tuo?".
DESCRIPTION:Mio padre era talmente distratto che\, quando andai da lui per dirgli che ero incinta\, mi chiese: “Sei sicura che sia tuo?”.\nLeggi condividi e diffondi: PROGETTO PACE NEL MONDO – EDUCARE L’UMANITA’ ALLA PACE di Franco Libero Manco \nVisita il nostro sito Associazione Vegan Animalista \nMetti “Mi piace” sulla pagina Facebook del presidente Franco Libero Manco \nMetti “Mi piace” sulla nostra pagina Facebook AVA Associazione Vegan Animalista \nIscriviti alla nostra Newsletter \nVisiona iscriviti e condividi le nostre videoconferenze dal nostro canale Youtube \n Iscriviti ai nostri gruppi su Facebook: \nAVA Associazione Vegan Animalista \nSupporta Agripunk e tutti i Rifugi di Animali Liberi \n\n\n \n\n\n\n\n\nShare on:
URL:https://associazionevegananimalista.it/event/mio-padre-era-talmente-distratto-che-quando-andai-da-lui-per-dirgli-che-ero-incinta-mi-chiese-sei-sicura-che-sia-tuo/
CATEGORIES:Citazioni
ATTACH;FMTTYPE=image/jpeg:https://associazionevegananimalista.it/wp-content/uploads/2020/05/leopardo.jpg
END:VEVENT
BEGIN:VEVENT
DTSTART;TZID=Europe/Rome:20230507T080000
DTEND;TZID=Europe/Rome:20230507T233000
DTSTAMP:20260420T122451
CREATED:20200522T093609Z
LAST-MODIFIED:20230407T194605Z
UID:4868-1683446400-1683502200@associazionevegananimalista.it
SUMMARY:Non so se Dio esiste\, ma se non esiste ci fa una figura migliore. (Stefano Benni)
DESCRIPTION:Non so se Dio esiste\, ma se non esiste ci fa una figura migliore.\n\n\n(Stefano Benni)\n\n\n\nLeggi condividi e diffondi: PROGETTO PACE NEL MONDO – EDUCARE L’UMANITA’ ALLA PACE di Franco Libero Manco \nVisita il nostro sito Associazione Vegan Animalista \nMetti “Mi piace” sulla pagina Facebook del presidente Franco Libero Manco \nMetti “Mi piace” sulla nostra pagina Facebook AVA Associazione Vegan Animalista \nIscriviti alla nostra Newsletter \nVisiona iscriviti e condividi le nostre videoconferenze dal nostro canale Youtube \n Iscriviti ai nostri gruppi su Facebook: \nAVA Associazione Vegan Animalista \nSupporta Agripunk e tutti i Rifugi di Animali Liberi \n\n\n \n\n\n\n\n\nShare on:
URL:https://associazionevegananimalista.it/event/non-so-se-dio-esiste-ma-se-non-esiste-ci-fa-una-figura-migliore-stefano-benni/
CATEGORIES:Citazioni
ATTACH;FMTTYPE=image/jpeg:https://associazionevegananimalista.it/wp-content/uploads/2020/05/aaaaaaaacamal.jpg
END:VEVENT
BEGIN:VEVENT
DTSTART;TZID=Europe/Rome:20230511T080000
DTEND;TZID=Europe/Rome:20230511T233000
DTSTAMP:20260420T122451
CREATED:20200526T100624Z
LAST-MODIFIED:20230411T174141Z
UID:4886-1683792000-1683847800@associazionevegananimalista.it
SUMMARY:I miei genitori mi mandano spesso a trascorrere l'estate coi nonni. Ma io detesto i cimiteri. (Chris Fonseca)
DESCRIPTION:I miei genitori mi mandano spesso a trascorrere l’estate coi nonni. Ma io detesto i cimiteri.\n\n\n(Chris Fonseca)\nLeggi condividi e diffondi: PROGETTO PACE NEL MONDO – EDUCARE L’UMANITA’ ALLA PACE di Franco Libero Manco \nVisita il nostro sito Associazione Vegan Animalista \nMetti “Mi piace” sulla pagina Facebook del presidente Franco Libero Manco \nMetti “Mi piace” sulla nostra pagina Facebook AVA Associazione Vegan Animalista \nVieni a trovarci presso la nostra sede di Roma in Piazza Asti\, 5/A  \nVisiona iscriviti e condividi le nostre videoconferenze dal nostro canale Youtube \n Iscriviti ai nostri gruppi su Facebook: \nAVA Associazione Vegan Animalista \nSupporta Agripunk e tutti i Rifugi di Animali Liberi \n\n\n \n\n\n\n\n\nShare on:
URL:https://associazionevegananimalista.it/event/i-miei-genitori-mi-mandano-spesso-a-trascorrere-lestate-coi-nonni-ma-io-detesto-i-cimiteri-chris-fonseca/
CATEGORIES:Citazioni
ATTACH;FMTTYPE=image/jpeg:https://associazionevegananimalista.it/wp-content/uploads/2020/05/aaaaaaaamyr.jpg
END:VEVENT
BEGIN:VEVENT
DTSTART;TZID=Europe/Rome:20230512T080000
DTEND;TZID=Europe/Rome:20230512T233000
DTSTAMP:20260420T122451
CREATED:20200525T102501Z
LAST-MODIFIED:20230412T183854Z
UID:4880-1683878400-1683934200@associazionevegananimalista.it
SUMMARY:Molti bambini piccoli si divertono un mondo a dare da mangiare alle anatre\, ed è un piacere che non sembra svanire quando diventano adulti. (Jeffrey Moussaieff Masson)
DESCRIPTION:Molti bambini piccoli si divertono un mondo a dare da mangiare alle anatre\, ed è un piacere che non sembra svanire quando diventano adulti.\n\n\n(Jeffrey Moussaieff Masson)\n\n\n\nLeggi condividi e diffondi: PROGETTO PACE NEL MONDO – EDUCARE L’UMANITA’ ALLA PACE di Franco Libero Manco \nVisita il nostro sito Associazione Vegan Animalista \nMetti “Mi piace” sulla pagina Facebook del presidente Franco Libero Manco \nMetti “Mi piace” sulla nostra pagina Facebook AVA Associazione Vegan Animalista \nIscriviti alla nostra Newsletter \nVisiona iscriviti e condividi le nostre videoconferenze dal nostro canale Youtube \n Iscriviti ai nostri gruppi su Facebook: \nAVA Associazione Vegan Animalista \nSupporta Agripunk e tutti i Rifugi di Animali Liberi \n\n\n \n\n\n\n\n\nShare on:
URL:https://associazionevegananimalista.it/event/molti-bambini-piccoli-si-divertono-un-mondo-a-dare-da-mangiare-alle-anatre-ed-e-un-piacere-che-non-sembra-svanire-quando-diventano-adulti-jeffrey-moussaieff-masson/
CATEGORIES:Citazioni
ATTACH;FMTTYPE=image/jpeg:https://associazionevegananimalista.it/wp-content/uploads/2020/05/aaaaaaaaapapere.jpg
END:VEVENT
BEGIN:VEVENT
DTSTART;TZID=Europe/Rome:20230513T080000
DTEND;TZID=Europe/Rome:20230513T233000
DTSTAMP:20260420T122451
CREATED:20200527T101944Z
LAST-MODIFIED:20230413T175323Z
UID:4890-1683964800-1684020600@associazionevegananimalista.it
SUMMARY:I gatti sono destinati a insegnarci che in natura non tutto ha uno scopo.  (Garrison Keillor)
DESCRIPTION:I gatti sono destinati a insegnarci che in natura non tutto ha uno scopo.\n(Garrison Keillor)\nLeggi condividi e diffondi: PROGETTO PACE NEL MONDO – EDUCARE L’UMANITA’ ALLA PACE di Franco Libero Manco \nVisita il nostro sito Associazione Vegan Animalista \nMetti “Mi piace” sulla pagina Facebook del presidente Franco Libero Manco \nMetti “Mi piace” sulla nostra pagina Facebook AVA Associazione Vegan Animalista \nVieni a trovarci presso la nostra sede di Roma in Piazza Asti\, 5/A  \nVisiona iscriviti e condividi le nostre videoconferenze dal nostro canale Youtube \n Iscriviti ai nostri gruppi su Facebook: \nAVA Associazione Vegan Animalista \nSupporta Agripunk e tutti i Rifugi di Animali Liberi \nShare on:
URL:https://associazionevegananimalista.it/event/i-gatti-sono-destinati-a-insegnarci-che-in-natura-non-tutto-ha-uno-scopo-garrison-keillor/
CATEGORIES:Citazioni
ATTACH;FMTTYPE=image/jpeg:https://associazionevegananimalista.it/wp-content/uploads/2020/05/aaaaattesa-1.jpg
END:VEVENT
BEGIN:VEVENT
DTSTART;TZID=Europe/Rome:20230514T080000
DTEND;TZID=Europe/Rome:20230514T233000
DTSTAMP:20260420T122451
CREATED:20200530T111111Z
LAST-MODIFIED:20230414T214018Z
UID:4899-1684051200-1684107000@associazionevegananimalista.it
SUMMARY:"Perchè vi ostinate a vivere quando noi vi seppelliamo con soli cento dollari?"
DESCRIPTION:“Perchè vi ostinate a vivere quando noi vi seppelliamo con soli cento dollari?”\n\n(Slogan pubblicitario sul carro funebre nel film – C’era una volta in America – https://it.wikipedia.org/wiki/C%27era_una_volta_in_America)\n\n \n\n\n\nLeggi condividi e diffondi: PROGETTO PACE NEL MONDO – EDUCARE L’UMANITA’ ALLA PACE di Franco Libero Manco \nVisita il nostro sito Associazione Vegan Animalista \nMetti “Mi piace” sulla pagina Facebook del presidente Franco Libero Manco \nMetti “Mi piace” sulla nostra pagina Facebook AVA Associazione Vegan Animalista \nVieni a trovarci presso la nostra sede di Roma in Piazza Asti\, 5/A  \nVisiona iscriviti e condividi le nostre videoconferenze dal nostro canale Youtube \n Iscriviti ai nostri gruppi su Facebook: \nAVA Associazione Vegan Animalista \nSupporta Agripunk e tutti i Rifugi di Animali Liberi \n\n\nShare on:
URL:https://associazionevegananimalista.it/event/perche-vi-ostinate-a-vivere-quando-noi-vi-seppelliamo-con-soli-cento-dollari/
CATEGORIES:Citazioni
ATTACH;FMTTYPE=image/jpeg:https://associazionevegananimalista.it/wp-content/uploads/2020/05/aaaaaaaagattarrabb.jpg
END:VEVENT
BEGIN:VEVENT
DTSTART;TZID=Europe/Rome:20230515T080000
DTEND;TZID=Europe/Rome:20230515T233000
DTSTAMP:20260420T122451
CREATED:20200624T095336Z
LAST-MODIFIED:20230415T093349Z
UID:5010-1684137600-1684193400@associazionevegananimalista.it
SUMMARY:"Abbiamo praticamente dimenticato come sia strano che un animale così grande\, possente e intelligente come il #cavallo... permetta a un altro\, ben più debole animale\, di montargli in groppa". (Peter Gray)
DESCRIPTION:“Abbiamo praticamente dimenticato come sia strano che un animale così grande\, possente e intelligente come il #cavallo… permetta a un altro\, ben più debole animale\, di montargli in groppa”. \n\n\n(Peter Gray)\n\n\n\nLeggi condividi e diffondi: PROGETTO PACE NEL MONDO – EDUCARE L’UMANITA’ ALLA PACE di Franco Libero Manco \nVisita il nostro sito Associazione Vegan Animalista \nMetti “Mi piace” sulla pagina Facebook del presidente Franco Libero Manco \nMetti “Mi piace” sulla nostra pagina Facebook AVA Associazione Vegan Animalista \nVieni a trovarci presso la nostra sede di Roma in Piazza Asti\, 5/A  \nVisiona iscriviti e condividi le nostre videoconferenze dal nostro canale Youtube \n Iscriviti ai nostri gruppi su Facebook: \nAVA Associazione Vegan Animalista \nSupporta Agripunk e tutti i Rifugi di Animali Liberi \n\n\n\n\n\n\nShare on:
URL:https://associazionevegananimalista.it/event/abbiamo-praticamente-dimenticato-come-sia-strano-che-un-animale-cosi-grande-possente-e-intelligente-come-il-cavallo-permetta-a-un-altro-ben-piu-debole-animale-di-montargli-in-groppa-peter-2/
CATEGORIES:Citazioni
ATTACH;FMTTYPE=image/jpeg:https://associazionevegananimalista.it/wp-content/uploads/2020/06/aaaacavalli98.jpg
END:VEVENT
BEGIN:VEVENT
DTSTART;TZID=Europe/Rome:20230524T080000
DTEND;TZID=Europe/Rome:20230524T233000
DTSTAMP:20260420T122451
CREATED:20200427T095052Z
LAST-MODIFIED:20230424T211944Z
UID:4745-1684915200-1684971000@associazionevegananimalista.it
SUMMARY:Se lei si spiega con un esempio\, non capisco più niente. (Ennio Flaiano)
DESCRIPTION:Se lei si spiega con un esempio\, non capisco più niente. (Ennio Flaiano)\nLeggi condividi e diffondi: PROGETTO PACE NEL MONDO – EDUCARE L’UMANITA’ ALLA PACE di Franco Libero Manco \nVisita il nostro sito Associazione Vegan Animalista \nMetti “Mi piace” sulla pagina Facebook del presidente Franco Libero Manco \nMetti “Mi piace” sulla nostra pagina Facebook AVA Associazione Vegan Animalista \nVieni a trovarci presso la nostra sede di Roma in Piazza Asti\, 5/A  \nVisiona iscriviti e condividi le nostre videoconferenze dal nostro canale Youtube \n Iscriviti ai nostri gruppi su Facebook: \nAVA Associazione Vegan Animalista \nSupporta Agripunk e tutti i Rifugi di Animali Liberi \nShare on:
URL:https://associazionevegananimalista.it/event/se-lei-si-spiega-con-un-esempio-non-capisco-piu-niente-ennio-flaiano/
CATEGORIES:Citazioni
ATTACH;FMTTYPE=image/jpeg:https://associazionevegananimalista.it/wp-content/uploads/2020/04/ararosso.jpg
END:VEVENT
BEGIN:VEVENT
DTSTART;TZID=Europe/Rome:20230526T080000
DTEND;TZID=Europe/Rome:20230526T233000
DTSTAMP:20260420T122451
CREATED:20200601T110146Z
LAST-MODIFIED:20230426T203011Z
UID:4908-1685088000-1685143800@associazionevegananimalista.it
SUMMARY:Bisogna tenersi in forma. Mia nonna\, all'età di sessant'anni\, ha cominciato a farsi cinque chilometri a piedi ogni giorno\, tutti i giorni\, adesso ha 97 anni e non sappiamo dove diavolo sia andata a finire.  (Ellen Degeneris)
DESCRIPTION:Bisogna tenersi in forma. Mia nonna\, all’età di sessant’anni\, ha cominciato a farsi cinque chilometri a piedi ogni giorno\, tutti i giorni\, adesso ha 97 anni e non sappiamo dove diavolo sia andata a finire.\n(Ellen Degeneris)\nLeggi condividi e diffondi: PROGETTO PACE NEL MONDO – EDUCARE L’UMANITA’ ALLA PACE di Franco Libero Manco \nVisita il nostro sito Associazione Vegan Animalista \nMetti “Mi piace” sulla pagina Facebook del presidente Franco Libero Manco \nMetti “Mi piace” sulla nostra pagina Facebook AVA Associazione Vegan Animalista \nVieni a trovarci presso la nostra sede di Roma in Piazza Asti\, 5/A  \nVisiona iscriviti e condividi le nostre videoconferenze dal nostro canale Youtube \n Iscriviti ai nostri gruppi su Facebook: \nAVA Associazione Vegan Animalista \nSupporta Agripunk e tutti i Rifugi di Animali Liberi \n  \nShare on:
URL:https://associazionevegananimalista.it/event/bisogna-tenersi-in-forma-mia-nonna-alleta-di-sessantanni-ha-cominciato-a-farsi-cinque-chilometri-a-piedi-ogni-giorno-tutti-i-giorni-adesso-ha-97-anni-e-non-sappiamo-dove-diavolo-sia-andata-a/
CATEGORIES:Citazioni
ATTACH;FMTTYPE=image/jpeg:https://associazionevegananimalista.it/wp-content/uploads/2020/06/rino6.jpg
END:VEVENT
BEGIN:VEVENT
DTSTART;TZID=Europe/Rome:20230527T080000
DTEND;TZID=Europe/Rome:20230527T233000
DTSTAMP:20260420T122451
CREATED:20200602T112704Z
LAST-MODIFIED:20230427T175954Z
UID:4911-1685174400-1685230200@associazionevegananimalista.it
SUMMARY:Qui giace Piero D'Avenza cittadino integerrimo...
DESCRIPTION:Qui giace Piero D’Avenza cittadino integerrimo\,lavoratore indefesso\, sposo e padre esemplare\, figlio amorosissimo\, fratello discreto\,cugino soddisfacente\,cognato passabile\,genero detestabile\, prozio tenerissimo\, biscugino senza particolare rilievo\, nipote insignificante\, pronipote modello\, suocero insuperabile\, amico pignolo\, debitore insolvibile\, vicino di casa un poco rumoroso\, nonno futuro\, antenato impareggiabile\, morto esigente. Una prece! A lui i posteri diranno un giorno:Grazie\, arcavolo!\n\n\n(Achille Campanile)\n\n\nLeggi condividi e diffondi: PROGETTO PACE NEL MONDO – EDUCARE L’UMANITA’ ALLA PACE di Franco Libero Manco \nVisita il nostro sito Associazione Vegan Animalista \nMetti “Mi piace” sulla pagina Facebook del presidente Franco Libero Manco \nMetti “Mi piace” sulla nostra pagina Facebook AVA Associazione Vegan Animalista \nVieni a trovarci presso la nostra sede di Roma in Piazza Asti\, 5/A  \nVisiona iscriviti e condividi le nostre videoconferenze dal nostro canale Youtube \n Iscriviti ai nostri gruppi su Facebook: \nAVA Associazione Vegan Animalista \nSupporta Agripunk e tutti i Rifugi di Animali Liberi \n\n\n\n\nShare on:
URL:https://associazionevegananimalista.it/event/qui-giace-piero-davenza-cittadino-integerrimo/
CATEGORIES:Citazioni
ATTACH;FMTTYPE=image/jpeg:https://associazionevegananimalista.it/wp-content/uploads/2020/06/aaaaacerv55.jpg
END:VEVENT
END:VCALENDAR