BEGIN:VCALENDAR
VERSION:2.0
PRODID:-//AVA - ECPv6.15.20//NONSGML v1.0//EN
CALSCALE:GREGORIAN
METHOD:PUBLISH
X-ORIGINAL-URL:https://associazionevegananimalista.it
X-WR-CALDESC:Eventi per AVA
REFRESH-INTERVAL;VALUE=DURATION:PT1H
X-Robots-Tag:noindex
X-PUBLISHED-TTL:PT1H
BEGIN:VTIMEZONE
TZID:Europe/Rome
BEGIN:DAYLIGHT
TZOFFSETFROM:+0100
TZOFFSETTO:+0200
TZNAME:CEST
DTSTART:20220327T010000
END:DAYLIGHT
BEGIN:STANDARD
TZOFFSETFROM:+0200
TZOFFSETTO:+0100
TZNAME:CET
DTSTART:20221030T010000
END:STANDARD
BEGIN:DAYLIGHT
TZOFFSETFROM:+0100
TZOFFSETTO:+0200
TZNAME:CEST
DTSTART:20230326T010000
END:DAYLIGHT
BEGIN:STANDARD
TZOFFSETFROM:+0200
TZOFFSETTO:+0100
TZNAME:CET
DTSTART:20231029T010000
END:STANDARD
BEGIN:DAYLIGHT
TZOFFSETFROM:+0100
TZOFFSETTO:+0200
TZNAME:CEST
DTSTART:20240331T010000
END:DAYLIGHT
BEGIN:STANDARD
TZOFFSETFROM:+0200
TZOFFSETTO:+0100
TZNAME:CET
DTSTART:20241027T010000
END:STANDARD
END:VTIMEZONE
BEGIN:VEVENT
DTSTART;TZID=Europe/Rome:20230602T080000
DTEND;TZID=Europe/Rome:20230602T233000
DTSTAMP:20260420T104822
CREATED:20200603T103430Z
LAST-MODIFIED:20230502T174048Z
UID:4914-1685692800-1685748600@associazionevegananimalista.it
SUMMARY:L'umanità si divide in due grandi categorie...
DESCRIPTION:L’umanità si divide in due grandi categorie: Coloro che prima di sedersi controllano se c’è il rotolo e coloro che si accorgono che manca quando ormai è troppo tardi.\n\n\n(Franco Merafino)\n\n\nLeggi condividi e diffondi: PROGETTO PACE NEL MONDO – EDUCARE L’UMANITA’ ALLA PACE di Franco Libero Manco \nVisita il nostro sito Associazione Vegan Animalista \nMetti “Mi piace” sulla pagina Facebook del presidente Franco Libero Manco \nMetti “Mi piace” sulla nostra pagina Facebook AVA Associazione Vegan Animalista \nVieni a trovarci presso la nostra sede di Roma in Piazza Asti\, 5/A  \nVisiona iscriviti e condividi le nostre videoconferenze dal nostro canale Youtube \n Iscriviti ai nostri gruppi su Facebook: \nAVA Associazione Vegan Animalista \nSupporta Agripunk e tutti i Rifugi di Animali Liberi \n\n\n \n\n\n\n\n\nShare on:
URL:https://associazionevegananimalista.it/event/lumanita-si-divide-in-due-grandi-categorie/
CATEGORIES:Citazioni
ATTACH;FMTTYPE=image/jpeg:https://associazionevegananimalista.it/wp-content/uploads/2020/06/aaaaaaacuccj.jpg
END:VEVENT
BEGIN:VEVENT
DTSTART;TZID=Europe/Rome:20230606T080000
DTEND;TZID=Europe/Rome:20230606T233000
DTSTAMP:20260420T104822
CREATED:20201216T213434Z
LAST-MODIFIED:20230506T181030Z
UID:5644-1686038400-1686094200@associazionevegananimalista.it
SUMMARY:Un cucciolo di orso polare che gioca con la sua mamma!
DESCRIPTION:Un cucciolo di orso polare che gioca con la sua mamma!\nMyriam Jael Riboldi\n\n\nLeggi condividi e diffondi: PROGETTO PACE NEL MONDO – EDUCARE L’UMANITA’ ALLA PACE di Franco Libero Manco \nVisita il nostro sito Associazione Vegan Animalista \nMetti “Mi piace” sulla pagina Facebook del presidente Franco Libero Manco \nMetti “Mi piace” sulla nostra pagina Facebook AVA Associazione Vegan Animalista \nIscriviti alla nostra Newsletter \nVisiona iscriviti e condividi le nostre videoconferenze dal nostro canale Youtube \n Iscriviti ai nostri gruppi su Facebook: \nAVA Associazione Vegan Animalista \nSupporta Agripunk e tutti i Rifugi di Animali Liberi \n\nShare on:
URL:https://associazionevegananimalista.it/event/un-cucciolo-di-orso-polare-che-gioca-con-la-sua-mamma/
CATEGORIES:Citazioni
ATTACH;FMTTYPE=image/jpeg:https://associazionevegananimalista.it/wp-content/uploads/2020/12/aaaaaaaaaaaorsamy.jpg
END:VEVENT
BEGIN:VEVENT
DTSTART;TZID=Europe/Rome:20230607T080000
DTEND;TZID=Europe/Rome:20230607T233000
DTSTAMP:20260420T104822
CREATED:20201216T214011Z
LAST-MODIFIED:20230507T183614Z
UID:5647-1686124800-1686180600@associazionevegananimalista.it
SUMMARY:Cosa sogneranno i cuccioli? Non ci è dato saperlo ma mi piace pensare che siano cose bellissime! Myriam Jael Riboldi
DESCRIPTION:Cosa sogneranno i cuccioli? Non ci è dato saperlo ma mi piace pensare che siano cose bellissime!\nMyriam Jael Riboldi\nLeggi condividi e diffondi: PROGETTO PACE NEL MONDO – EDUCARE L’UMANITA’ ALLA PACE di Franco Libero Manco \nVisita il nostro sito Associazione Vegan Animalista \nMetti “Mi piace” sulla pagina Facebook del presidente Franco Libero Manco \nMetti “Mi piace” sulla nostra pagina Facebook AVA Associazione Vegan Animalista \nIscriviti alla nostra Newsletter \nVisiona iscriviti e condividi le nostre videoconferenze dal nostro canale Youtube \n Iscriviti ai nostri gruppi su Facebook: \nAVA Associazione Vegan Animalista \nSupporta Agripunk e tutti i Rifugi di Animali Liberi \nShare on:
URL:https://associazionevegananimalista.it/event/cosa-sogneranno-i-cuccioli-non-ci-e-dato-saperlo-ma-mi-piace-pensare-che-siano-cose-bellissime-myriam-jael-riboldi/
CATEGORIES:Citazioni
ATTACH;FMTTYPE=image/jpeg:https://associazionevegananimalista.it/wp-content/uploads/2020/12/aaaaaaaamyr666.jpg
END:VEVENT
BEGIN:VEVENT
DTSTART;TZID=Europe/Rome:20230608T080000
DTEND;TZID=Europe/Rome:20230608T233000
DTSTAMP:20260420T104822
CREATED:20200606T094803Z
LAST-MODIFIED:20230508T180113Z
UID:4929-1686211200-1686267000@associazionevegananimalista.it
SUMMARY:Oh Dio\, se non puoi farmi dimagrire\, fà almeno in modo che i miei amici ingrassino. (Erma Bombeck)
DESCRIPTION:Oh Dio\, se non puoi farmi dimagrire\, fà almeno in modo che i miei amici ingrassino.\n\n\n(Erma Bombeck)\nLeggi condividi e diffondi: PROGETTO PACE NEL MONDO – EDUCARE L’UMANITA’ ALLA PACE di Franco Libero Manco \nVisita il nostro sito Associazione Vegan Animalista \nMetti “Mi piace” sulla pagina Facebook del presidente Franco Libero Manco \nMetti “Mi piace” sulla nostra pagina Facebook AVA Associazione Vegan Animalista \nVieni a trovarci presso la nostra sede di Roma in Piazza Asti\, 5/A  \nVisiona iscriviti e condividi le nostre videoconferenze dal nostro canale Youtube \n Iscriviti ai nostri gruppi su Facebook: \nAVA Associazione Vegan Animalista \nSupporta Agripunk e tutti i Rifugi di Animali Liberi \n\n\n \n\n\n\n\n\nShare on:
URL:https://associazionevegananimalista.it/event/oh-dio-se-non-puoi-farmi-dimagrire-fa-almeno-in-modo-che-i-miei-amici-ingrassino-erma-bombeck/
CATEGORIES:Citazioni
ATTACH;FMTTYPE=image/jpeg:https://associazionevegananimalista.it/wp-content/uploads/2020/06/armadillo6.jpg
END:VEVENT
BEGIN:VEVENT
DTSTART;TZID=Europe/Rome:20230609T080000
DTEND;TZID=Europe/Rome:20230609T233000
DTSTAMP:20260420T104822
CREATED:20200608T102125Z
LAST-MODIFIED:20230509T175840Z
UID:4940-1686297600-1686353400@associazionevegananimalista.it
SUMMARY:Non mi piace abbronzarmi. Sono di carnagione chiara. L'ultima volta che sono stato al mare e mi sono svestito\, un medico ha insistito per farmi un'autopsia. (Matteo Molinari)
DESCRIPTION:Non mi piace abbronzarmi. Sono di carnagione chiara. L’ultima volta che sono stato al mare e mi sono svestito\, un medico ha insistito per farmi un’autopsia.\n\n\n(Matteo Molinari)\n\n\nLeggi condividi e diffondi: PROGETTO PACE NEL MONDO – EDUCARE L’UMANITA’ ALLA PACE di Franco Libero Manco \nVisita il nostro sito Associazione Vegan Animalista \nMetti “Mi piace” sulla pagina Facebook del presidente Franco Libero Manco \nMetti “Mi piace” sulla nostra pagina Facebook AVA Associazione Vegan Animalista \nVieni a trovarci presso la nostra sede di Roma in Piazza Asti\, 5/A  \nVisiona iscriviti e condividi le nostre videoconferenze dal nostro canale Youtube \n Iscriviti ai nostri gruppi su Facebook: \nAVA Associazione Vegan Animalista \nSupporta Agripunk e tutti i Rifugi di Animali Liberi \n\n\n \n\n\n\n\n\nShare on:
URL:https://associazionevegananimalista.it/event/non-mi-piace-abbronzarmi-sono-di-carnagione-chiara-lultima-volta-che-sono-stato-al-mare-e-mi-sono-svestito-un-medico-ha-insistito-per-farmi-unautopsia-matteo-molinari/
CATEGORIES:Citazioni
ATTACH;FMTTYPE=image/png:https://associazionevegananimalista.it/wp-content/uploads/2020/06/aaaaaagufo87.png
END:VEVENT
BEGIN:VEVENT
DTSTART;TZID=Europe/Rome:20230610T080000
DTEND;TZID=Europe/Rome:20230610T233000
DTSTAMP:20260420T104822
CREATED:20200604T095150Z
LAST-MODIFIED:20230510T181723Z
UID:4920-1686384000-1686439800@associazionevegananimalista.it
SUMMARY:Il mio primo film era così brutto\, che in sette Stati americani aveva sostituito la pena di morte. (Woody Allen)
DESCRIPTION:Il mio primo film era così brutto\, che in sette Stati americani aveva sostituito la pena di morte.\n\n\n(Woody Allen)\n\n\nLeggi condividi e diffondi: PROGETTO PACE NEL MONDO – EDUCARE L’UMANITA’ ALLA PACE di Franco Libero Manco \nVisita il nostro sito Associazione Vegan Animalista \nMetti “Mi piace” sulla pagina Facebook del presidente Franco Libero Manco \nMetti “Mi piace” sulla nostra pagina Facebook AVA Associazione Vegan Animalista \nVieni a trovarci presso la nostra sede di Roma in Piazza Asti\, 5/A  \nVisiona iscriviti e condividi le nostre videoconferenze dal nostro canale Youtube \n Iscriviti ai nostri gruppi su Facebook: \nAVA Associazione Vegan Animalista \nSupporta Agripunk e tutti i Rifugi di Animali Liberi \n\n\n \n\n\n\n\n\nShare on:
URL:https://associazionevegananimalista.it/event/il-mio-primo-film-era-cosi-brutto-che-in-sette-stati-americani-aveva-sostituito-la-pena-di-morte-woody-allen/
CATEGORIES:Citazioni
ATTACH;FMTTYPE=image/jpeg:https://associazionevegananimalista.it/wp-content/uploads/2020/06/aadubbi.jpg
END:VEVENT
BEGIN:VEVENT
DTSTART;TZID=Europe/Rome:20230611T080000
DTEND;TZID=Europe/Rome:20230611T233000
DTSTAMP:20260420T104822
CREATED:20200609T091921Z
LAST-MODIFIED:20230511T181710Z
UID:4943-1686470400-1686526200@associazionevegananimalista.it
SUMMARY:Annuncio dall'altoparlante della Stazione Termini: "I signori passeggeri che hanno preso il treno per Milano sono pregati di riportarlo urgentemente al binario numero uno!".
DESCRIPTION:Annuncio dall’altoparlante della Stazione Termini: “I signori passeggeri che hanno preso il treno per Milano sono pregati di riportarlo urgentemente al binario numero uno!”.\nLeggi condividi e diffondi: PROGETTO PACE NEL MONDO – EDUCARE L’UMANITA’ ALLA PACE di Franco Libero Manco \nVisita il nostro sito Associazione Vegan Animalista \nMetti “Mi piace” sulla pagina Facebook del presidente Franco Libero Manco \nMetti “Mi piace” sulla nostra pagina Facebook AVA Associazione Vegan Animalista \nVieni a trovarci presso la nostra sede di Roma in Piazza Asti\, 5/A  \nVisiona iscriviti e condividi le nostre videoconferenze dal nostro canale Youtube \n Iscriviti ai nostri gruppi su Facebook: \nAVA Associazione Vegan Animalista \nSupporta Agripunk e tutti i Rifugi di Animali Liberi \n\n\n \n\n\n\n\n\nShare on:
URL:https://associazionevegananimalista.it/event/annuncio-dallaltoparlante-della-stazione-termini-i-signori-passeggeri-che-hanno-preso-il-treno-per-milano-sono-pregati-di-riportarlo-urgentemente-al-binario-numero-uno/
CATEGORIES:Citazioni
ATTACH;FMTTYPE=image/png:https://associazionevegananimalista.it/wp-content/uploads/2020/06/aaaaacatmim.png
END:VEVENT
BEGIN:VEVENT
DTSTART;TZID=Europe/Rome:20230612T080000
DTEND;TZID=Europe/Rome:20230612T233000
DTSTAMP:20260420T104822
CREATED:20200610T090642Z
LAST-MODIFIED:20230512T182733Z
UID:4946-1686556800-1686612600@associazionevegananimalista.it
SUMMARY:Perché non c’è niente di più bello del modo in cui tutte le volte il mare cerca di baciare la spiaggia\, non importa quante volte viene mandato via. (Sarah Kay)
DESCRIPTION:Perché non c’è niente di più bello del modo in cui tutte le volte il mare cerca di baciare la spiaggia\, non importa quante volte viene mandato via.\n\n\n(Sarah Kay)\nLeggi condividi e diffondi: PROGETTO PACE NEL MONDO – EDUCARE L’UMANITA’ ALLA PACE di Franco Libero Manco \nVisita il nostro sito Associazione Vegan Animalista \nMetti “Mi piace” sulla pagina Facebook del presidente Franco Libero Manco \nMetti “Mi piace” sulla nostra pagina Facebook AVA Associazione Vegan Animalista \nVieni a trovarci presso la nostra sede di Roma in Piazza Asti\, 5/A  \nVisiona iscriviti e condividi le nostre videoconferenze dal nostro canale Youtube \n Iscriviti ai nostri gruppi su Facebook: \nAVA Associazione Vegan Animalista \nSupporta Agripunk e tutti i Rifugi di Animali Liberi \n\n\n \n\n\n\n\n\nShare on:
URL:https://associazionevegananimalista.it/event/perche-non-ce-niente-di-piu-bello-del-modo-in-cui-tutte-le-volte-il-mare-cerca-di-baciare-la-spiaggia-non-importa-quante-volte-viene-mandato-via-sarah-kay/
CATEGORIES:Citazioni
ATTACH;FMTTYPE=image/jpeg:https://associazionevegananimalista.it/wp-content/uploads/2020/06/aaaaaaaabimba3.jpg
END:VEVENT
BEGIN:VEVENT
DTSTART;TZID=Europe/Rome:20230613T080000
DTEND;TZID=Europe/Rome:20230613T233000
DTSTAMP:20260420T104822
CREATED:20200611T091903Z
LAST-MODIFIED:20230513T182019Z
UID:4954-1686643200-1686699000@associazionevegananimalista.it
SUMMARY:Un inverno ho girato un film in Inghilterra. Faceva così freddo che mi sono quasi sposata. (Shelley Winters)
DESCRIPTION:Un inverno ho girato un film in Inghilterra. Faceva così freddo che mi sono quasi sposata.\n\n\n(Shelley Winters)\nLeggi condividi e diffondi: PROGETTO PACE NEL MONDO – EDUCARE L’UMANITA’ ALLA PACE di Franco Libero Manco \nVisita il nostro sito Associazione Vegan Animalista \nMetti “Mi piace” sulla pagina Facebook del presidente Franco Libero Manco \nMetti “Mi piace” sulla nostra pagina Facebook AVA Associazione Vegan Animalista \nVieni a trovarci presso la nostra sede di Roma in Piazza Asti\, 5/A  \nVisiona iscriviti e condividi le nostre videoconferenze dal nostro canale Youtube \n Iscriviti ai nostri gruppi su Facebook: \nAVA Associazione Vegan Animalista \nSupporta Agripunk e tutti i Rifugi di Animali Liberi \n\n\n \n\n\n\n\n\nShare on:
URL:https://associazionevegananimalista.it/event/un-inverno-ho-girato-un-film-in-inghilterra-faceva-cosi-freddo-che-mi-sono-quasi-sposata-shelley-winters/
CATEGORIES:Citazioni
ATTACH;FMTTYPE=image/jpeg:https://associazionevegananimalista.it/wp-content/uploads/2020/06/alcebianca.jpg
END:VEVENT
BEGIN:VEVENT
DTSTART;TZID=Europe/Rome:20230614T080000
DTEND;TZID=Europe/Rome:20230614T233000
DTSTAMP:20260420T104822
CREATED:20201225T104835Z
LAST-MODIFIED:20230514T203231Z
UID:5675-1686729600-1686785400@associazionevegananimalista.it
SUMMARY:“Non metterti a discutere con un imbecille. Ti trascina al suo livello e ti batte con l’esperienza” (Oscar Wilde)
DESCRIPTION:“Non metterti a discutere con un imbecille. Ti trascina al suo livello e ti batte con l’esperienza”\n\n\n(Oscar Wilde)\nLeggi condividi e diffondi: PROGETTO PACE NEL MONDO – EDUCARE L’UMANITA’ ALLA PACE di Franco Libero Manco \nVisita il nostro sito Associazione Vegan Animalista \nMetti “Mi piace” sulla pagina Facebook del presidente Franco Libero Manco \nMetti “Mi piace” sulla nostra pagina Facebook AVA Associazione Vegan Animalista \nIscriviti alla nostra Newsletter \nVisiona iscriviti e condividi le nostre videoconferenze dal nostro canale Youtube \n Iscriviti ai nostri gruppi su Facebook: \nAVA Associazione Vegan Animalista \nSupporta Agripunk e tutti i Rifugi di Animali Liberi \n\nShare on:
URL:https://associazionevegananimalista.it/event/non-metterti-a-discutere-con-un-imbecille-ti-trascina-al-suo-livello-e-ti-batte-con-lesperienza-oscar-wilde-2/
CATEGORIES:Citazioni
ATTACH;FMTTYPE=image/jpeg:https://associazionevegananimalista.it/wp-content/uploads/2020/12/aaaaaaciv54.jpg
END:VEVENT
BEGIN:VEVENT
DTSTART;TZID=Europe/Rome:20230616T080000
DTEND;TZID=Europe/Rome:20230616T233000
DTSTAMP:20260420T104822
CREATED:20200612T095623Z
LAST-MODIFIED:20230516T205612Z
UID:4957-1686902400-1686958200@associazionevegananimalista.it
SUMMARY:L’inconveniente di dividere il proprio letto con i gatti è che loro preferiscono dormire sopra di te\, piuttosto che accanto a te. (Pam Brown)
DESCRIPTION:L’inconveniente di dividere il proprio letto con i gatti è che loro preferiscono dormire sopra di te\, piuttosto che accanto a te.\n\n\n(Pam Brown)\n\n\nLeggi condividi e diffondi: PROGETTO PACE NEL MONDO – EDUCARE L’UMANITA’ ALLA PACE di Franco Libero Manco \nVisita il nostro sito Associazione Vegan Animalista \nMetti “Mi piace” sulla pagina Facebook del presidente Franco Libero Manco \nMetti “Mi piace” sulla nostra pagina Facebook AVA Associazione Vegan Animalista \nVieni a trovarci presso la nostra sede di Roma in Piazza Asti\, 5/A  \nVisiona iscriviti e condividi le nostre videoconferenze dal nostro canale Youtube \n Iscriviti ai nostri gruppi su Facebook: \nAVA Associazione Vegan Animalista \nSupporta Agripunk e tutti i Rifugi di Animali Liberi \n\n\n \n\n\n\n\n\nShare on:
URL:https://associazionevegananimalista.it/event/linconveniente-di-dividere-il-proprio-letto-con-i-gatti-e-che-loro-preferiscono-dormire-sopra-di-te-piuttosto-che-accanto-a-te-pam-brown/
CATEGORIES:Citazioni
ATTACH;FMTTYPE=image/jpeg:https://associazionevegananimalista.it/wp-content/uploads/2020/06/aaaaaamicini88.jpg
END:VEVENT
BEGIN:VEVENT
DTSTART;TZID=Europe/Rome:20230618T080000
DTEND;TZID=Europe/Rome:20230618T233000
DTSTAMP:20260420T104822
CREATED:20200616T094951Z
LAST-MODIFIED:20230517T201407Z
UID:4976-1687075200-1687131000@associazionevegananimalista.it
SUMMARY:C'è un canale televisivo via cavo dedicato al tempo: Ventiquattr'ore di osservazioni meteorologiche. Avevamo qualcosa di simile anche nella mia infanzia: Si chiamava finestra. (Dan Spencer)
DESCRIPTION:C’è un canale televisivo via cavo dedicato al tempo: Ventiquattr’ore di osservazioni meteorologiche. Avevamo qualcosa di simile anche nella mia infanzia: Si chiamava finestra.\n\n\n(Dan Spencer)\n\n\nLeggi condividi e diffondi: PROGETTO PACE NEL MONDO – EDUCARE L’UMANITA’ ALLA PACE di Franco Libero Manco \nVisita il nostro sito Associazione Vegan Animalista \nMetti “Mi piace” sulla pagina Facebook del presidente Franco Libero Manco \nMetti “Mi piace” sulla nostra pagina Facebook AVA Associazione Vegan Animalista \nVieni a trovarci presso la nostra sede di Roma in Piazza Asti\, 5/A  \nVisiona iscriviti e condividi le nostre videoconferenze dal nostro canale Youtube \n Iscriviti ai nostri gruppi su Facebook: \nAVA Associazione Vegan Animalista \nSupporta Agripunk e tutti i Rifugi di Animali Liberi \n\n\n \n\n\n\n\n\nShare on:
URL:https://associazionevegananimalista.it/event/ce-un-canale-televisivo-via-cavo-dedicato-al-tempo-ventiquattrore-di-osservazioni-meteorologiche-avevamo-qualcosa-di-simile-anche-nella-mia-infanzia-si-chiamava-finestra-dan-spencer/
CATEGORIES:Citazioni
ATTACH;FMTTYPE=image/jpeg:https://associazionevegananimalista.it/wp-content/uploads/2020/06/aaaaaaaapappablu.jpg
END:VEVENT
BEGIN:VEVENT
DTSTART;TZID=Europe/Rome:20230619T080000
DTEND;TZID=Europe/Rome:20230619T233000
DTSTAMP:20260420T104822
CREATED:20200617T100204Z
LAST-MODIFIED:20230519T214116Z
UID:4979-1687161600-1687217400@associazionevegananimalista.it
SUMMARY:Stile. Aveva una prosa così graffiante che i suoi lettori si riconoscevano dai segni sulla faccia. (Massimo Bucchi)
DESCRIPTION:Stile. Aveva una prosa così graffiante che i suoi lettori si riconoscevano dai segni sulla faccia. \n\n\n(Massimo Bucchi)\n\n\nLeggi condividi e diffondi: PROGETTO PACE NEL MONDO – EDUCARE L’UMANITA’ ALLA PACE di Franco Libero Manco \nVisita il nostro sito Associazione Vegan Animalista \nMetti “Mi piace” sulla pagina Facebook del presidente Franco Libero Manco \nMetti “Mi piace” sulla nostra pagina Facebook AVA Associazione Vegan Animalista \nVieni a trovarci presso la nostra sede di Roma in Piazza Asti\, 5/A  \nVisiona iscriviti e condividi le nostre videoconferenze dal nostro canale Youtube \n Iscriviti ai nostri gruppi su Facebook: \nAVA Associazione Vegan Animalista \nSupporta Agripunk e tutti i Rifugi di Animali Liberi \n\n\n \n\n\n\n\n\nShare on:
URL:https://associazionevegananimalista.it/event/stile-aveva-una-prosa-cosi-graffiante-che-i-suoi-lettori-si-riconoscevano-dai-segni-sulla-faccia-massimo-bucchi/
CATEGORIES:Citazioni
ATTACH;FMTTYPE=image/jpeg:https://associazionevegananimalista.it/wp-content/uploads/2020/06/aaaaaaaaastile.jpg
END:VEVENT
BEGIN:VEVENT
DTSTART;TZID=Europe/Rome:20230623T080000
DTEND;TZID=Europe/Rome:20230623T233000
DTSTAMP:20260420T104822
CREATED:20200614T100911Z
LAST-MODIFIED:20230523T113254Z
UID:4966-1687507200-1687563000@associazionevegananimalista.it
SUMMARY:Le cose buone\, ingrassano. Le cose belle\, costano. Il sole che ti illumina il viso\, fa venire le rughe. E tutte le cose veramente belle di questa vita\, spettinano. In una domenica che si rispetti rimani spettinata almeno fino alle cinque del pomeriggio... (Mafalda)
DESCRIPTION:Le cose buone\, ingrassano. Le cose belle\, costano. Il sole che ti illumina il viso\, fa venire le rughe. E tutte le cose veramente belle di questa vita\, spettinano.\n\nIn una domenica che si rispetti rimani spettinata almeno fino alle cinque del pomeriggio…\n\n(Mafalda)\n\n\nLeggi condividi e diffondi: PROGETTO PACE NEL MONDO – EDUCARE L’UMANITA’ ALLA PACE di Franco Libero Manco \nVisita il nostro sito Associazione Vegan Animalista \nMetti “Mi piace” sulla pagina Facebook del presidente Franco Libero Manco \nMetti “Mi piace” sulla nostra pagina Facebook AVA Associazione Vegan Animalista \nVieni a trovarci presso la nostra sede di Roma in Piazza Asti\, 5/A  \nVisiona iscriviti e condividi le nostre videoconferenze dal nostro canale Youtube \n Iscriviti ai nostri gruppi su Facebook: \nAVA Associazione Vegan Animalista \nSupporta Agripunk e tutti i Rifugi di Animali Liberi \n\n\n \n\n\n\n\n\nShare on:
URL:https://associazionevegananimalista.it/event/le-cose-buone-ingrassano-le-cose-belle-costano-il-sole-che-ti-illumina-il-viso-fa-venire-le-rughe-e-tutte-le-cose-veramente-belle-di-questa-vita-spettinano-in-una-domenica-che-si-rispetti-rima/
CATEGORIES:Citazioni
ATTACH;FMTTYPE=image/jpeg:https://associazionevegananimalista.it/wp-content/uploads/2020/06/aaaspettin.jpg
END:VEVENT
BEGIN:VEVENT
DTSTART;TZID=Europe/Rome:20230625T080000
DTEND;TZID=Europe/Rome:20230625T233000
DTSTAMP:20260420T104822
CREATED:20200618T100344Z
LAST-MODIFIED:20230524T200310Z
UID:4985-1687680000-1687735800@associazionevegananimalista.it
SUMMARY:La complicità non v’è dubbio\, è una sorta di linguaggio silenzioso\, un incontro di pensieri e di gesti taciuti\, è un vero lusso e chissà\, forse per natura\, concesso a pochi eletti. (Anna Rijtano Mallus)
DESCRIPTION:La complicità non v’è dubbio\, è una sorta di linguaggio silenzioso\, un incontro di pensieri e di gesti taciuti\, è un vero lusso e chissà\, forse per natura\, concesso a pochi eletti.\n\n\n(Anna Rijtano Mallus)\nLeggi condividi e diffondi: PROGETTO PACE NEL MONDO – EDUCARE L’UMANITA’ ALLA PACE di Franco Libero Manco \nVisita il nostro sito Associazione Vegan Animalista \nMetti “Mi piace” sulla pagina Facebook del presidente Franco Libero Manco \nMetti “Mi piace” sulla nostra pagina Facebook AVA Associazione Vegan Animalista \nVieni a trovarci presso la nostra sede di Roma in Piazza Asti\, 5/A  \nVisiona iscriviti e condividi le nostre videoconferenze dal nostro canale Youtube \n Iscriviti ai nostri gruppi su Facebook: \nAVA Associazione Vegan Animalista \nSupporta Agripunk e tutti i Rifugi di Animali Liberi \n\n\n \n\n\n\n\n\nShare on:
URL:https://associazionevegananimalista.it/event/la-complicita-non-ve-dubbio-e-una-sorta-di-linguaggio-silenzioso-un-incontro-di-pensieri-e-di-gesti-taciuti-e-un-vero-lusso-e-chissa-forse-per-natura-concesso-a-pochi-eletti-anna-rijta/
CATEGORIES:Citazioni
ATTACH;FMTTYPE=image/jpeg:https://associazionevegananimalista.it/wp-content/uploads/2020/06/aaaaaaaascoiatt.jpg
END:VEVENT
BEGIN:VEVENT
DTSTART;TZID=Europe/Rome:20230630T080000
DTEND;TZID=Europe/Rome:20230630T233000
DTSTAMP:20260420T104822
CREATED:20200619T102548Z
LAST-MODIFIED:20230531T181559Z
UID:4988-1688112000-1688167800@associazionevegananimalista.it
SUMMARY:Una sera di tanti anni fa\, al paese\, noi bambini giocavamo a nasconderci. Uno di noi\, Severino\, si nascose così bene che non riuscimmo a trovarlo.
DESCRIPTION:Una sera di tanti anni fa\, al paese\, noi bambini giocavamo a nasconderci. Uno di noi\, Severino\, si nascose così bene che non riuscimmo a trovarlo. \n\nTutti rincasammo quella sera\, meno lui. Più tardi\, noi ci siamo sposati\, ci siamo sparsi per il mondo\, ci siamo offerti al gioco della vita… E Severino? Non l’ho più visto. Ma a volte mi piace pensare che\, come quel soldato giapponese che se ne stette nascosto vent’anni nella giungla convinto che la guerra durasse ancora\, anche Severino sia ancora là\, nel cavo di un albero o in un decrepito pollaio\, rimasto fedele a quell’antico gioco. E certe notti che non riesco a dormire\, me lo immagino lì\, che trattiene il respiro\, in ascolto\, in attesa dei passi di qualcuno di noi che vada a stanarlo… E lo invidio.\n\n\n(Romano Bertola)\n\n\nLeggi condividi e diffondi: PROGETTO PACE NEL MONDO – EDUCARE L’UMANITA’ ALLA PACE di Franco Libero Manco \nVisita il nostro sito Associazione Vegan Animalista \nMetti “Mi piace” sulla pagina Facebook del presidente Franco Libero Manco \nMetti “Mi piace” sulla nostra pagina Facebook AVA Associazione Vegan Animalista \nVieni a trovarci presso la nostra sede di Roma in Piazza Asti\, 5/A  \nVisiona iscriviti e condividi le nostre videoconferenze dal nostro canale Youtube \n Iscriviti ai nostri gruppi su Facebook: \nAVA Associazione Vegan Animalista \nSupporta Agripunk e tutti i Rifugi di Animali Liberi \n\n\n \n\n\n\n\n\nShare on:
URL:https://associazionevegananimalista.it/event/una-sera-di-tanti-anni-fa-al-paese-noi-bambini-giocavamo-a-nasconderci-uno-di-noi-severino-si-nascose-cosi-bene-che-non-riuscimmo-a-trovarlo/
CATEGORIES:Citazioni
ATTACH;FMTTYPE=image/jpeg:https://associazionevegananimalista.it/wp-content/uploads/2020/06/aaaaaaocchi8.jpg
END:VEVENT
END:VCALENDAR