BEGIN:VCALENDAR
VERSION:2.0
PRODID:-//AVA - ECPv6.15.20//NONSGML v1.0//EN
CALSCALE:GREGORIAN
METHOD:PUBLISH
X-WR-CALNAME:AVA
X-ORIGINAL-URL:https://associazionevegananimalista.it
X-WR-CALDESC:Eventi per AVA
REFRESH-INTERVAL;VALUE=DURATION:PT1H
X-Robots-Tag:noindex
X-PUBLISHED-TTL:PT1H
BEGIN:VTIMEZONE
TZID:Europe/Rome
BEGIN:DAYLIGHT
TZOFFSETFROM:+0100
TZOFFSETTO:+0200
TZNAME:CEST
DTSTART:20180325T010000
END:DAYLIGHT
BEGIN:STANDARD
TZOFFSETFROM:+0200
TZOFFSETTO:+0100
TZNAME:CET
DTSTART:20181028T010000
END:STANDARD
BEGIN:DAYLIGHT
TZOFFSETFROM:+0100
TZOFFSETTO:+0200
TZNAME:CEST
DTSTART:20190331T010000
END:DAYLIGHT
BEGIN:STANDARD
TZOFFSETFROM:+0200
TZOFFSETTO:+0100
TZNAME:CET
DTSTART:20191027T010000
END:STANDARD
BEGIN:DAYLIGHT
TZOFFSETFROM:+0100
TZOFFSETTO:+0200
TZNAME:CEST
DTSTART:20200329T010000
END:DAYLIGHT
BEGIN:STANDARD
TZOFFSETFROM:+0200
TZOFFSETTO:+0100
TZNAME:CET
DTSTART:20201025T010000
END:STANDARD
END:VTIMEZONE
BEGIN:VEVENT
DTSTART;TZID=Europe/Rome:20190314T180000
DTEND;TZID=Europe/Rome:20190314T200000
DTSTAMP:20260424T060440
CREATED:20190304T153508Z
LAST-MODIFIED:20190311T143553Z
UID:2442-1552586400-1552593600@associazionevegananimalista.it
SUMMARY:Storie straordinarie di animali fantastici
DESCRIPTION:Paolo Ricci\, Scrittore\, Artista\, ideatore di Bailador: \n“Storie straordinarie di animali fantastici” \n  \n\nIo vivo e sento. Paolo Ricci\n\n\n \nIo vivo e sento\ne il ricordo\nlo porto\ncome un acuminato coltello\nconficcato nel petto \nCome un cilicio fastidioso\nl’orrore resta con me \nE’ cosa insigne\nappartenere al reame del fuoco \nessere fuori\ndalla paciosa e plumbea ovvietà \nAscolta:\nquando un passero\nmi muore tra le mani\nmi crolla un mondo. \n(estratto “Dal libro occidentale dei morti” 2002) \nPaolo Ricci (1939)\, romano di nascita\, scrittore e artista assai eclettico\, ha vissuto per molti anni all’estero tra Wisbaden\, Roma\, Chicago\, Amsterdam e Londra. Tra il 1995 e il 2000 ha vissuto in Toscana a Castiglion Fiorentino. Ed è in queste terre che\, colpito in prima persona dal problema della caccia e degli avvelenamenti di animali nelle campagne\, ha condotto un’aspra lotta contro i cacciatori che ha ispirato il suo romanzo L’Assassino Cherubico. Attualmente vive in Inghilterra\, nel Devon\, e si dedica alla sua attività filosofica e artistica. \nRicci ha scritto tre romanzi filosofici dichiaratamente animalisti: L’Assassino Cherubico (1999)\, Il Frammento in sé (2001)\, Il Gesù Clonato e l’Anticristo Vegetariano (2003)1. \nQuesti romanzi sono legati da un comune messaggio: la compassione verso l’alterità\, e aprono\, con forza dissacratoria e ironia\, il dibattito sulla natura e sulla questione animale\, attraverso una completa analisi della condizione umana nella società contemporanea. Lo stile serrato alterna parti filosofiche\, poetiche\, monologhi\, dialoghi in forma teatrale\, e fiction d’azione\, il tutto immerso in contesti storici che spaziano dal lontano passato\, fino ad un avveniristico futuro. L’antropocentrismo ispirato dalle grandi religioni monoteiste viene sempre contrapposto alla ricerca di una compassione capace di comprendere tutti gli esseri senzienti e ad una filosofia antispecista che mette in luce i grandi interrogativi esistenziali di fronte alla sofferenza dei più deboli umani e non umani. \nRicci ha inoltre partecipato attivamente al dibattito animalista italiano e inglese della rete scrivendo e inviando alle liste animaliste diverse lettere a carattere politico e di denuncia\, ora raccolte in Lettere eretiche. Sono state chiamate “Lettere eretiche” per la dissonanza e il carattere provocatorio rispetto all’usuale approccio ai problemi attualmente circolanti in ambiente animalista. Certamente affrontano in termini nuovi una varietà di temi da sempre dibattuti nell’ambiente\, ma i toni di forte temperamento stimolano riflessioni\, e indicano delle svolte rivitalizzanti il movimento stesso. Tra queste ricordiamo le lettere su Religione e Animali: Lettera al prete cacciatore\, Cristianesimo e Animali\, Gli animali vanno in paradiso?; e le lettere su Politica e Animali: Una svolta politica per l’animalismo radicale\, Caccia alla volpe inglese e lobby politica trasversale\, La storia del cervo di Parracombe. Testimone del movimento animalista inglese\, ha riportato nelle sue lettere molti modelli e proposte di lotta per l’animalismo e il vegetarianesimo\, già condotte in Inghilterra. Il modello della lobby animalista inglese contro la caccia alla volpe o per altre battaglie è stato più volte proposto da Ricci\, al movimento animalista italiano e statunitense\, sollecitato a muoversi e organizzarsi politicamente come quello inglese \n\nShare on:
URL:https://associazionevegananimalista.it/event/storie-straordinarie-di-animali-fantastici/
CATEGORIES:Conferenze AVA 2019,Eventi AVA 2019
ATTACH;FMTTYPE=image/jpeg:https://associazionevegananimalista.it/wp-content/uploads/2019/03/paolo-ricci.jpg
END:VEVENT
END:VCALENDAR