BEGIN:VCALENDAR
VERSION:2.0
PRODID:-//AVA - ECPv6.15.20//NONSGML v1.0//EN
CALSCALE:GREGORIAN
METHOD:PUBLISH
X-WR-CALNAME:AVA
X-ORIGINAL-URL:https://associazionevegananimalista.it
X-WR-CALDESC:Eventi per AVA
REFRESH-INTERVAL;VALUE=DURATION:PT1H
X-Robots-Tag:noindex
X-PUBLISHED-TTL:PT1H
BEGIN:VTIMEZONE
TZID:Europe/Rome
BEGIN:DAYLIGHT
TZOFFSETFROM:+0100
TZOFFSETTO:+0200
TZNAME:CEST
DTSTART:20180325T010000
END:DAYLIGHT
BEGIN:STANDARD
TZOFFSETFROM:+0200
TZOFFSETTO:+0100
TZNAME:CET
DTSTART:20181028T010000
END:STANDARD
BEGIN:DAYLIGHT
TZOFFSETFROM:+0100
TZOFFSETTO:+0200
TZNAME:CEST
DTSTART:20190331T010000
END:DAYLIGHT
BEGIN:STANDARD
TZOFFSETFROM:+0200
TZOFFSETTO:+0100
TZNAME:CET
DTSTART:20191027T010000
END:STANDARD
BEGIN:DAYLIGHT
TZOFFSETFROM:+0100
TZOFFSETTO:+0200
TZNAME:CEST
DTSTART:20200329T010000
END:DAYLIGHT
BEGIN:STANDARD
TZOFFSETFROM:+0200
TZOFFSETTO:+0100
TZNAME:CET
DTSTART:20201025T010000
END:STANDARD
END:VTIMEZONE
BEGIN:VEVENT
DTSTART;TZID=Europe/Rome:20190324T153000
DTEND;TZID=Europe/Rome:20190324T190000
DTSTAMP:20260424T060440
CREATED:20190322T134929Z
LAST-MODIFIED:20190323T093113Z
UID:2728-1553441400-1553454000@associazionevegananimalista.it
SUMMARY:Incontro trisettimanale degli “Amici di Bruno Gröning”
DESCRIPTION:Domenica 24 Marzo nel pomeriggio incontro trisettimanale degli “Amici di Bruno Gröning” per l’accoglimento di forza spirituale. Ingresso gratuito ma\, per i non frequentatori abituali e la spiegazione\, l’orario d’ingresso è da stabilire col telefono 333 3 279 314.\n  \nLeggi condividi e diffondi: PROGETTO PACE NEL MONDO – EDUCARE L’UMANITA’ ALLA PACE di Franco Libero Manco \nVisita il nostro sito Associazione Vegan Animalista \nMetti “Mi piace” sulla pagina Facebook del presidente Franco Libero Manco \nMetti “Mi piace” sulla nostra pagina Facebook AVA Associazione Vegan Animalista \nVieni a trovarci presso la nostra sede di Roma in Piazza Asti\, 5/A siamo aperti tutti i giorni dalle ore dodici alle diciotto \nIscriviti alla nostra Newsletter \nVisiona iscriviti e condividi le nostre videoconferenze dal nostro canale Youtube \n Iscriviti ai nostri gruppi su Facebook: \nAVA Associazione Vegan Animalista \nSupporta Agripunk e tutti i Rifugi di Animali Liberi \nIncontro trisettimanale degli “Amici di Bruno Gröning”\nL’insegnamento di Bruno Gröning si basa sull’effetto delle energie spirituali sull’uomo. \nL’influsso di questa forza è più grande di quanto si possa comunemente credere. \nL’uomo come “batteria” – per adempiere ai suoi compiti\, deve accumulare sempre nuova energia\nBruno Gröning paragona l’essere umano ad una batteria. \nNella vita quotidiana tutti consumiamo dell’energia\, ma spesso questa energia vitale non viene recuperata a sufficienza. \nCosì come una batteria scarica non può funzionare\, così un corpo spossato non è in grado di adempiere a suoi compiti. Spossatezza\, nervosismo\, paure esistenziali e non da ultimo le malattie\, ne sono le conseguenze. \nBruno Gröning spiegava come ogni individuo possa accumulare nuove energie. \nLa condizione preliminare indispensabile per raggiungere questo obiettivo è la fede nel bene e la volontà di riottonere la salute. \nL’uomo è circondato ovunque da onde benefiche e non deve fare altro che recepirle\nSecondo Bruno Gröning non esistono malattie inguaribili\, cosa peraltro ampiamente confermata dalle testimonianze di successo esaminate dai medici. \nLe guarigioni avvengono per via spirituale e non sono legate alla persona fisica di Bruno Gröning. \nCome l’uomo può accogliere al meglio lo Heilstrom\nAllo scopo di recepire questa corrente guaritrice ci si siede a mani aperte senza accavallare le gambe e senza tenere le braccia conserte per non ostacolare il flusso dell’energia. \nPensare a qualche cosa di bello è di grande aiuto\, mentre rivolgere i pensieri alla malattia e alle preoccupazioni crea degli ostacoli. \nQuando l’energia guaritrice fluisce nel corpo\, tocca gli organi ammalati\, allora comincia il lavoro di purificazione. È possibile allora che si avvertano dei dolori\, segni della purificazione del corpo. \nNon essendo la malattia\, nella sua sostanza\, voluta da Dio\, sarà eliminata. In alcuni casi questo avviene anche spontaneamente. \nImportante è lo staccarsi dai pensieri di malattia e credere che per Dio non esiste niente d’inguaribile. \nPer mantenersi in buona salute gli amici di Bruno Gröning si sintonizzano giornalmente per ricevere la corrente guaritrice (fanno “Einstellen”). \nIl corpo sano crea la base per una vita in armonia con se stesso\, con il prossimo e con la natura. \nBruno Gröning fornisce agli uomini un insegnamento\nLo scopo dell’insegnamento di Bruno Gröning è di trasformare ogni uomo in una persona felice\, libera da preoccupazioni fisiche e spirituali. \nA questo proposito Bruno Gröning dice testualmente: “Questo mio insegnamento è una saggezza di vita con la quale già molti miei amici vivono ottenendo successi. \nApplicando questo insegnamento si sono verificati profondi cambiamenti\, che spesso hanno portato ad una guarigione.” \nBruno Gröning aspirava soltanto ad aiutare i sofferenti. \nEgli dava loro il suo insegnamento che non era intellettuale\, bensì un’intuitiva percezione delle leggi spirituali. \nChi si avvicina a questo insegnamento\, riconoscerà in esso una complessità inattesa che va ben oltre la guarigione poiché l’uomo non guarisce solo il proprio corpo ma anche la propria anima. \nEgli richiamava gli uomini a credere al bene e a metterlo in pratica. \n  \nShare on:
URL:https://associazionevegananimalista.it/event/incontro-trisettimanale-degli-amici-di-bruno-groning/
CATEGORIES:Conferenze AVA 2019,Eventi AVA 2019
END:VEVENT
END:VCALENDAR