BEGIN:VCALENDAR
VERSION:2.0
PRODID:-//AVA - ECPv6.15.20//NONSGML v1.0//EN
CALSCALE:GREGORIAN
METHOD:PUBLISH
X-WR-CALNAME:AVA
X-ORIGINAL-URL:https://associazionevegananimalista.it
X-WR-CALDESC:Eventi per AVA
REFRESH-INTERVAL;VALUE=DURATION:PT1H
X-Robots-Tag:noindex
X-PUBLISHED-TTL:PT1H
BEGIN:VTIMEZONE
TZID:Europe/Rome
BEGIN:DAYLIGHT
TZOFFSETFROM:+0100
TZOFFSETTO:+0200
TZNAME:CEST
DTSTART:20180325T010000
END:DAYLIGHT
BEGIN:STANDARD
TZOFFSETFROM:+0200
TZOFFSETTO:+0100
TZNAME:CET
DTSTART:20181028T010000
END:STANDARD
BEGIN:DAYLIGHT
TZOFFSETFROM:+0100
TZOFFSETTO:+0200
TZNAME:CEST
DTSTART:20190331T010000
END:DAYLIGHT
BEGIN:STANDARD
TZOFFSETFROM:+0200
TZOFFSETTO:+0100
TZNAME:CET
DTSTART:20191027T010000
END:STANDARD
BEGIN:DAYLIGHT
TZOFFSETFROM:+0100
TZOFFSETTO:+0200
TZNAME:CEST
DTSTART:20200329T010000
END:DAYLIGHT
BEGIN:STANDARD
TZOFFSETFROM:+0200
TZOFFSETTO:+0100
TZNAME:CET
DTSTART:20201025T010000
END:STANDARD
END:VTIMEZONE
BEGIN:VEVENT
DTSTART;TZID=Europe/Rome:20190411T180000
DTEND;TZID=Europe/Rome:20190411T200000
DTSTAMP:20260424T042953
CREATED:20190315T165934Z
LAST-MODIFIED:20190410T080520Z
UID:2675-1555005600-1555012800@associazionevegananimalista.it
SUMMARY:Effetti preventivi e terapeutici dell’alimentazione vegan
DESCRIPTION:La dr.ssa Sabina Bietolini\, Biologa Nutrizionista\, Dottore di Ricerca in Scienza della Salute\, parlerà di: \nEffetti preventivi e terapeutici dell’alimentazione vegan\nSabina Bietolini\, biologa nutrizionista\, con dottorato di ricerca in Scienze della Salute. \nHa svolto attività di ricerca scientifica per circa 10 anni\, prima in Irlanda\, poi in Italia\, e attualmente si occupa a Roma di nutrizione preventiva\, dal concepimento alla senescenza\, in particolare dedicandosi a preconcepimento\, gravidanza\, allattamento e svezzamento. \n“È cofondatrice della SIPEF\, socia SINU\, terapista Be4eat\, docente nel Corso di Perfezionamento Universitario UNICUSANO “Alimentazione vegetariana e vegan” e membro del Comitato Scientifico AssoVegan.” \nCollaboratrice del SSNV\n \nMolti medici\, ostetriche\, dietiste e colleghi ritengono che con la dieta Vegan manchino gli aminoacidi essenziali\, il ferro e il calcio (e altro). \nPremesso che i nutrienti citati sono presenti in abbondanza in una dieta vegan ben bilanciata (non faidate)\, oggi ho capito perché tali professionisti abbiano certe convinzioni: ho visto il pasto vegan in un ospedale romano nel reparto ostetricia.\n“20 g di pastina nel minestrone\, patate lesse\, 30 g di pane bianco e frutta omogeneizzata”\n \nIn altre parole un pasto che di equilibrato non ha nulla!!!\n \nMa che competenze aveva chi lo ha stilato? Meglio non chiederlo.\n \nE tutto rigorosamente in alluminio e plastica\nSe questo è ciò che considerano vegan\, non hanno tutti i torti ad essere preoccupati.\n\nPer fortuna vegan è decisamente altro\n\nSe solo avessero l’umiltà di ammettere di non essere capaci e chiedere aiuto a chi è invece competente sulla dieta 100%vegetale…\nSabina Bietolini \n  \n  \nShare on:
URL:https://associazionevegananimalista.it/event/effetti-preventivi-e-terapeutici-dellalimentazione-vegan/
CATEGORIES:Conferenze AVA 2019,Eventi AVA 2019
END:VEVENT
END:VCALENDAR