BEGIN:VCALENDAR
VERSION:2.0
PRODID:-//AVA - ECPv6.15.20//NONSGML v1.0//EN
CALSCALE:GREGORIAN
METHOD:PUBLISH
X-ORIGINAL-URL:https://associazionevegananimalista.it
X-WR-CALDESC:Eventi per AVA
REFRESH-INTERVAL;VALUE=DURATION:PT1H
X-Robots-Tag:noindex
X-PUBLISHED-TTL:PT1H
BEGIN:VTIMEZONE
TZID:Europe/Rome
BEGIN:DAYLIGHT
TZOFFSETFROM:+0100
TZOFFSETTO:+0200
TZNAME:CEST
DTSTART:20180325T010000
END:DAYLIGHT
BEGIN:STANDARD
TZOFFSETFROM:+0200
TZOFFSETTO:+0100
TZNAME:CET
DTSTART:20181028T010000
END:STANDARD
BEGIN:DAYLIGHT
TZOFFSETFROM:+0100
TZOFFSETTO:+0200
TZNAME:CEST
DTSTART:20190331T010000
END:DAYLIGHT
BEGIN:STANDARD
TZOFFSETFROM:+0200
TZOFFSETTO:+0100
TZNAME:CET
DTSTART:20191027T010000
END:STANDARD
BEGIN:DAYLIGHT
TZOFFSETFROM:+0100
TZOFFSETTO:+0200
TZNAME:CEST
DTSTART:20200329T010000
END:DAYLIGHT
BEGIN:STANDARD
TZOFFSETFROM:+0200
TZOFFSETTO:+0100
TZNAME:CET
DTSTART:20201025T010000
END:STANDARD
END:VTIMEZONE
BEGIN:VEVENT
DTSTART;TZID=Europe/Rome:20190602T123000
DTEND;TZID=Europe/Rome:20190602T193000
DTSTAMP:20260424T011342
CREATED:20190510T151820Z
LAST-MODIFIED:20190511T081816Z
UID:3147-1559478600-1559503800@associazionevegananimalista.it
SUMMARY:SPLENDIDA SCAMPAGNATA ANNUALE AVA  DOMENICA 2 GIUGNO
DESCRIPTION:SPLENDIDA SCAMPAGNATA ANNUALE AVA DOMENICA 2 GIUGNO\nQuest’anno il luogo scelto\, per la consueta scampagnata estiva AVA\, è il bellissimo “AGRITURISMO MARCO SIMONE” a pochi chilometri dall’uscita 12 del raccordo anulare di Roma\, Centrale del Latte. \nL’appuntamento è direttamente sul posto verso le ore 12.00 – 12\,30\nIl pranzo è previsto per le ore 13\,00 circa. \nDurante il pranzo sottofondo musicale con il flauto di Mario Graffeo. Seguiranno brani alla chitarra\, alla fisarmonica e canzoni con Alessandro Calabrò e… \nDopo pranzo\, verso le ore 15\,00\, breve saluto del presidente AVA Franco Libero Manco su “La paura di rinunciare alla carne”\nVerso le ore 16\,00 passeggiata all’esterno dell’agriturismo per visitare i bellissimi giardini del posto. \n————————————– \nPER PARTECIPARE E’ NECESSARIA LA PRENOTAZIONE \nPRIMA POSSIBILE TRAMITE IL VERSAMENTO ANTICIPATO DI 20 € DIRETTAMENTE IN SEDE O TRAMITE BONIFICO \nIBAN: IT34 D010 0503 2080 0000 0016 781;   OPPURE C.C. 58343153\, AVVISANDO DELL’AVVENUTO VERSAMENTO. \nPer info: 3391406256\, 3500865177\, 333 9633050. \nCoinvolgete amici e simpatizzanti. Più siamo e meglio è. \n———————————— \nMENU’ \n–        Antipasto: verdure grigliate e fritti misti vegetali \n–        Primi; carbonara vegan e risotto al radicchio \n–        Secondi: parmigiana di melanzane al pomodoro e basilico\, \n–        Contorni: cicoria saltata in padella e patate al forno \n–        Incluso: pane\, vino\, acqua\, caffè. \n———————————– \nCOME ARRIVARE SUL POSTO \n\nCol navigatore: via di Marco Simone 251\nPrendere il GRA di Roma\nUscita n.12 e procedere sempre diritto\nDopo 4-5 km sul lato destro troverai il cartello “Tempio delle arti marziali”\nSei già arrivato\, entra nella stradina e parcheggia: l’agriturismo è subito dopo lo slargo del tempio.\n\nRiferimenti: tel. 06 41400138\, https://maps.app.goo.gl/oSbxAxTAQzPbzhTd6 \n \n  \nPARLAMI D’AMORE O NOTTE \nMentre dormivi il tuo sonno tranquillo \nnelle notti immense dell’esilio invernale \nho sentito il tuo pianto inabissarsi \nsotto i colpi impietosi dei bastoni. \n  \nHo visto le distese di sangue \nsulle nevi abbaglianti in Groenlandia \ne la morte gridare il suo trionfo sulla vita. \no notte\, nella notte in cui l’anima \nsprofonda nell’oblìo \nconcedimi il potere \nche placa le tempeste della follia \nche strappa l’orgoglio \ndella fratellanza negata. \n  \nDimmi che la vita non è solo dolore. \n  \nDimmi che l’amore avrà il sopravvento \nsugli uragani del disprezzo \ne per te innalzerò un tempio nel mio cuore. \n  \nStanotte\, solo per stanotte \ndammi l’illusione dell’egoismo disperso \ndal lavacro di un’onda redentrice. \n  \nNon parlarmi delle fosse comuni nel Kosovo \no dei corpi mutilati dalla lebbra. \n  \nParlami di te o notte \ndella tua volta silente di cristallo \ndei tuoi occhi incandescenti \nche cercano invano di celarti. \n  \nParlami dei cuccioli che giocano a rincorrersi \nsotto lo sguardo attento delle madri. \n  \nParlami della terra \nmentre sposa il seme della vita \ne della luna incastonata contro il cielo \nnelle notti sfavillanti dell’estate. \n  \nParlami degli oceani\, vasti\, profondi \ne delle sue onde striate da candidi ricami. \n  \nParlami della memoria dell’acqua \nmentre finemente si adagia \nsu sterminati campi di ginepri. \n  \nRaccontami dell’alba \nmentre l’ombra notturna si addolcisce \nalle prime carezze del mattino \ne del sole che indugia al tramonto \nnei suoi vortici ardenti prima di eclissarsi. \n  \nParlami delle folle di farfalle \nche danzano sui fiori rutilanti \ne dei colori dei prati che sfumano \nnella dolce penombra della sera. \n  \nDimmi del volo radente e rapido dei passeri \nsull’erba che s’agita tranquilla \nin larghe onde sinuose. \n  \nParlami di questo o notte \ndel sogno più antico della vita. \nStanotte\, solo per stanotte\, o notte \nmenti a te stessa e parlami d’amore. \nFranco Libero  Manco \nShare on:
URL:https://associazionevegananimalista.it/event/splendida-scampagnata-annuale-ava-domenica-2-giugno/
CATEGORIES:Conferenze AVA 2019,Eventi AVA 2019
END:VEVENT
END:VCALENDAR