BEGIN:VCALENDAR
VERSION:2.0
PRODID:-//AVA - ECPv6.15.20//NONSGML v1.0//EN
CALSCALE:GREGORIAN
METHOD:PUBLISH
X-WR-CALNAME:AVA
X-ORIGINAL-URL:https://associazionevegananimalista.it
X-WR-CALDESC:Eventi per AVA
REFRESH-INTERVAL;VALUE=DURATION:PT1H
X-Robots-Tag:noindex
X-PUBLISHED-TTL:PT1H
BEGIN:VTIMEZONE
TZID:Europe/Rome
BEGIN:DAYLIGHT
TZOFFSETFROM:+0100
TZOFFSETTO:+0200
TZNAME:CEST
DTSTART:20180325T010000
END:DAYLIGHT
BEGIN:STANDARD
TZOFFSETFROM:+0200
TZOFFSETTO:+0100
TZNAME:CET
DTSTART:20181028T010000
END:STANDARD
BEGIN:DAYLIGHT
TZOFFSETFROM:+0100
TZOFFSETTO:+0200
TZNAME:CEST
DTSTART:20190331T010000
END:DAYLIGHT
BEGIN:STANDARD
TZOFFSETFROM:+0200
TZOFFSETTO:+0100
TZNAME:CET
DTSTART:20191027T010000
END:STANDARD
BEGIN:DAYLIGHT
TZOFFSETFROM:+0100
TZOFFSETTO:+0200
TZNAME:CEST
DTSTART:20200329T010000
END:DAYLIGHT
BEGIN:STANDARD
TZOFFSETFROM:+0200
TZOFFSETTO:+0100
TZNAME:CET
DTSTART:20201025T010000
END:STANDARD
END:VTIMEZONE
BEGIN:VEVENT
DTSTART;TZID=Europe/Rome:20190615T150000
DTEND;TZID=Europe/Rome:20190615T180000
DTSTAMP:20260424T011213
CREATED:20190604T125615Z
LAST-MODIFIED:20190604T125616Z
UID:3270-1560610800-1560621600@associazionevegananimalista.it
SUMMARY:Marcia per il clima e contro gli allevamenti intensivi a Roma!
DESCRIPTION:Marcia per il clima e contro gli allevamenti intensivi a Roma!\nIl 2035 sarà\, a detta di molti scienziati\, l’anno del punto di non ritorno; il momento in cui non sarà più possibile invertire il cambiamento climatico in atto. \nDa allora\, potremo solo assistere impotenti alla fine della Terra come l’abbiamo conosciuta fin qui. \nAbbiamo ancora pochi anni per invertire la rotta in maniera drastica e permettere che su questo pianeta ci possa essere un futuro per la specie umana e le migliaia di specie animali che oggi lo popolano\nI governi non solo non stanno prendendo nessuna iniziativa per fermare il disastro in atto\, ma continuano a sovvenzionare le attività più impattanti e distruttive\, relativamente all’ecosistema. \nGli allevamenti intensivi ricevono ogni anno decine di miliardi di euro di finanziamento e sono responsabili del 20% dell’inquinamento che tutti i giorni ammala il nostro pianeta\nE’ di qualche giorno fa l’approvazione\, da parte della Commissione Agricoltura del Parlamento europeo\, della riforma della Pac (Politica Agricola Comune) che non contempla il taglio dei finanziamenti pubblici agli allevamenti intensivi\, così come proposto dalla Commissione Ambiente. \nSimilmente\, non sarà neppure limitata la densità degli animali allevati nelle aziende beneficiarie dei fondi comunitari. \nE il benessere animale non sarà considerato un criterio dirimente per l’erogazione dei finanziamenti. \nCome si può parlare di ridurre l’avvelenamento della Terra e fermare i cambiamenti climatici se si continua a destinare risorse economiche pressoché illimitate proprio alle cause di questo disastro?\nServono atti concreti immediati. Serve interrompere i finanziamenti pubblici agli allevamenti intensivi per sostenere attività con un impatto ambientale basso o nullo. \nEsistono migliaia di esempi virtuosi che sono però lasciati ai margini\, mentre le risorse economiche provenienti dai governi sono destinate a multinazionali\, le cui attività creano inquinamento e devastazione. \nInfatti\, sempre in sede di approvazione della Pac europea\, è stata respinta la proposta di aumentare la quota di fondi da destinare a modelli di agricoltura ecosostenibile. \nEsiste\, però\, anche la responsabilità morale dei consumatori che dovrebbero mettere in atto quei comportamenti virtuosi\, atti a ridurre al minimo la propria impronta ecologica\nTra questi\, l’eliminazione o la riduzione drastica del consumo di carne è indubbiamente quello in grado di dare più risultati. \nA tal proposito\, si registra la proposta della parlamentare britannica Caroline Lucas\, di tassare la carne per ridurne il consumo\, proprio per contrastare il cambiamento climatico. \nNonostante l’idea abbia sollevato numerose proteste da parte\, soprattutto\, di chi sostiene la lobby degli allevatori\, è positivo il fatto che qualcuno che occupa posizioni apicali nei governi\, inizi a sentire come impellente l’emergenza clima. \nDare forza a queste posizioni è uno degli obiettivi di questa marcia\nFacciamoci sentire perché vogliamo un futuro per il pianeta\, dove gli esseri umani possano finalmente vivere in simbiosi con esso e con tutti i suoi abitanti. \nVogliamo invertire la rotta per far sì che le nuove generazioni possano vivere in un luogo come l’abbiamo conosciuto fin qui. \nVogliamo farlo ora perché non avremo altre possibilità. \nFermiamo gli allevamenti intensivi\, fermiamo il cambiamento climatico!\nPer adesioni scrivete a adesioni15giu@animalamnesty.it \nPer organizzare autobus pullman15giu@animalamnesty.it \nELENCO PULLMAN \nNapoli https://www.facebook.com/events/316750932355525/?ti=cl \nCesena https://www.facebook.com/events/454502475354828/?ti=cl \nLiguria e Piemonte\nhttps://www.facebook.com/events/1094585550729291/?ti=cl \nMilano (con tappe)\nhttps://www.facebook.com/events/2379117292377815/?ti=cl \n  \nCARPOOLING: \nFirenze\nhttps://www.facebook.com/events/449882549094302/ \nBologna\nhttps://www.facebook.com/events/421208935380696/ \nTorino\nhttps://www.facebook.com/events/456050898271741/ \nMilano\nhttps://www.facebook.com/events/330983537566437/ \nGenova\nhttps://www.facebook.com/events/2243806762503527/ \nAbruzzo\nhttps://www.facebook.com/events/682490605541051/ \n \nAnche se fa caldo non tosate il vostro cane! \nTosare il cane\, pensando che in tal modo soffrirà meno il caldo o che diminuirà la presenza di peli sparsi in casa è un grosso errore che può danneggiare l’animale\, invece che arrecargli beneficio. \nSebbene infatti anche i cani abbiano ghiandole sudoripare (collocate prevalentemente sui polpastrelli e nelle orecchie) il principale meccanismo di regolazione termica consiste nell’inspirare aria con il naso ed espellerla dalla bocca\, ansimando.\n \nTagliare il pelo non favorisce quindi in alcun modo la sudorazione (che i cani non hanno)\, ma anzi elimina un prezioso strumento di conservazione della temperatura e di protezione dai parassiti e dai raggi solari.\n \nSolo alcune razze particolari\, avendo un pelo molto soggetto a formare nodi (che se non pettinati e curati rischiano di causare dermatiti e irritazioni a causa della sporcizia accumulata in essi) possono avere benefici da un taglio che ne accorci il mantello e sono Maltese\, Barboncino\, Yorkshire\, Pechinese\, Shih Tzu e simili.\n \nAssolutamente da non fare invece a cani nordici e primitivi\, cani da pastore e bovari\, cani da cerca e da acqua\, cani con fitto sottopelo\, cani con pelo bianco o corto.\n \nOvviamente il miglior modo per non far accaldare il cane di qualunque razza esso sia è di non costringerlo ad uscire o ad avere attività nelle ore più calde della giornata e lasciargli sempre a disposizione una ciotola colma di acqua fresca. \nAnimal Amnesty \nShare on:
URL:https://associazionevegananimalista.it/event/marcia-per-il-clima-e-contro-gli-allevamenti-intensivi-a-roma/
CATEGORIES:Eventi AVA 2019
END:VEVENT
END:VCALENDAR