BEGIN:VCALENDAR
VERSION:2.0
PRODID:-//AVA - ECPv6.15.20//NONSGML v1.0//EN
CALSCALE:GREGORIAN
METHOD:PUBLISH
X-WR-CALNAME:AVA
X-ORIGINAL-URL:https://associazionevegananimalista.it
X-WR-CALDESC:Eventi per AVA
REFRESH-INTERVAL;VALUE=DURATION:PT1H
X-Robots-Tag:noindex
X-PUBLISHED-TTL:PT1H
BEGIN:VTIMEZONE
TZID:Europe/Rome
BEGIN:DAYLIGHT
TZOFFSETFROM:+0100
TZOFFSETTO:+0200
TZNAME:CEST
DTSTART:20180325T010000
END:DAYLIGHT
BEGIN:STANDARD
TZOFFSETFROM:+0200
TZOFFSETTO:+0100
TZNAME:CET
DTSTART:20181028T010000
END:STANDARD
BEGIN:DAYLIGHT
TZOFFSETFROM:+0100
TZOFFSETTO:+0200
TZNAME:CEST
DTSTART:20190331T010000
END:DAYLIGHT
BEGIN:STANDARD
TZOFFSETFROM:+0200
TZOFFSETTO:+0100
TZNAME:CET
DTSTART:20191027T010000
END:STANDARD
BEGIN:DAYLIGHT
TZOFFSETFROM:+0100
TZOFFSETTO:+0200
TZNAME:CEST
DTSTART:20200329T010000
END:DAYLIGHT
BEGIN:STANDARD
TZOFFSETFROM:+0200
TZOFFSETTO:+0100
TZNAME:CET
DTSTART:20201025T010000
END:STANDARD
END:VTIMEZONE
BEGIN:VEVENT
DTSTART;TZID=Europe/Rome:20190912T190000
DTEND;TZID=Europe/Rome:20190912T230000
DTSTAMP:20260423T204409
CREATED:20190910T122028Z
LAST-MODIFIED:20190910T122223Z
UID:3569-1568314800-1568329200@associazionevegananimalista.it
SUMMARY:CENA SALENTINA DI FINE ESTATE IN SEDE AVA
DESCRIPTION:Finché un animale sarà abbandonato\, nessuno sfuggirà alla solitudine. Finché un animale sarà oltraggiato\, nessuno sarà al riparo della violenza. Finché un animale sarà recluso\, nessun uomo sarà libero. \n(Franco Libero Manco) \nLeggi condividi e diffondi: PROGETTO PACE NEL MONDO – EDUCARE L’UMANITA’ ALLA PACE di Franco Libero Manco \nVisita il nostro sito Associazione Vegan Animalista \nMetti “Mi piace” sulla pagina Facebook del presidente Franco Libero Manco \nMetti “Mi piace” sulla nostra pagina Facebook AVA Associazione Vegan Animalista \nVieni a trovarci presso la nostra sede di Roma in Piazza Asti\, 5/A siamo aperti tutti i giorni dalle ore dodici alle diciotto \nIscriviti alla nostra Newsletter \nVisiona iscriviti e condividi le nostre videoconferenze dal nostro canale Youtube \n Iscriviti ai nostri gruppi su Facebook: \nAVA Associazione Vegan Animalista \nSupporta Agripunk e tutti i Rifugi di Animali Liberi \nCENA SALENTINA DI FINE ESTATE IN SEDE AVA\nGiovedì 12 settembre alle ore 20\,00 \npiazza Asti 5/a Roma\, \nspeciale cena salentina\, con il seguente menù:\ninsalatona mista di stagione e tartine con patè vari; \nfettuccine casarecce ai pomodori “schiattarisciati”; \nfavette e cicoria di campo; \nfichi d’india e cocomero; \npane\, vino\, olive\, acqua. \nIl contributo è di 15 euro. \nE’ necessaria la prenotazione a Luana tel. 3391406256 \nDalle ore 19\,00 alle 20\,00 proiezione di bellissimi cortometraggi.\n————————– \nDal film “Signore e signori buonanotte” : Tavola rotonda. Paolo T. Fiume fa da moderatore con quattro degli ultimi amministratori di Napoli\, curiosamente tutti con lo stesso cognome\, Lo Bove\, a cui non riesce a rivolgere alcuna domanda da parte dei telespettatori\, perché sono solo una sequela d’insulti nei confronti di quei politici corrotti che\, alla fine\, perdono il controllo e si mangiano letteralmente la città di Napoli\, in una sua ricostruzione di torrone\, e addirittura rubano l’orologio al giornalista.\nCONTORSIONISMI DIALETTICI\nDopo che il grande scandalo \ndel tir di prosciutti scomparso \ne misteriosamente ritrovato vuoto \nsotto l’abitazione dell’onorevole Quattroganasce\, \nfu aperta un’ interrogazione parlamentare \nnell’intento di chiarire la faccenda. \nIl primo a parlare fu il Ministro per gli Affari degli Altri \nIl quale\, visibilmente imbarazzato\, disse: \n“Onorevoli colleghi\, \nquantunque le concomitanze suppositive \nportino incontrovertibilmente \nall’ anamorfosi congetturale\, \nsi presume\, con assoluta certezza\, \nche la sindrome del dubbio possa avocare \nla  prodromica reiezione \ndelle lutulenti azioni lubridiche del reo“. \n“Che ha detto!?”chiese il Segretario del partito “Meglio Tutto e Subito”. \nHa detto che stanno indagando\, \nrispose un compagno di partito. \nAllora\, prese la parola\, \nil Ministro di Grazia per Favore disse: \n  \n“I sofismi dell’anacoluto postulato \ninficiano l’ipocondria latente \ndell’elusivo solipsismo pragmatico \nmentre il paradigma della discrasia criptica \nobbliga a trascendere l’oggettivismo apologetico \ndella sinapsi procedurale”. \nL’onorevole Calogero Scalia mormorò \nal compagno che gli era accanto: \n“Ma ‘anacoluto’ parola offensiva è? Aah!?” \nNooo! rispose sicuro e persuasivo il suo collega. \nA questo punto intervenne \nil Ministro della Pubblica Interruzione \nche così si espresse: \n“Se la metonimia analogica edulcora \nil pregenetico antropofagismo tendenziale \nla catàbasi icastica della congettura avulsiva \ninduce a confutare le inconsulte \nsupposizioni obnubilate \nnel repente dileguarsi del tabulo bottino”. \nAlcuni annuivano tra loro \nostentando l’aria di chi ha capito tutto \naltri avevano in faccia l’espressione \ndi chi è stato colto con le mani nel sacco. \n“Ma l’hanno trovati i prosciutti?” \nchiese il senatore Pansagrossa. \nPare di no\, rispose sconsolato un suo collega. \nS’era fatta ormai l’ora di cena \nquando qualcuno disse sottovoce \nche il pranzo a mensa era servito. \nNon si sa come ma tutti capirono all’istante \ned in un baleno si disperse l’assemblea. \nFranco Libero Manco \nShare on:
URL:https://associazionevegananimalista.it/event/cena-salentina-di-fine-estate-in-sede-ava/
CATEGORIES:Eventi AVA 2019
END:VEVENT
END:VCALENDAR