BEGIN:VCALENDAR
VERSION:2.0
PRODID:-//AVA - ECPv6.15.20//NONSGML v1.0//EN
CALSCALE:GREGORIAN
METHOD:PUBLISH
X-ORIGINAL-URL:https://associazionevegananimalista.it
X-WR-CALDESC:Eventi per AVA
REFRESH-INTERVAL;VALUE=DURATION:PT1H
X-Robots-Tag:noindex
X-PUBLISHED-TTL:PT1H
BEGIN:VTIMEZONE
TZID:Europe/Rome
BEGIN:DAYLIGHT
TZOFFSETFROM:+0100
TZOFFSETTO:+0200
TZNAME:CEST
DTSTART:20180325T010000
END:DAYLIGHT
BEGIN:STANDARD
TZOFFSETFROM:+0200
TZOFFSETTO:+0100
TZNAME:CET
DTSTART:20181028T010000
END:STANDARD
BEGIN:DAYLIGHT
TZOFFSETFROM:+0100
TZOFFSETTO:+0200
TZNAME:CEST
DTSTART:20190331T010000
END:DAYLIGHT
BEGIN:STANDARD
TZOFFSETFROM:+0200
TZOFFSETTO:+0100
TZNAME:CET
DTSTART:20191027T010000
END:STANDARD
BEGIN:DAYLIGHT
TZOFFSETFROM:+0100
TZOFFSETTO:+0200
TZNAME:CEST
DTSTART:20200329T010000
END:DAYLIGHT
BEGIN:STANDARD
TZOFFSETFROM:+0200
TZOFFSETTO:+0100
TZNAME:CET
DTSTART:20201025T010000
END:STANDARD
END:VTIMEZONE
BEGIN:VEVENT
DTSTART;TZID=Europe/Rome:20190919T180000
DTEND;TZID=Europe/Rome:20190919T210000
DTSTAMP:20260423T204655
CREATED:20190523T153310Z
LAST-MODIFIED:20190710T142247Z
UID:3221-1568916000-1568926800@associazionevegananimalista.it
SUMMARY:La dieta anticancro
DESCRIPTION:La dieta anticancro\nDott. Federico Calviello\n\nLaureato in Scienze Biologiche\, master universitario in alimentazione per il benessere e la salute. \n\nCorso di perfezionamento in alimentazione e nutrizione dello sportivo. Ricercatpre presso il CRA nel periodo 2003 – 2010.\n\nFormatore presso l’AINUC per l’educazione continua degli operatori della sanità. Diploma di Erborista. Biologo nutrizionista libero professionista.\n\nMembro del Comitato Scientifico di Associazione Vegani Italiani Onlus.\n\n\nL’alimentazione vegetariana-vegana è chiamata quotidianamente a confrontarsi con la possibilità di prevenire le malattie croniche e migliorare la condizione patologica in soggetti che ne siano affetti.\nA tale scopo\, una breve ma esaustiva introduzione sullo stato dell’arte della ricerca scientifica in relazione al ruolo preventivo delle scelte alimentari guiderà a comprendere l’insostituibile ruolo chiave per la salute di un’alimentazione equilibrata e fisiologica a prevalente/esclusiva base vegetale.A seguire\, un quadro riassuntivo delle possibili cause coinvolte nello sviluppo del tumore\, ripercorrendo le ipotesi più plausibili in campo scientifico. \nVerranno illustrati gli ambiti di intervento preventivo e terapeutico di alcune molecole impiegate in fitoterapia per il trattamento delle patologie degenerative\, secondo le più recenti pubblicazioni scientifiche in merito.\nSaranno illustrati e discussi alcuni esempi di comportamento alimentare indicati in pazienti oncologici\, diabetici e affetti da malattie neurodegenerative. \n\nShare on:
URL:https://associazionevegananimalista.it/event/la-dieta-anticancro/
CATEGORIES:Conferenze AVA 2019,Eventi AVA 2019
ATTACH;FMTTYPE=image/jpeg:https://associazionevegananimalista.it/wp-content/uploads/2019/05/caviello.jpg
END:VEVENT
END:VCALENDAR