BEGIN:VCALENDAR
VERSION:2.0
PRODID:-//AVA - ECPv6.15.20//NONSGML v1.0//EN
CALSCALE:GREGORIAN
METHOD:PUBLISH
X-ORIGINAL-URL:https://associazionevegananimalista.it
X-WR-CALDESC:Eventi per AVA
REFRESH-INTERVAL;VALUE=DURATION:PT1H
X-Robots-Tag:noindex
X-PUBLISHED-TTL:PT1H
BEGIN:VTIMEZONE
TZID:Europe/Rome
BEGIN:DAYLIGHT
TZOFFSETFROM:+0100
TZOFFSETTO:+0200
TZNAME:CEST
DTSTART:20180325T010000
END:DAYLIGHT
BEGIN:STANDARD
TZOFFSETFROM:+0200
TZOFFSETTO:+0100
TZNAME:CET
DTSTART:20181028T010000
END:STANDARD
BEGIN:DAYLIGHT
TZOFFSETFROM:+0100
TZOFFSETTO:+0200
TZNAME:CEST
DTSTART:20190331T010000
END:DAYLIGHT
BEGIN:STANDARD
TZOFFSETFROM:+0200
TZOFFSETTO:+0100
TZNAME:CET
DTSTART:20191027T010000
END:STANDARD
BEGIN:DAYLIGHT
TZOFFSETFROM:+0100
TZOFFSETTO:+0200
TZNAME:CEST
DTSTART:20200329T010000
END:DAYLIGHT
BEGIN:STANDARD
TZOFFSETFROM:+0200
TZOFFSETTO:+0100
TZNAME:CET
DTSTART:20201025T010000
END:STANDARD
END:VTIMEZONE
BEGIN:VEVENT
DTSTART;TZID=Europe/Rome:20191010T180000
DTEND;TZID=Europe/Rome:20191010T200000
DTSTAMP:20260423T193035
CREATED:20190922T204343Z
LAST-MODIFIED:20191004T130105Z
UID:3611-1570730400-1570737600@associazionevegananimalista.it
SUMMARY:I pericoli nell’acqua che beviamo
DESCRIPTION:Serenamente contemplava la corrente del fiume; mai un’acqua gli era tanto piaciuta come questa\, mai aveva sentito così forti e così belli la voce e il significato dell’acqua che passa. Gli pareva che il fiume avesse qualcosa di speciale da dirgli\, qualcosa ch’egli non sapeva ancora\, qualcosa che aspettava proprio lui.\n(Hermann Hesse) \nI pericoli nell’acqua che beviamo\nDr. Vito Umberto Vavalli\, Ricercatore (ex CNR)\, Formatore (ex LUISS e SDA Bocconi)\, Economista e Manager (ex ENI e Banca UBAE)\, Obiettore di Crescita \n————————————– \n(AdnKronos Salute) – Non sono solamente nei nostri mari ma ormai anche nell’acqua che beviamo\, sia acquistata in bottiglia sia sorgente. \nE’ allarme per le microplastiche su cui l’Organizzazione mondiale della Sanità (Oms) chiede ora con urgenza altri dati sul loro impatto sulla salute. \n“Ai livelli attuali e sulla base delle informazioni disponibili – afferma l’Oms – le microplastiche nell’acqua potabile non sembrano rappresentare un rischio per la salute. \nMa dobbiamo saperne di più”. \nDunque\, a seguito della pubblicazione di un’analisi delle ricerche attuali relative alle microplastiche nell’acqua potabile\, l’organizzazione chiede “un’ulteriore valutazione delle microplastiche nell’ambiente e dei loro potenziali impatti sulla salute umana” ma anche “una riduzione dell’inquinamento da plastica a beneficio dell’ambiente e per ridurre l’esposizione dell’uomo”. \n“Abbiamo urgentemente bisogno di saperne di più sull’impatto sulla salute delle microplastiche perché sono ovunque\, anche nella nostra acqua potabile”\, afferma Maria Neira\, direttore del Dipartimento sanità pubblica\, ambiente e determinanti sociali della salute dell’Oms.\n“Secondo l’analisi – si legge in una nota dell’Oms – che riassume le ultime conoscenze sulle microplastiche nell’acqua potabile\, è improbabile che le microplastiche superiori a 150 micrometri vengano assorbite nel corpo umano e l’assorbimento di particelle più piccole dovrebbe essere limitato. \nL’assorbimento e la distribuzione di particelle microplastiche molto piccole\, comprese quelle di dimensioni nano\, possono tuttavia essere più elevate\, sebbene i dati siano estremamente limitati. \nSono necessarie ulteriori ricerche per ottenere una valutazione più accurata dell’esposizione alle microplastiche e dei loro potenziali impatti sulla salute umana”. \n“Questi includono lo sviluppo di metodi standard per misurare le particelle di microplastica in acqua; ulteriori studi sulle fonti e sulla presenza di microplastiche in acqua dolce; e l’efficacia di diversi processi di trattamento”\, continua l’Organizzazione. \nL’Oms raccomanda ai fornitori di acqua potabile e ai regolatori di “dare la priorità alla rimozione di agenti patogeni microbici e sostanze chimiche che sono rischi noti per la salute umana\, come quelli che causano mortali malattie diarroiche”. \n“Ciò ha un doppio vantaggio – spiegano gli esperti – i sistemi di trattamento delle acque reflue e delle acque potabili che trattano il contenuto fecale e i prodotti chimici sono efficaci anche nella rimozione delle microplastiche. \nIl trattamento delle acque reflue può rimuovere oltre il 90% delle microplastiche dalle acque reflue\, con la massima rimozione proveniente dal trattamento terziario come la filtrazione. \nIl trattamento convenzionale dell’acqua potabile può rimuovere particelle più piccole di un micrometro”. \nUna parte significativa della popolazione mondiale – avverte infine l’Oms – attualmente non beneficia di un adeguato trattamento delle acque e delle acque reflue. \nAffrontando il problema dell’esposizione umana all’acqua contaminata con materiali fecali\, le comunità possono affrontare contemporaneamente le preoccupazioni relative alle microplastiche”. \n  \nShare on:
URL:https://associazionevegananimalista.it/event/i-pericoli-nellacqua-che-beviamo/
CATEGORIES:Eventi AVA 2019
ATTACH;FMTTYPE=image/jpeg:https://associazionevegananimalista.it/wp-content/uploads/2019/09/acqua.jpg
END:VEVENT
END:VCALENDAR