BEGIN:VCALENDAR
VERSION:2.0
PRODID:-//AVA - ECPv6.15.20//NONSGML v1.0//EN
CALSCALE:GREGORIAN
METHOD:PUBLISH
X-ORIGINAL-URL:https://associazionevegananimalista.it
X-WR-CALDESC:Eventi per AVA
REFRESH-INTERVAL;VALUE=DURATION:PT1H
X-Robots-Tag:noindex
X-PUBLISHED-TTL:PT1H
BEGIN:VTIMEZONE
TZID:Europe/Rome
BEGIN:DAYLIGHT
TZOFFSETFROM:+0100
TZOFFSETTO:+0200
TZNAME:CEST
DTSTART:20180325T010000
END:DAYLIGHT
BEGIN:STANDARD
TZOFFSETFROM:+0200
TZOFFSETTO:+0100
TZNAME:CET
DTSTART:20181028T010000
END:STANDARD
BEGIN:DAYLIGHT
TZOFFSETFROM:+0100
TZOFFSETTO:+0200
TZNAME:CEST
DTSTART:20190331T010000
END:DAYLIGHT
BEGIN:STANDARD
TZOFFSETFROM:+0200
TZOFFSETTO:+0100
TZNAME:CET
DTSTART:20191027T010000
END:STANDARD
BEGIN:DAYLIGHT
TZOFFSETFROM:+0100
TZOFFSETTO:+0200
TZNAME:CEST
DTSTART:20200329T010000
END:DAYLIGHT
BEGIN:STANDARD
TZOFFSETFROM:+0200
TZOFFSETTO:+0100
TZNAME:CET
DTSTART:20201025T010000
END:STANDARD
END:VTIMEZONE
BEGIN:VEVENT
DTSTART;TZID=Europe/Rome:20191031T180000
DTEND;TZID=Europe/Rome:20191031T200000
DTSTAMP:20260423T175421
CREATED:20190928T164020Z
LAST-MODIFIED:20191028T125432Z
UID:3636-1572544800-1572552000@associazionevegananimalista.it
SUMMARY:Siamo onnivori? Da quando e perché l’uomo mangia animali?
DESCRIPTION:Siamo onnivori? Da quando e perché l’uomo mangia animali?\nDottor Giorgio Fabretti\, Antropologo\, Scrittore\, Presidente Associazione Fruit. \nLaureato con lode alla Sapienza – Università di Roma in Filosofia e Antropologia\, ha continuato gli studi a Berkeley (USA)\, con un’impostazione che vede Storia e Archeologia come campi di un’Antropologia scientifica ed evoluzionista. Per oltre 30 anni ha lavorato come antropologo e giornalista\, spesso in scenari di guerra (Vietnam\, Cambogia\, Afghanistan\, ecc.). Gravemente ferito in missione (1990)\, si è concentrato sull’insegnamento universitario e alla cura della Fondazione Raffaele Fabretti. \nHa collaborato con Antonio Cederna con cui si è impegnato per la realizzazione del Parco regionale dell’Appia Antica. Dal 1972 opera per una rifondazione\, su basi scientifiche e genetiche\, del Fruttarismo ispirato dal Mahatma Gandhi. \nÈ autore di radio-tv (RAI)\, articoli (ha collaborato con Huffington Post[1]) e saggi sulla cultura scientifica\, per spiegare in chiave stocastica e biologica i sintomi politici e sociali. \n  \nIl fruttarismo è un tipo di alimentazione per uno stile di vita sano che recepisce le indicazioni sulla salute internazionali ed in particolare dell’Onu. \nIl valore dell’alimentazione fondata sul fruttarismo ha due ordini di ragione: da un lato migliora la qualità della vita anche perché consente di tenere sotto controllo il dsturbo dell’obesità che colpisce un terzo degli abitanti del mondo (questo è anche quanto hanno sostenuto Marks e Gandhi) e dall’altro va a collocarsi sotto il profilo della correttezza etica tramite la tutela e l’avvicenamento agli animali. L’associazione Fruit ha recepito totalmente il senso e l’importanza del fruttarismo promuovendolo in particolare e con la massima concretezza all’interno del Mercatino biologico di Ostia. Anche la Restaurant Manager mostra apprezzamento nei riguardi dell’alimentazione fruttariana e sostiene che già iniziare a consumare fruttare e vedura in base alla stagionalità sarebbe un buon passo avanti. Alberto Colacchio\, Chef Patron del ristorante Aqua mater potrebbe essere in realtà un ottimo promotore del fruttarismo perché\, tramite le sue caratteristiche di creative\, è in grado di realizzare piatti sani ma che riescono a coniugare anche quello che gli ospiti maggiormente desiderano: sorpresa ed appagamento. \nShare on:
URL:https://associazionevegananimalista.it/event/siamo-onnivori-da-quando-e-perche-luomo-mangia-animali/
CATEGORIES:Eventi AVA 2019
END:VEVENT
END:VCALENDAR