BEGIN:VCALENDAR
VERSION:2.0
PRODID:-//AVA - ECPv6.15.20//NONSGML v1.0//EN
CALSCALE:GREGORIAN
METHOD:PUBLISH
X-ORIGINAL-URL:https://associazionevegananimalista.it
X-WR-CALDESC:Eventi per AVA
REFRESH-INTERVAL;VALUE=DURATION:PT1H
X-Robots-Tag:noindex
X-PUBLISHED-TTL:PT1H
BEGIN:VTIMEZONE
TZID:Europe/Rome
BEGIN:DAYLIGHT
TZOFFSETFROM:+0100
TZOFFSETTO:+0200
TZNAME:CEST
DTSTART:20180325T010000
END:DAYLIGHT
BEGIN:STANDARD
TZOFFSETFROM:+0200
TZOFFSETTO:+0100
TZNAME:CET
DTSTART:20181028T010000
END:STANDARD
BEGIN:DAYLIGHT
TZOFFSETFROM:+0100
TZOFFSETTO:+0200
TZNAME:CEST
DTSTART:20190331T010000
END:DAYLIGHT
BEGIN:STANDARD
TZOFFSETFROM:+0200
TZOFFSETTO:+0100
TZNAME:CET
DTSTART:20191027T010000
END:STANDARD
BEGIN:DAYLIGHT
TZOFFSETFROM:+0100
TZOFFSETTO:+0200
TZNAME:CEST
DTSTART:20200329T010000
END:DAYLIGHT
BEGIN:STANDARD
TZOFFSETFROM:+0200
TZOFFSETTO:+0100
TZNAME:CET
DTSTART:20201025T010000
END:STANDARD
END:VTIMEZONE
BEGIN:VEVENT
DTSTART;TZID=Europe/Rome:20191107T180000
DTEND;TZID=Europe/Rome:20191107T200000
DTSTAMP:20260423T174917
CREATED:20191027T134344Z
LAST-MODIFIED:20191101T144906Z
UID:3712-1573149600-1573156800@associazionevegananimalista.it
SUMMARY:Le intolleranze alimentari: come riconoscerle\, come superarle
DESCRIPTION:La Theriaka:\nla via del benessere\nRitrovare armonia ed energia nella propria vita \nLa theriaka dal greco therion (vipera)\, era un polifarmaco che gli antichi alchimisti e speziali preparavano seguendo un antica ricetta scoperta sembra da Plinio il Vecchio il medico di Nerone;\nquesto rimedio veniva considerato un farmaco universale in grado di curare tutti i mali e una sorta di talismano e di antidoto contro ogni sventura\, il piu famoso degli ingredienti della Theriaka era la carne e il veleno di vipera che secondo le antiche credenze poi confermate da hanneman e la sua teoria omeopatica “similia similibus curantur” il simile cura il simile\, aveva la capacità di annientare tutti i veleni del corpo e purificarlo. \n  \nLe intolleranze alimentari: come riconoscerle\, come superarle\nDavide Ancona Prete Naturopata\, Reiki Master\, Pranoterapeuta\, Arte-terapeuta\,  Esperto in Tecniche Olistiche \nlaureato all’Accademia di Belle arti di Bologna tiene gruppi di arte e creatività\,\nConsegue il titolo di Naturopata presso la libera università di naturopatia L.U.I.N.A. istituto di rudy lanza (to) tiene consulenze sulla nutrizione\,\ndiplomato alla scuola Ecipar di Modena come estetista-massaggiatore è esperto in massaggio estetico\, ayurvedico\, shiatsu\, riflessologia plantare\, sportivo\, connettivale. \n Consegue il titolo di Master Reiki presso il centro l’Araba Fenice di Bologna \,Yoga Teacher\, esperto di discipline olistiche:\nastrologia\, channeling e lettura dell’aura\, cristalloterapia\, meditazione\, floriterapia\, rebirthing\, musicoterapia e tecniche di riequilibrio attraverso il suono con le campane di cristallo e la voce.\nInizia il suo percorso di studi al’età di 16 anni dove si dedica alla ricerca interiore e all’ approfondimento delle spiritualità di diverse tradizioni culturali. \nFrequenta in italia e all’estero numerosi seminari di studio (dinamica mentale base\, EFT(emoziona freedom technichs)\, rio abierto\, medianità\, costellazioni famigliari\, radionica e radiestesia\, positive thinking\, sciamanesimo\, percorsi sulle paure\, le nozze sacre del maschile e femminile ecc. e compie in India il suo viaggio di ricerca dove conosce il maestro Swami Yogi Sharma da cui apprende diverse tecniche di lettura dell’aura e di yoga. \nPranopratico ed esperto di tecniche di riequilibrio energetico si occupa dell’armonia dei corpi sottili e della dimensione del sogno; a tal proposito insegna esercizi di induzione del viaggio astrale di cui fa esperienza spontaneamente fin dall’infanzia.\nHa collaborato con diversi centri in italia e all’estero curando la formazione del personale e proponendo i suoi trattamenti\, ha tenuto convegni e conferenze sulle discipline olistiche in giro per l’italia. \nShare on:
URL:https://associazionevegananimalista.it/event/le-intolleranze-alimentari-come-riconoscerle-come-superarle/
CATEGORIES:Eventi AVA 2019
END:VEVENT
END:VCALENDAR