BEGIN:VCALENDAR
VERSION:2.0
PRODID:-//AVA - ECPv6.15.20//NONSGML v1.0//EN
CALSCALE:GREGORIAN
METHOD:PUBLISH
X-ORIGINAL-URL:https://associazionevegananimalista.it
X-WR-CALDESC:Eventi per AVA
REFRESH-INTERVAL;VALUE=DURATION:PT1H
X-Robots-Tag:noindex
X-PUBLISHED-TTL:PT1H
BEGIN:VTIMEZONE
TZID:Europe/Rome
BEGIN:DAYLIGHT
TZOFFSETFROM:+0100
TZOFFSETTO:+0200
TZNAME:CEST
DTSTART:20180325T010000
END:DAYLIGHT
BEGIN:STANDARD
TZOFFSETFROM:+0200
TZOFFSETTO:+0100
TZNAME:CET
DTSTART:20181028T010000
END:STANDARD
BEGIN:DAYLIGHT
TZOFFSETFROM:+0100
TZOFFSETTO:+0200
TZNAME:CEST
DTSTART:20190331T010000
END:DAYLIGHT
BEGIN:STANDARD
TZOFFSETFROM:+0200
TZOFFSETTO:+0100
TZNAME:CET
DTSTART:20191027T010000
END:STANDARD
BEGIN:DAYLIGHT
TZOFFSETFROM:+0100
TZOFFSETTO:+0200
TZNAME:CEST
DTSTART:20200329T010000
END:DAYLIGHT
BEGIN:STANDARD
TZOFFSETFROM:+0200
TZOFFSETTO:+0100
TZNAME:CET
DTSTART:20201025T010000
END:STANDARD
END:VTIMEZONE
BEGIN:VEVENT
DTSTART;TZID=Europe/Rome:20191110T180000
DTEND;TZID=Europe/Rome:20191110T200000
DTSTAMP:20260423T175456
CREATED:20191103T143550Z
LAST-MODIFIED:20191109T132848Z
UID:3739-1573408800-1573416000@associazionevegananimalista.it
SUMMARY:PROFEZIE E PITTOGRAMMI NEL MISTERO DEI CERCHI NEL GRANO
DESCRIPTION:Le sbalorditive immagini apparse in ogni parte del mondo che riportano \nmisteriosi messaggi per l’umanità che coincidono con le profezie degli antichi  Maya. \nLeggi condividi e diffondi: PROGETTO PACE NEL MONDO – EDUCARE L’UMANITA’ ALLA PACE di Franco Libero Manco \nVisita il nostro sito Associazione Vegan Animalista \nMetti “Mi piace” sulla pagina Facebook del presidente Franco Libero Manco \nMetti “Mi piace” sulla nostra pagina Facebook AVA Associazione Vegan Animalista \nIscriviti alla nostra Newsletter \nVisiona iscriviti e condividi le nostre videoconferenze dal nostro canale Youtube \n Iscriviti ai nostri gruppi su Facebook: \nAVA Associazione Vegan Animalista \nSupporta Agripunk e tutti i Rifugi di Animali Liberi \nPROFEZIE E PITTOGRAMMI NEL MISTERO DEI CERCHI NEL GRANO\nDomenica 10 novembre alle ore 18\,00\, piazza Asti 5/a Roma \nproiezione del filmato “PROFEZIE E PITTOGRAMMI NEL MISTERO \nDEI CERCHI NEL GRANO” \nLe sbalorditive immagini apparse in ogni parte del mondo che riportano\nmisteriosi messaggi per l’umanità che coincidono con le profezie degli antichi  Maya.\nDurata del filmato 52 minuti. \nSeguirà libero dibattito sul tema. \nA seguire cena sociale vegan con: \ninsalata mista di stagione\, penne al sugo di pomodoro e basilico\, \nfalafel di lenticchie\, patate al forno\, pane\, vino\, acqua\, olive. \nIl contributo per chi resta per la cena è di 10 euro. \nPartecipazione libera e gratuita. \nPer la cena è opportuna la prenotazione a Luana: tel. 3391406256 \n———————————– \nL’organismo si sbarazza delle tossine attraverso  la febbre\, cioè una forte combustione interna a livello intestinale.\nIl cancro non si manifesta localmente per poi coinvolgere tutto l’organismo\, ma è l’organismo che lo genera e che poi va a localizzarsi nel punto più debole dell’organismo. \nQuando una parte di un organismo è gravemente malato tutto il corpo è in pericolo di vita.\nAllo stesso  modo\, se una nazione è sofferente tutto il pianeta rischia di morire.\nAlcuni chirurghi specialisti in autopsie hanno dichiarato che il 70% dei colon sezionati contengono materie estranee come vermi e materia fecale dura come pietre\, vecchie di parecchi anni. Il Dr. Lamoour dichiara che 9 persone su 10 soffrono di costipazione o ritenzione di materie fecali. E il Dr. Pauchet scrive: Nelle donne colpite da cancro al seno c’era 9 volte su 10 un ritardo intestinale. \nSe i rifiuti inutilizzabili non sono espulsi e soggiornano nel colon causano fermentazioni dannose\, putrefazioni tossiche\, gas che avvelenano il sangue\, logorano il fegato ed i reni.\nNon è la febbre che uccide ma il male che peggiora perché l’organismo non è più in grado di eliminare le tossine. \nL’organismo\, nel suo tentativo di sbarazzarsene non ha altri mezzi che la combustione interna che fa salire la temperatura  determinando la febbre. \nPiù nutrite il malato più gli fate del male (Ippocrate). \nIl 70% dell’umanità muore vittima del farmacista.\nNessun vero progresso spirituale è possibile in un corpo malato. \nSe Dio è eterno tu non puoi essere effimero. \n(spunti tratti da “Il libro delle Cure Naturali” di Romolo Mantovani) \n \nIn memoria di Laika\, lanciata nello spazio a morire di terrore.\n“Il 3 novembre 1957 #Laika\, una cagnolina randagia di 3 anni\, fu imbarcata a bordo della capsula spaziale sovietica #Sputnik 2.\nE’ stato il primo essere vivente ad essere lanciato nello #spazio.\nSecondo alcune fonti morì fra le 5 e le 7 ore dal decollo a causa dello sbalzo di temperatura\, altri stimano che Laika sopravvisse per alcuni giorni\, come dichiarato dalla versione ufficiale dell’epoca.\nCosa abbia visto\, sentito\, patito non è dato saperlo.\nIn ogni caso ora è fra le stelle a ricordarci cosa possa concepire l’arroganza umana.” \nAddio Laika \n(Maria Teresa Corradini) \nShare on:
URL:https://associazionevegananimalista.it/event/profezie-e-pittogrammi-nel-mistero-dei-cerchi-nel-grano/
CATEGORIES:Eventi AVA 2019
ATTACH;FMTTYPE=image/jpeg:https://associazionevegananimalista.it/wp-content/uploads/2019/11/cerchi.jpg
END:VEVENT
END:VCALENDAR