BEGIN:VCALENDAR
VERSION:2.0
PRODID:-//AVA - ECPv6.15.20//NONSGML v1.0//EN
CALSCALE:GREGORIAN
METHOD:PUBLISH
X-ORIGINAL-URL:https://associazionevegananimalista.it
X-WR-CALDESC:Eventi per AVA
REFRESH-INTERVAL;VALUE=DURATION:PT1H
X-Robots-Tag:noindex
X-PUBLISHED-TTL:PT1H
BEGIN:VTIMEZONE
TZID:Europe/Rome
BEGIN:DAYLIGHT
TZOFFSETFROM:+0100
TZOFFSETTO:+0200
TZNAME:CEST
DTSTART:20180325T010000
END:DAYLIGHT
BEGIN:STANDARD
TZOFFSETFROM:+0200
TZOFFSETTO:+0100
TZNAME:CET
DTSTART:20181028T010000
END:STANDARD
BEGIN:DAYLIGHT
TZOFFSETFROM:+0100
TZOFFSETTO:+0200
TZNAME:CEST
DTSTART:20190331T010000
END:DAYLIGHT
BEGIN:STANDARD
TZOFFSETFROM:+0200
TZOFFSETTO:+0100
TZNAME:CET
DTSTART:20191027T010000
END:STANDARD
BEGIN:DAYLIGHT
TZOFFSETFROM:+0100
TZOFFSETTO:+0200
TZNAME:CEST
DTSTART:20200329T010000
END:DAYLIGHT
BEGIN:STANDARD
TZOFFSETFROM:+0200
TZOFFSETTO:+0100
TZNAME:CET
DTSTART:20201025T010000
END:STANDARD
END:VTIMEZONE
BEGIN:VEVENT
DTSTART;TZID=Europe/Rome:20191121T180000
DTEND;TZID=Europe/Rome:20191121T200000
DTSTAMP:20260423T174655
CREATED:20191027T141406Z
LAST-MODIFIED:20191115T173629Z
UID:3718-1574359200-1574366400@associazionevegananimalista.it
SUMMARY:Le straordinarie testimonianze di guarigione del taumaturgo Luca Del Nevo
DESCRIPTION:Biofielding è una manipolazione energetica delicata e profonda che risveglia l’energia vitale di ogni viscere\, organo\, meridiano energetico a cui viene applicata.\nGrazie alla sua straordinaria efficacia produce risultati terapeutici in tempi molto brevi. \nLe straordinarie testimonianze di guarigione del taumaturgo Luca Del Nevo\nDottor  Luca Del Nevo\, Epistemololgo\, Fisioterapista\, Kinesiologo\, Naturopata\, Counselor\, Ideatore della Terapia Emozionale e del Biofielding. \nIl Dott. (in fisioterapia) Luca F. DEL NEVO è l’ideatore della T.E.V. (Terapia Emozionale dell Vitiligine). Ha ideato la tecnica sulla base della sua Vitiligine\, infatti Del Nevo\, sostiene di essere stato affetto da Vitiligine per circa un anno e mezzo (questo\, qualche tempo fa…) Afferma di aver lavorato su di se\, guarendosi totalmente dalla Vitiligine e successivamente ha dato luogo alla Metodologia in questione\, appunto\, la T.E.V.. Se non erro la T.E.V. è basata sulla Kinesiologia. \nLA T.E.V. (Terapia Emozionale dell Vitiligine)\n  \nL’obiettivo – E’ la rimozione dei meccanismi emozionali responsabili simultaneamente delle macchie e delle condizioni esistenziali critiche a cui la vitiligine sempre si accompagna.\nCome avviene questa rimozione?\nNell’unico modo possibile per in quale un’informazione inscritta nel sistema nervoso smette di agire: sovrascrivendola con nuove scelte. \nUna condizione emozionale è sempre produttiva di una serie di comportamenti; i comportamenti determinano particolari situazioni pratiche\nLa vitiligine è una parte della situazione complessiva in cui si trova la persona ed la situazione dipende dal sistema di credenze personale (assunzioni concettuali\, emozioni\, etica ecc…).\nDue sono i passaggi fondamentali per cambiare tale sistema in maniera favorevole e veder sparire le macchie: \n1- renderne esplicite e analizzabili le componenti e la modalità in cui condiziona negativamente l’esistenza;\n2- scegliere consapevolmente su quali nuove assunzioni il sistema deve operare. \nLa seconda parte è la più difficile poiché con essa l’interessato impegna se stesso a lasciare la via vecchia per la nuova: per quando dolorosa e limitante sia la vecchia via\, su di essa abbiamo costruito la nostra identità. Siamo così poco disposti a cambiarla non sapendo che in tal modo conserviamo tutto il nostro disagio\, vitiligine compresa. \n(tratto da: terapiaemozionalevitiligine.it) \n– – – – – – – \nIn rete\, i suoi riferimenti principali\, sono i seguenti: \n– http://vitilblog.blogspot.it\n– http://www.terapiaemozionalevitiligine.it\n– http://www.vitiliginexit.com/tev-terapia-emozionale-vitiligine.php \n  \nShare on:
URL:https://associazionevegananimalista.it/event/le-straordinarie-testimonianze-di-guarigione-del-taumaturgo-luca-del-nevo/
CATEGORIES:Eventi AVA 2019
END:VEVENT
END:VCALENDAR