BEGIN:VCALENDAR
VERSION:2.0
PRODID:-//AVA - ECPv6.15.20//NONSGML v1.0//EN
CALSCALE:GREGORIAN
METHOD:PUBLISH
X-ORIGINAL-URL:https://associazionevegananimalista.it
X-WR-CALDESC:Eventi per AVA
REFRESH-INTERVAL;VALUE=DURATION:PT1H
X-Robots-Tag:noindex
X-PUBLISHED-TTL:PT1H
BEGIN:VTIMEZONE
TZID:Europe/Rome
BEGIN:DAYLIGHT
TZOFFSETFROM:+0100
TZOFFSETTO:+0200
TZNAME:CEST
DTSTART:20180325T010000
END:DAYLIGHT
BEGIN:STANDARD
TZOFFSETFROM:+0200
TZOFFSETTO:+0100
TZNAME:CET
DTSTART:20181028T010000
END:STANDARD
BEGIN:DAYLIGHT
TZOFFSETFROM:+0100
TZOFFSETTO:+0200
TZNAME:CEST
DTSTART:20190331T010000
END:DAYLIGHT
BEGIN:STANDARD
TZOFFSETFROM:+0200
TZOFFSETTO:+0100
TZNAME:CET
DTSTART:20191027T010000
END:STANDARD
BEGIN:DAYLIGHT
TZOFFSETFROM:+0100
TZOFFSETTO:+0200
TZNAME:CEST
DTSTART:20200329T010000
END:DAYLIGHT
BEGIN:STANDARD
TZOFFSETFROM:+0200
TZOFFSETTO:+0100
TZNAME:CET
DTSTART:20201025T010000
END:STANDARD
END:VTIMEZONE
BEGIN:VEVENT
DTSTART;TZID=Europe/Rome:20191129T183000
DTEND;TZID=Europe/Rome:20191129T200000
DTSTAMP:20260423T160610
CREATED:20191128T141914Z
LAST-MODIFIED:20191128T210425Z
UID:3818-1575052200-1575057600@associazionevegananimalista.it
SUMMARY:Presentazione del libro "Diario di un povero Animalista" di Andrea Cisternino
DESCRIPTION:“Concedimi\, o Grande Spirito\, di imparare la lezione che hai nascosto in ogni animale\, in ogni foglia\, in ogni Vita. Io voglio essere forte\, non per dominare il mio fratello\, bensì per combattere il mio più grande nemico: me stesso. Fai in modo che io possa essere sempre pronto a venire da Te con le mani pulite e lo sguardo leale. Così che\, quando la mia vita finirà al calare del tramonto\, il mio spirito si presenti a Te senza onta” (Preghiera Cheyenne) \nPresentazione del libro “Diario di un povero Animalista” di Andrea Cisternino\n  \nLe braccia aperte ad accogliere\, le braccia aperte come ali di angelo in grado di salvare centinaia di vite disperate ma preziosissime.\nAndrea Cisternino presenta il suo nuovo libro ”Diario di un povero animalista”\nore 18\,30 \n”Associazione AVA” Piazza Asti 5/A ROMA \nAd allietare la serata un ottimo buffet vegano\, con un piccolo contributo di 10 Euro \nÈ necessaria la prenotazione inviando un messaggio al numero:3288651628 e indicando il numero di persone che parteciperanno. \nGrazie. \n  \nSono Andrea Cisternino\, residente in Ucraina e fondatore del Rifugo Italia Kj2 a Kiev.\nSono un fotografo pubblicitario\, ho incominciato la mia professione nel 1985\, ma quando mi sono affacciato a guardare cosa stava succedendo in Ucraina per il Campionato europeo di calcio la mia vita è cambiata. \nUcraina\, 2012: Campionato europeo di calcio\nVivo ormai dal 2009 in Ucraina\, uno dei posti più difficili dove sia mai stato\, uno dei posti più ardui dove fare volontariato\, uno dei posti più problematici dove difendere gli animali. In Ucraina la piaga del randagismo è sempre stata affrontata nel modo più vigliacco che si possa immaginare: sparando a vista ai cani per strada\, un massacro sistematico. \nQuesto fenomeno è diventato incontrollabile e massiccio in occasione del Campionato europeo di calcio del 2012. I cosiddetti dog hunters\, individui con “licenza di uccidere i randagi” con metodi inumani e raccapriccianti\, hanno intensificato\, in quell’occasione\, lo sterminio indiscriminato di queste povere creature. Non potevo più assistere a questo orrore e\, lasciando l’Italia e la mia professione\, ho deciso di restare in Ucraina con un obiettivo preciso\, una sfida: contrastare il fenomeno del randagismo ed esportare un modello di convivenza con gli animali diverso. \n2013: il Premio Nazionale Agenda Rossa Paolo Borsellino\nNel 2013 ho vinto\, per questa mia lotta\, il Premio Nazionale Agenda Rossa Paolo Borsellino IV Edizione\, un onore immenso per me\, un’evidenza che il mio Paese è sensibile alla questione animalista\, uno stimolo in più per continuare nella quotidiana attività di denuncia della mattanza dei randagi ucraini\, che mi spinge ancora di più ad espormi in un luogo dove ormai sono additato – direttamente dai dog hunters – quale elemento indesiderato\, reo di aver fatto conoscere al mondo\, già dal 2010\, l’eliminazione di massa dei randagi con veleno\, colpi d’arma da fuoco e persino pugnalate. \nIl mio progetto era costruire un rifugio e un ambulatorio veterinario per vaccinare\, sterilizzare e dare accoglienza e possibilità di adozione agli animali randagi. \nL’International Animal Protection League Charitable Foundation\nNel 2013 ho costituito\, con mia moglie Vlada Shalutko\, la Fondazione International Animal Protection League Charitable Foundation\, con sede a Kiev\, dove ho iniziato a costruire e a gestire il Rifugio Italia\, progetto che prevedeva\, oltre al rifugio in sé\, anche una zona con ospedale\, una zona quarantena e 7000 mq per salvare anche altre specie di animali come cavalli e mucche. In poco tempo il Rifugio Italia è diventato un canile di eccellenza in Ucraina. \nL’incendio e la distruzione del Rifugio Italia\nL’abnegazione\, il lavoro duro e faticoso\, i sacrifici miei e di tutti i volontari che mi hanno supportato da vicino e da lontano sono stati però\, nel 2015\, lacerati\, distrutti e violentati: il mio rifugio è stato dato alle fiamme\, 71 cani sono morti bruciati e siamo riusciti a salvarne solo 24. La natura dell’incendio è stata dichiarata dolosa. Mi sono sempre schierato a fianco delle associazioni animaliste più povere in Italia\, in Ucraina e in Spagna\, in Romania\, le intimidazioni e gli insulti non mi hanno mai spaventato. \nLa nascita del Rifugio Italia Kj2\nDopo l’incendio doloso e il massacro dei cani che avevo salvato\, mi sono rialzato ancora più forte e determinato di prima. Ho ricostruito il rifugio\, ancora più grande e con maggiori possibilità di ospitare ogni tipo di animale. Oggi il rifugio si chiama Rifugio Italia Kj2\, dedicato all’orsa barbaramente ed ingiustamente uccisa da una politica miope e da interessi economici italiani. \nIl Rifugio Italia Kj2 sta crescendo e con esso anche la mia volontà di ampliare il mio campo di intervento per la difesa degli animali. Attualmente ospita 360 animali di ogni tipo\, quindi non solo cani\, salvati da allevamenti intensivi\, macelli\, maltrattamenti\, … \nIl Coordinamento UnitiperLoro – Animali e Ambiente\nHo costituito il Coordinamento UnitiperLoro – Animali e Ambiente\, un gruppo di persone affiatate e unite dall’amore per gli animali\, con cui abbiamo organizzato una grande manifestazione il 22 aprile 2017 radunando in Piazza del Popolo\, a Roma\, centinaia di persone\, in contemporanea con Kiev e Varsavia. Tra i punti del manifesto politico consegnato a Paolo Bernini e a Mirko Busto\, la richiesta di avvio delle procedure per indire un referendum abrogativo contro caccia\, delfinari e circhi che sfruttano gli animali. \nCome aiutare Andrea?\nChiunque volesse può decidere di sostenere Andrea a portare avanti i suoi progetti in diversi modi: \n\nadottando uno dei fantastici 4 zampe ospitati al Rifugio Italia Kj2\nadottando\, a distanza\, uno degli altri ospiti presenti in struttura (mucche e cavalli salvati dal macello)\nacquistando i suoi libri: “Diario di un povero animalista” e “Randagi\, storia di uomini e animali”\neffettuando donazioni all’associazione tramite: bonifico bancario\, postepay\, paypal\n\nBONIFICO BANCARIO CONTO ITALIANO INT.\nANDREA CISTERNINO \nBanca Monte dei Paschi di Siena \nConto intestato a: Andrea Cisternino \nCod. IBAN : IT02O0103001661000001396774 \nCod. BIC/SWIFT : PASCITM1645 \nCausale: DONAZIONE BENEFICA PER AIUTO RIFUGIO ITALIA \nAttenzione: se fate copia e incolla del codice IBAN controllate che ci siano tutti i numeri. \nShare on:
URL:https://associazionevegananimalista.it/event/presentazione-del-libro-diario-di-un-povero-animalista-di-andrea-cisternino/
CATEGORIES:Eventi AVA 2019
ATTACH;FMTTYPE=image/jpeg:https://associazionevegananimalista.it/wp-content/uploads/2019/11/image005-1.jpg
END:VEVENT
END:VCALENDAR