BEGIN:VCALENDAR
VERSION:2.0
PRODID:-//AVA - ECPv6.15.20//NONSGML v1.0//EN
CALSCALE:GREGORIAN
METHOD:PUBLISH
X-ORIGINAL-URL:https://associazionevegananimalista.it
X-WR-CALDESC:Eventi per AVA
REFRESH-INTERVAL;VALUE=DURATION:PT1H
X-Robots-Tag:noindex
X-PUBLISHED-TTL:PT1H
BEGIN:VTIMEZONE
TZID:Europe/Rome
BEGIN:DAYLIGHT
TZOFFSETFROM:+0100
TZOFFSETTO:+0200
TZNAME:CEST
DTSTART:20190331T010000
END:DAYLIGHT
BEGIN:STANDARD
TZOFFSETFROM:+0200
TZOFFSETTO:+0100
TZNAME:CET
DTSTART:20191027T010000
END:STANDARD
BEGIN:DAYLIGHT
TZOFFSETFROM:+0100
TZOFFSETTO:+0200
TZNAME:CEST
DTSTART:20200329T010000
END:DAYLIGHT
BEGIN:STANDARD
TZOFFSETFROM:+0200
TZOFFSETTO:+0100
TZNAME:CET
DTSTART:20201025T010000
END:STANDARD
BEGIN:DAYLIGHT
TZOFFSETFROM:+0100
TZOFFSETTO:+0200
TZNAME:CEST
DTSTART:20210328T010000
END:DAYLIGHT
BEGIN:STANDARD
TZOFFSETFROM:+0200
TZOFFSETTO:+0100
TZNAME:CET
DTSTART:20211031T010000
END:STANDARD
END:VTIMEZONE
BEGIN:VEVENT
DTSTART;TZID=Europe/Rome:20200213T180000
DTEND;TZID=Europe/Rome:20200213T200000
DTSTAMP:20260423T130230
CREATED:20191231T143247Z
LAST-MODIFIED:20200121T181248Z
UID:4270-1581616800-1581624000@associazionevegananimalista.it
SUMMARY:IL PROFONDO LEGAME TRA CIBO  ED EMOZIONI DEL NOSTRO  SECONDO CERVELLO
DESCRIPTION:Perché il fumo della sigaretta non torna mai nella sigaretta? Perché tutte le molecole si respingono? Perché una goccia di inchiostro non si riforma? Perché l’universo si muove verso la sua dissipazione. Questo è il principio dell’entropia. La tendenza dell’universo a evolversi verso uno stato di disordine crescente. Il principio dell’entropia è collegato alla freccia del tempo\, il risultato dell’espansione dell’universo. (Mr. Nobody) \n  \nIL PROFONDO LEGAME TRA CIBO ED EMOZIONI DEL NOSTRO SECONDO CERVELLO\nConferenza della Dott.ssa Maria Concetta Piromalli\, Psicologa\, Operatrice in Psicologia del Secondo Cervello \n\n \nIl Secondo Cervello è il nome scientifico di ciò che viene comunemente chiamato “cervello della pancia”.\nQuesto cervello ha una sua mente che determina le nostre caratteristiche di base e che partecipa\, sin dalla nascita\, a molti processi della psiche e del comportamento influenzando il nostro stato d’animo\, l’approccio alla vita\, la motivazione e il rapporto con gli altri compreso il rapporto di coppia. \nIl Secondo Cervello ha anche una sua memoria che registra tutti i nostri vissuti emotivi.\n\nCon la Psicologia del Secondo Cervello si può capire come funziona la mente del Secondo Cervello in modo da migliorare il rapporto con gli altri\, con il partner\, con noi stessi e le situazioni di vita\, di lavoro\, di studio\, di stress\, e migliorare il nostro stato psico-emotivo e i disturbi psico-somatici. \n \nAvremo modo di fare luce su un argomento di grande interesse che è il Secondo Cervello (nome scientifico del cervello del tratto gastro-enterico) e di come agisce sull’umore e su tutto quello che facciamo nella vita influenzando\, in modo concreto\, le scelte che facciamo\, i nostri rapporti\, il nostro stato psicologico ed emotivo. \nEssendo il fulcro delle nostre emozioni\, ha un ruolo chiave anche nei disturbi psicosomatici. \n\n  \n\n\n\nShare on:
URL:https://associazionevegananimalista.it/event/entropia-e-sintropia-la-teoria-dei-bisogni-vitali/
CATEGORIES:Conferenze AVA 2020,Eventi AVA 2020
ATTACH;FMTTYPE=image/jpeg:https://associazionevegananimalista.it/wp-content/uploads/2019/12/aseccerv.jpg
END:VEVENT
END:VCALENDAR