BEGIN:VCALENDAR
VERSION:2.0
PRODID:-//AVA - ECPv6.15.20//NONSGML v1.0//EN
CALSCALE:GREGORIAN
METHOD:PUBLISH
X-ORIGINAL-URL:https://associazionevegananimalista.it
X-WR-CALDESC:Eventi per AVA
REFRESH-INTERVAL;VALUE=DURATION:PT1H
X-Robots-Tag:noindex
X-PUBLISHED-TTL:PT1H
BEGIN:VTIMEZONE
TZID:Europe/Rome
BEGIN:DAYLIGHT
TZOFFSETFROM:+0100
TZOFFSETTO:+0200
TZNAME:CEST
DTSTART:20190331T010000
END:DAYLIGHT
BEGIN:STANDARD
TZOFFSETFROM:+0200
TZOFFSETTO:+0100
TZNAME:CET
DTSTART:20191027T010000
END:STANDARD
BEGIN:DAYLIGHT
TZOFFSETFROM:+0100
TZOFFSETTO:+0200
TZNAME:CEST
DTSTART:20200329T010000
END:DAYLIGHT
BEGIN:STANDARD
TZOFFSETFROM:+0200
TZOFFSETTO:+0100
TZNAME:CET
DTSTART:20201025T010000
END:STANDARD
BEGIN:DAYLIGHT
TZOFFSETFROM:+0100
TZOFFSETTO:+0200
TZNAME:CEST
DTSTART:20210328T010000
END:DAYLIGHT
BEGIN:STANDARD
TZOFFSETFROM:+0200
TZOFFSETTO:+0100
TZNAME:CET
DTSTART:20211031T010000
END:STANDARD
END:VTIMEZONE
BEGIN:VEVENT
DTSTART;TZID=Europe/Rome:20200222T200000
DTEND;TZID=Europe/Rome:20200223T003000
DTSTAMP:20260423T130231
CREATED:20200210T183825Z
LAST-MODIFIED:20200210T183826Z
UID:4406-1582401600-1582417800@associazionevegananimalista.it
SUMMARY:FESTA DEL “VEGANINSIEME” AVA 2020
DESCRIPTION:“Ho vissuto coi venti\, coi boschi\, con le montagne. Ho mille volte appoggiato la testa ai tronchi degli alberi\, alle rocce.” \n(Grazia Deledda) \nFESTA DEL “VEGANINSIEME” AVA 2020\nVISTO IL GRANDE SUCCESSO DELLE PRECEDENTI EDIZIONI\,\nL’AVA ORGANIZZA UNA SERATA RICREATIVA/VEGAN/ANIMALISTA DA TENERSI DALLE ORE 20\,00 ALLE ORE 24.00 DI  SABATO 22 FEBBRAIO  PRESSO IL GRANDE COMPLESSO “PALACAVICCHI” DI CIAMPINO IN VIA RANUCCIO BIANCHI BANDINELLI 130\, RISTORANTE “I GABBIANI” SALA MEETING 1\, CON IL SEGUENTE PROGRAMMA:\n\nORE 20\,00 CENA: \nAntipasto: insalata mista di stagione \nPrimi: spaghetti e fusilli al sugo di pomodoro\, penne all’arrabbiata\, orecchiette alle cime di rapa; risotto al funghi misti\, ai carciofi\, al radicchio; minestra di pasta e fagioli\,… \nSecondi: varietà di legumi (fagioli all’uccelletto\, ceci ecc.); fritture miste\, verdure gratinate; \nContorni: broccoletti\, cicoria di campo saltata in padella\, cipollette\, patate al forno. \nFrutta\, pane\, vino\, acqua\, caffè \n  \n– Dalle ore 20\, contemporaneamente alla cena\,  musica e ballo \n– ore 21\,30: saluto del presidente AVA Franco Libero Manco e a seguire: \n\n– Danza del ventre ” Azhar” di Laura Quellerba; danzatrici Aurora Rofena e Chiara De Nigris \nSpettacolo di “Momenti di Burlesque” con Chiara Pavoni\, attrice di teatro\, ex modella \n– Intermezzi musicali con il cantante musicista Osvaldo Bisello \n–  Estrazione  numeri della la riffa e consegna dei premi \ne poi…musica e ballo\, anche in maschera. \n  \nPresenta Pamela Palma \nLa serata è a sfondo di beneficenza il cui ricavato sarà interamente utilizzato\nper i progetti e l’attività dell’AVA\n  \nNella quota di partecipazione di 20\,00€ è compreso un biglietto per la riffa \nche mette in palio n.5 premi come appresso riportato: \n  \n1° premio: centrifuga Ariete 700 Watt \n2° premio: cestino di prodotti vari vegan \n3° premio: 5 libri della collana del Dr H. Shelton \n4° premio: 3 cene vegan in sede AVA \n5° premio: tessera associativa annuale AVA \n  \nE’ possibile acquistare più biglietti per la riffa di 3 euro ciascuno \n  \nE’ gradita la partecipazione in maschera. Sarà premiata la maschera più simpatica \n  \nE’ NECESSARIA LA PRENOTAZIONE A LUANA TEL. 339 140 6256 \n  \n \nIO DENUNCIO\nIo denuncio al tribunale della vita tutti coloro che traggono vantaggi\ndallo sfruttamento dei più deboli e se ne infischiano\ndella sofferenza del prossimo. \nIo denuncio al tribunale della vita\ni profanatori della purezza\, i predatori dell’innocenza\, gli iconoclasti\ndella bellezza verginale del creato. \nIo denuncio al tribunale della vita\nil silenzio assassino dei mezzi di informazione\,\nche tacciono sull’olocausto degli animali\nnei campi di sterminio dei mattatoi\, nelle concerie\, nei boschi\, nei mari. \nIo denuncio al tribunale della vita\nla congiura dei potenti contro la civiltà dell’amore\, l’oltraggio perpetrato nei secoli\ncontro la fratellanza biologica universale. \nIo denuncio\nal tribunale della vita i vivisettori\, questi esseri oscuri ed infernali\nnemici della scienza e della verità. \nNon è il cuore o l’intelletto\nche governa la vita di questa gente spregevole\nma l’egoismo\, il denaro e la più avida ambizione. \nSia maledetto chi diffonde la menzogna\, chi tortura un animale indifeso\,\nchi disprezza l’altrui sofferenza\, chi uccide la speranza\ndi un mondo migliore. \nIo davanti a questi esseri spregevoli\nsputo per terra e li condanno all’ostracismo a vita\ndalla civiltà e dalla giustizia. \nFranco Libero Manco \nShare on:
URL:https://associazionevegananimalista.it/event/festa-del-veganinsieme-ava-2020/
CATEGORIES:Conferenze AVA 2020,Eventi AVA 2020
ATTACH;FMTTYPE=image/jpeg:https://associazionevegananimalista.it/wp-content/uploads/2020/02/veganinsieme.jpg
END:VEVENT
END:VCALENDAR