BEGIN:VCALENDAR
VERSION:2.0
PRODID:-//AVA - ECPv6.15.20//NONSGML v1.0//EN
CALSCALE:GREGORIAN
METHOD:PUBLISH
X-ORIGINAL-URL:https://associazionevegananimalista.it
X-WR-CALDESC:Eventi per AVA
REFRESH-INTERVAL;VALUE=DURATION:PT1H
X-Robots-Tag:noindex
X-PUBLISHED-TTL:PT1H
BEGIN:VTIMEZONE
TZID:Europe/Rome
BEGIN:DAYLIGHT
TZOFFSETFROM:+0100
TZOFFSETTO:+0200
TZNAME:CEST
DTSTART:20190331T010000
END:DAYLIGHT
BEGIN:STANDARD
TZOFFSETFROM:+0200
TZOFFSETTO:+0100
TZNAME:CET
DTSTART:20191027T010000
END:STANDARD
BEGIN:DAYLIGHT
TZOFFSETFROM:+0100
TZOFFSETTO:+0200
TZNAME:CEST
DTSTART:20200329T010000
END:DAYLIGHT
BEGIN:STANDARD
TZOFFSETFROM:+0200
TZOFFSETTO:+0100
TZNAME:CET
DTSTART:20201025T010000
END:STANDARD
BEGIN:DAYLIGHT
TZOFFSETFROM:+0100
TZOFFSETTO:+0200
TZNAME:CEST
DTSTART:20210328T010000
END:DAYLIGHT
BEGIN:STANDARD
TZOFFSETFROM:+0200
TZOFFSETTO:+0100
TZNAME:CET
DTSTART:20211031T010000
END:STANDARD
END:VTIMEZONE
BEGIN:VEVENT
DTSTART;TZID=Europe/Rome:20200708T180000
DTEND;TZID=Europe/Rome:20200708T200000
DTSTAMP:20260423T051315
CREATED:20200209T210608Z
LAST-MODIFIED:20200802T212734Z
UID:4398-1594231200-1594238400@associazionevegananimalista.it
SUMMARY:Alimentazione vegan\, nella attività fisica\, nello sport e nel bodybuilding
DESCRIPTION:Ma i vegani possono fare attività fisica? Oppure\, come qualche vecchio antico sostiene\, chi è vegano può soltanto specializzarsi nello zapping selvaggio? \nNegli ultimi anni sono sempre in aumento gli studi che confermano che scegliere una dieta a base vegetale ha effetti positivi sul nostro organismo e sul pianeta. \nAlimentazione vegan\, nella attività fisica\, nello sport e nel bodybuilding\nConferenza della dottoressa Maria Silva\, Laurea Infermieristica\, Educatrice Alimentare\, Personal Trainer\, Istruttrice Fitness \n \nMi chiamo Maria Silva\, ho 28 anni\, vivo e lavoro a Roma ma sono siciliana di Caltagirone. Sin da piccola sono sempre stata in “movimento”\, donna dall’animo dinamico e solare.\nHo fatto 12 anni di danza per poi dedicarmi allo sport in sala pesi\, al fitness e al body building che adesso pratico da agonista. \nSono diventata personal trainer\, educatrice alimentare e ho studiato all’università Infermieristica\, attualmente lavoro in reparto chirurgico. \nLa mia passione è lo sport in tutte le sue forme\, acquagym con i pesi in primis\, ma anche pilates e yoga\, oltre alle basi di allenamento in sala. Amo la lettura\, il teatro\, la musica\, la spiritualità e la filosofia zen\, insieme a tutto ciò che è vegan che concorre ad unire il mondo veg. \nLa vita è AMORE per me in tutte le forme. Se quello che accade è bello o meno è perchè rispettivamente c’è amore o meno\, nulla dipende dall’esterno\, dagli altri o dal caso\, solo dalla mente che ama. \nShare on:
URL:https://associazionevegananimalista.it/event/alimentazione-vegan-nella-attivita-fisica-nello-sport-e-nel-bodybuilding/
CATEGORIES:Conferenze AVA 2020,Eventi AVA 2020
ATTACH;FMTTYPE=image/jpeg:https://associazionevegananimalista.it/wp-content/uploads/2020/02/aaasportveg.jpg
END:VEVENT
END:VCALENDAR