BEGIN:VCALENDAR
VERSION:2.0
PRODID:-//AVA - ECPv6.15.20//NONSGML v1.0//EN
CALSCALE:GREGORIAN
METHOD:PUBLISH
X-WR-CALNAME:AVA
X-ORIGINAL-URL:https://associazionevegananimalista.it
X-WR-CALDESC:Eventi per AVA
REFRESH-INTERVAL;VALUE=DURATION:PT1H
X-Robots-Tag:noindex
X-PUBLISHED-TTL:PT1H
BEGIN:VTIMEZONE
TZID:Europe/Rome
BEGIN:DAYLIGHT
TZOFFSETFROM:+0100
TZOFFSETTO:+0200
TZNAME:CEST
DTSTART:20190331T010000
END:DAYLIGHT
BEGIN:STANDARD
TZOFFSETFROM:+0200
TZOFFSETTO:+0100
TZNAME:CET
DTSTART:20191027T010000
END:STANDARD
BEGIN:DAYLIGHT
TZOFFSETFROM:+0100
TZOFFSETTO:+0200
TZNAME:CEST
DTSTART:20200329T010000
END:DAYLIGHT
BEGIN:STANDARD
TZOFFSETFROM:+0200
TZOFFSETTO:+0100
TZNAME:CET
DTSTART:20201025T010000
END:STANDARD
BEGIN:DAYLIGHT
TZOFFSETFROM:+0100
TZOFFSETTO:+0200
TZNAME:CEST
DTSTART:20210328T010000
END:DAYLIGHT
BEGIN:STANDARD
TZOFFSETFROM:+0200
TZOFFSETTO:+0100
TZNAME:CET
DTSTART:20211031T010000
END:STANDARD
END:VTIMEZONE
BEGIN:VEVENT
DTSTART;TZID=Europe/Rome:20200806T180000
DTEND;TZID=Europe/Rome:20200806T230000
DTSTAMP:20260423T033622
CREATED:20200801T204935Z
LAST-MODIFIED:20200801T205023Z
UID:5183-1596736800-1596754800@associazionevegananimalista.it
SUMMARY:CONFERENZA DI FRANCO LIBERO MANCO – “VEGAN: MILLE DOMANDE\, MILLE RISPOSTE”
DESCRIPTION:“Se parli con gli animali\, essi parleranno con te e vi conoscerete l’uno con gli altri. Se non parli con loro\, non potrai conoscerli\, e ciò che non si conosce fa paura. Quando qualcosa fa paura\, l’uomo la distrugge” (Geswanouth Slahoot\, nativo americano della tribù di Squamish) \nCi rendiamo conto che una petizione rivolta alle televisioni non verrà mai presa in considerazione\, ci sono enormi interessi degli inserzionisti da tutelare\, ma magari soprattutto in questo nefasto periodo forse un pò di solletico se siamo in tanti a firmare glielo possiamo procurare\, invito tutti a condividere e firmare la petizione grazie! \n \nPETIZIONE contro la pubblicità della carne in televisione \nLeggi condividi e diffondi: PROGETTO PACE NEL MONDO – EDUCARE L’UMANITA’ ALLA PACE di Franco Libero Manco \nVisita il nostro sito Associazione Vegan Animalista \nMetti “Mi piace” sulla pagina Facebook del presidente Franco Libero Manco \nMetti “Mi piace” sulla nostra pagina Facebook AVA Associazione Vegan Animalista \nVieni a trovarci presso la nostra sede di Roma in Piazza Asti\, 5/A  \nVisiona iscriviti e condividi le nostre videoconferenze dal nostro canale Youtube \n Iscriviti ai nostri gruppi su Facebook: \nAVA Associazione Vegan Animalista \nSupporta Agripunk e tutti i Rifugi di Animali Liberi \nCONFERENZA DI FRANCO LIBERO MANCO – “VEGAN: MILLE DOMANDE\, MILLE RISPOSTE”\ndi Franco Libero Manco \nTutti i problemi di salute\, di pensiero e di coscienza\, dipendono da 3 fattori: la colazione\, il pranzo e la cena\nGiovedì 6 agosto dalle ore 18\,00 \npresso il panoramico terrazzo di Pino Torre in via Savoia 35\, conferenza del  Dr. Franco Libero Manco\, studioso di antropologia morale\, scrittore\, Presidente AVA\, sul tema \n “VEGAN: MILLE DOMANDE\, MILLE RISPOSTE” \nSaranno trattati i molti aspetti che caratterizzano la scelta vegan al fine di dimostrare i benefici che ne derivano\, soffermandoci sulle domande che verranno da parte dei partecipanti. \nIl Relatore risponderà alle domande del pubblico. \nDopo la conferenza cena fruttariana/crudista e altro offerto liberamente dai partecipanti. \nIngresso libero e gratuito ma posti limitati. \nE’ opportuna la prenotazione al tel. 3283836735 \n—————————————– \nPERCEZIONI  EXTRASENSORIALI\nCome in un vortice di luce \nmi trovai trasportato alle origini del tempo. \nVidi il fuoco primigenio espandersi \nin un’immane deflagrazione atomica \ne poi polveri di astri turbinanti condensarsi in costellazioni. \nVidi le galassie di Andromeda\, le nubi di Magellano\, la via Lattea\, \ni sistemi solari\, la Terra\, i continenti\, i primi agglomerati degli umani. \nVidi onde immense sollevarsi dagli oceani \nalternarsi  al fuoco dirompente dei vulcani. \nPercepivo il respiro ciclico dell’universo \nche si esprimeva nel dualismo cosmico della creazione. \nMateria\, Energia e Spirito erano la stessa sostanza. \nLa vita che pulsava in me\, nell’animale e nella pianta\, \nsentivo che proveniva dalla stessa Fonte e poi diramarsi \nnell’intima lotta di ogni essere. \nPercepivo le febbrili emozioni aggregarsi e disgregarsi senza posa\, \nla trappola del desiderio che incatena all’esistenza \nin mille forme mutevoli del tempo. \nIl mio corpo etereo vibrava nell’anima antica della pietra\, \nnella minuta goccia di rugiada\, \nnel volo simultaneo degli stormi\, \nnei palpiti del fiore\, nel dolore nell’albero reciso\, \nnel terrore della gazzella in corsa davanti al predatore. \nNell’intrigato\, ombroso ammasso forestale\, \nfurtivo e guardingo vidi sollevarsi l’uomo: \nc’era qualcosa di incompiuto nel suo sguardo\, \nqualcosa di  sinistro e di pregevole. \nPoi vidi fragili le dimore\, le austere cattedrali di cristallo\, \nbagliori di spade sui bastioni del tempo\, \nfolle di umani alla deriva\, \nl’ombra della croce proiettarsi sul Calvario. \nAl ritmo convulso degli zoccoli \nmigliaia di destrieri galoppavano ansimando \ne i cuori esausti dei cavalieri in armi \npalpitavano sotto il peso di luccicante delle corazze. \nE poi lo sbattere del vento sulle enormi vele dei triremi\, \ni carri uncinati\, le macchine rotanti\, gli aerei supersonici. \nPervasiva la Mente suprema regolava l’immensa armonia delle cose. \nCapivo che l’uomo è qualcosa che deve essere superato\, \ntrasceso\, trasfigurato nella sua intima essenza. \nMa la visione si ridusse alla limitata percezione dei miei sensi. \nIl richiamo dell’angelo alato\, impaziente di spiccare il volo\, \nin me fu gioia e tormento e tornai ad essere me stesso. \n(Franco Libero Manco) \n \n“Se davvero tu aprissi gli occhi per vedere\, vedresti la tua immagine in tutte le immagini. E se davvero aprissi le orecchie per sentire\, sentiresti la tua voce in tutte le voci” (Khalil Gibran) \nGli Animali vengono dimenticati\, quasi non esistessero più\, e invece di trarre insegnamento ancora una volta da loro\, una larga fetta di umanità disprezza il proprio simile e non esita ad attaccarlo. Per cosa? Per idee o opinioni diverse. Il rispetto è divenuto un concetto obsoleto\, mentre la caccia alle streghe è tornata prepotentemente di moda.\nE noi saremmo la specie superiore? O questi atteggiamenti dimostrano\, semmai\, esattamente il contrario? Ma se un qualunque animale\, osservandoci\, potesse parlare la nostra lingua (visto che ci stiamo dimenticando della loro)\, come ci giudicherebbe? È forse bastata l’emergenza Covid19 per scordare tutto e (di)mostrare nuovamente che l’Uomo possiede quei difetti di cui gli Animali sono privi?\nNoi dovremmo proteggerli dal loro inferno in Terra di cui siamo gli unici responsabili. Ma davvero non proviamo vergogna per noi stessi?\n______\n“Mi capirai quando ti farà male l’anima come a me” (Frida Kahlo) \n– Il Nostro Canto Libero – \nShare on:
URL:https://associazionevegananimalista.it/event/5183/
CATEGORIES:Eventi AVA 2020
ATTACH;FMTTYPE=image/png:https://associazionevegananimalista.it/wp-content/uploads/2020/08/aaaaaaacantlib.png
END:VEVENT
END:VCALENDAR