BEGIN:VCALENDAR
VERSION:2.0
PRODID:-//AVA - ECPv6.15.20//NONSGML v1.0//EN
CALSCALE:GREGORIAN
METHOD:PUBLISH
X-ORIGINAL-URL:https://associazionevegananimalista.it
X-WR-CALDESC:Eventi per AVA
REFRESH-INTERVAL;VALUE=DURATION:PT1H
X-Robots-Tag:noindex
X-PUBLISHED-TTL:PT1H
BEGIN:VTIMEZONE
TZID:Europe/Rome
BEGIN:DAYLIGHT
TZOFFSETFROM:+0100
TZOFFSETTO:+0200
TZNAME:CEST
DTSTART:20190331T010000
END:DAYLIGHT
BEGIN:STANDARD
TZOFFSETFROM:+0200
TZOFFSETTO:+0100
TZNAME:CET
DTSTART:20191027T010000
END:STANDARD
BEGIN:DAYLIGHT
TZOFFSETFROM:+0100
TZOFFSETTO:+0200
TZNAME:CEST
DTSTART:20200329T010000
END:DAYLIGHT
BEGIN:STANDARD
TZOFFSETFROM:+0200
TZOFFSETTO:+0100
TZNAME:CET
DTSTART:20201025T010000
END:STANDARD
BEGIN:DAYLIGHT
TZOFFSETFROM:+0100
TZOFFSETTO:+0200
TZNAME:CEST
DTSTART:20210328T010000
END:DAYLIGHT
BEGIN:STANDARD
TZOFFSETFROM:+0200
TZOFFSETTO:+0100
TZNAME:CET
DTSTART:20211031T010000
END:STANDARD
END:VTIMEZONE
BEGIN:VEVENT
DTSTART;TZID=Europe/Rome:20201008T180000
DTEND;TZID=Europe/Rome:20201008T200000
DTSTAMP:20260423T002621
CREATED:20201004T201955Z
LAST-MODIFIED:20201004T202032Z
UID:5409-1602180000-1602187200@associazionevegananimalista.it
SUMMARY:VITAMINA B12 NEI BAMBINI \, IN GRAVIDANZA E NEGLI ADULTI: PROBLEMA FACILMENTE SUPERABILE
DESCRIPTION:Pianta un seme d’ #Amore oggi\, avrai così un frutto di #Pace domani… perchè i #bambini sono il #Futuro! \nCi rendiamo conto che una petizione rivolta alle televisioni non verrà mai presa in considerazione\, ci sono enormi interessi degli inserzionisti da tutelare\, ma magari soprattutto in questo nefasto periodo forse un pò di solletico se siamo in tanti a firmare glielo possiamo procurare\, invito tutti a condividere e firmare la petizione grazie! \n \nPETIZIONE contro la pubblicità della carne in televisione \nLeggi condividi e diffondi: PROGETTO PACE NEL MONDO – EDUCARE L’UMANITA’ ALLA PACE di Franco Libero Manco \nVisita il nostro sito Associazione Vegan Animalista \nMetti “Mi piace” sulla pagina Facebook del presidente Franco Libero Manco \nMetti “Mi piace” sulla nostra pagina Facebook AVA Associazione Vegan Animalista \nVieni a trovarci presso la nostra sede di Roma in Piazza Asti\, 5/A  \nVisiona iscriviti e condividi le nostre videoconferenze dal nostro canale Youtube \n Iscriviti ai nostri gruppi su Facebook: \nAVA Associazione Vegan Animalista \nSupporta Agripunk e tutti i Rifugi di Animali Liberi \nVITAMINA B12 NEI BAMBINI \, IN GRAVIDANZA E NEGLI ADULTI: PROBLEMA FACILMENTE SUPERABILE\nConferenza del 8 ottobre ore 18\,00\nDott. Maurizio Conte\, Medico Chirurgo\, Pediatra \nIl Relatore risponderà alle domande del pubblico \n“Io mangio la carne e sto benissimo”. Probabilmente è quello che pensano anche coloro che usano drogarsi. Gli effetti di un  prodotto dannoso non si manifestano quasi mai immediatamente perché dipende dalla dose e dalla capacità di resistenza dell’organismo: si accumulano e si manifestano quando si raggiunge il punto critico. Un automobile continua a camminare fino all’ultima goccia di benzina e fino a quel momento procede come sempre. E’ come precipitare dal decimo piano e nel tragitto pensare che va tutto bene: e quando si arriva a terra che si manifesta l’effetto della caduta.\n——————- \nSALOTTO CULTURALE VEGAN\nINCONTRI LUDICO/CULTURALI AVA\nDomenica 11 ottobre dalle ore 17\,00 alle ore 18\,00 \nin sede AVA piazza asti 5/a Roma \nAPERIVEGAN \nbitter\, prosecco\, succhi di frutta; noccioline\, patatine\, salatini\, pizza rossa\, olive\, tartine con patè vari. \nContributo 5€. Ingresso libero. \n———— \nDalle ore 18\,00 alle ore 19\,00 \nproiezione di bellissimi cortometraggi su animali e natura. \nSegue libero dibattito sui temi dei filmati \no proposti dai partecipanti su veganismo e animalismo. \nAlle ore 20 spaghettata \naglio\, olio e peperoncino\, preceduta da un’abbondante \ninsalata mista di stagione\, compreso pane\, acqua\, vino e dolce. \nLa partecipazione per il filmato è libera e gratuita. \nIl contributo per chi resta per la cena è di 7 euro. \nPOSTI LIMITATI PER QUESTO E’\nOBBLIGATORIA LA PRENOTAZIONE A LUANA\, tel. 3391406256\n \nIO AMO GLI #ANIMALI!\nTu che “ami” gli Animali…\nPerchè tu “ami” gli Animali! \nPerchè il tuo cane è un animale\, ma il prosciutto no!\nPerchè il tuo gatto è un animale\, ma la fiorentina no!\nPerchè i tuoi pesci rossi sono Animali\, ma il tonno no!\nPerchè quelli dentro casa tua sono Animali\, ma quelli sui banchi frigo dei supermercati no! \nDimmi.\nC’è bisogno che ti spieghi quello che sta provando il maiale in questa foto?\nO lo capisci da solo vedendo il suo viso?\nSai\, un animale é in grado di provare #Amore e con la stessa intensità può provare #dolore e #paura.\nLa realtà è una sola\, se ami qualcuno non lo mangi per il semplice fatto che non riusciresti a farlo! \nQuindi quando dici: “IO AMO GLI ANIMALI”… ricorda che gli Animali sono tanti!!! \nThanks to a #ALF – Photo by \nFreedom Hill Sanctuary\n\nLa Stella Vegan\n\nShare on:
URL:https://associazionevegananimalista.it/event/5409/
CATEGORIES:Eventi AVA 2020
ATTACH;FMTTYPE=image/jpeg:https://associazionevegananimalista.it/wp-content/uploads/2020/10/aaaaabamb.jpg
END:VEVENT
END:VCALENDAR