BEGIN:VCALENDAR
VERSION:2.0
PRODID:-//AVA - ECPv6.15.20//NONSGML v1.0//EN
CALSCALE:GREGORIAN
METHOD:PUBLISH
X-WR-CALNAME:AVA
X-ORIGINAL-URL:https://associazionevegananimalista.it
X-WR-CALDESC:Eventi per AVA
REFRESH-INTERVAL;VALUE=DURATION:PT1H
X-Robots-Tag:noindex
X-PUBLISHED-TTL:PT1H
BEGIN:VTIMEZONE
TZID:Europe/Rome
BEGIN:DAYLIGHT
TZOFFSETFROM:+0100
TZOFFSETTO:+0200
TZNAME:CEST
DTSTART:20200329T010000
END:DAYLIGHT
BEGIN:STANDARD
TZOFFSETFROM:+0200
TZOFFSETTO:+0100
TZNAME:CET
DTSTART:20201025T010000
END:STANDARD
BEGIN:DAYLIGHT
TZOFFSETFROM:+0100
TZOFFSETTO:+0200
TZNAME:CEST
DTSTART:20210328T010000
END:DAYLIGHT
BEGIN:STANDARD
TZOFFSETFROM:+0200
TZOFFSETTO:+0100
TZNAME:CET
DTSTART:20211031T010000
END:STANDARD
BEGIN:DAYLIGHT
TZOFFSETFROM:+0100
TZOFFSETTO:+0200
TZNAME:CEST
DTSTART:20220327T010000
END:DAYLIGHT
BEGIN:STANDARD
TZOFFSETFROM:+0200
TZOFFSETTO:+0100
TZNAME:CET
DTSTART:20221030T010000
END:STANDARD
END:VTIMEZONE
BEGIN:VEVENT
DTSTART;TZID=Europe/Rome:20210114T180000
DTEND;TZID=Europe/Rome:20210114T200000
DTSTAMP:20260422T150028
CREATED:20210109T174552Z
LAST-MODIFIED:20210109T174553Z
UID:5713-1610647200-1610654400@associazionevegananimalista.it
SUMMARY:IL SISTEMA VEGAN SALVERA' IL MONDO
DESCRIPTION:“Io credo che quando l’irreale avanza pretese sulla realtà\, o entra nel suo dominio\, possa accadere\, e accade\, qualcosa di diverso dalla semplice assimilazione alle norme dominanti. Le norme stesse possono essere scardinate\, mostrare la loro instabilità e aprirsi ad una nuova significazione.” Judith Butler \n(Ippoasi) \nLeggi condividi e diffondi: PROGETTO PACE NEL MONDO – EDUCARE L’UMANITA’ ALLA PACE di Franco Libero Manco \nVisita il nostro sito Associazione Vegan Animalista \nMetti “Mi piace” sulla pagina Facebook del presidente Franco Libero Manco \nMetti “Mi piace” sulla nostra pagina Facebook AVA Associazione Vegan Animalista \nIscriviti alla nostra Newsletter \nVisiona iscriviti e condividi le nostre videoconferenze dal nostro canale Youtube \n Iscriviti ai nostri gruppi su Facebook: \nAVA Associazione Vegan Animalista \nSupporta Agripunk e tutti i Rifugi di Animali Liberi \nIL SISTEMA VEGAN SALVERA’ IL MONDO\nATTENZIONE AVVISO IMPORTANTE: CAUSA EMERGENZA COVID LA CONFERENZA VERRA’ TRASMESSA IN STREAMING TRAMITE LA PAGINA DEL DOTTOR VASCO MERCIADRI\, POTRETE PARTECIPARE COMMENTANDO E FARE DOMANDE\, COLLLEGATEVI ALLE ORE 18\,00 ALLA SUA PAGINA: \nhttps://www.facebook.com/dottorvascomerciadri\n\nDottor Vasco Merciadri medico chirurgo\, medicine complementari e omeopatia terrà la conferenza: “Il Sistema Vegan salverà il mondo”.\nI VANTAGGI ECONOMICI DEL SISTEMA VEGAN\ndi Franco Libero Manco \nVegan\, solo futuro possibile\nGli animali d’allevamento consumano derrate alimentari quanto 10 miliardi di esseri umani. \nCon il costo di un kg di carne (es. 15 €) si può acquistare un kg di: pasta\, pane\, patate\, verdura\, frutta\, legumi\, ½ kg di noci. \nPer ottenere proteine dalla carne si dissipano (rispetto alla produzione di proteine da alimenti vegetali)  4 volte più energia\, 10 volte più terreno\, 25 volte più acqua.\nI terreni coltivati a legumi possono nutrire una popolazione 20 volte superiore rispetto a quella destinata a produzione di carne. \nIl 75% dei cereali prodotti nel mondo e il 90% della soia viene consumato dagli animali d’allevamento. Occorrono 16 kg tra cereali  e  leguminose per ottenere 1 solo kg di carne di manzo. \nUn’area grande 7 volte l’Europa viene assorbita per la coltivazione di mangimi.  Per ogni kg di carne bovina vengono sacrificati circa 12 mq di foresta\, 50000 litri di acqua\, 7 litri di petrolio.\nNella stesa superficie di terreno si possono ottenere1000 kg di pomodori o 5 kg di carne; 21 tonnellate di patate o una tonnellata di carne. (FAO) \nSi risparmia più acqua rinunciando ad un kg di carne di manzo che fare la doccia per due anni.\nL’inquinamento prodotto  dalla produzione di carne supera tutte le attività umane. Ogni kg di carne produce 36 kg di CO2\, e biossido di carbonio\, cioè quanto una vettura per 250 km. \nUn comunicato dell’Onu afferma che la carne risulta essere la causa principale dell’inquinamento\, dell’effetto serra e di spreco di  risorse energetiche e che il veganismo ridurrebbe la fame nel mondo. \nIl sistema di vita vegan\, che sostiene la produzione di alimenti biologici\, richiede la presenza di un maggior impiego di personale\, mentre il settore di produzione della carne (che ha un deficit di 10 mila miliardi l’anno) ha una bassissima possibilità di impiego di personale lavorativo. Ma i benefici economici si evidenziano maggiormente sulla riduzione delle malattie e quindi dell’onere sanitario: i vegani risultano meno vittime di patologie moderne il cui costo per le cure ora grava enormemente sul SSN e sull’economia familiare.\nI dati del 2016 riportati dall’Istat dicono che gli italiani hanno speso per curarsi 149\,5 miliardi di euro tra costi sostenuti dallo stato (112\,2 miliardi) e spesa sanitaria privata (37\,3 miliardi)\, di cui il 90\,9% direttamente a carico delle famiglie. IL 54\,9% della spesa sanitaria è stata assorbita  dalla riabilitazione (82 miliardi)\, mentre prodotti farmaceutici e apparecchi terapeutici sono costati 31\,1 miliardi. Praticamente ogni italiano (vegani esclusi) ha speso\, mediamente\, in assistenza sanitaria 2.466 euro. \n \nUn caldo saluto da Sivik e dalla Gattina.\nTutte le fatiche sono ripagate dalla gioia incredibile di questa amicizia tra due cucciole.\n(Ippoasi)\nShare on:
URL:https://associazionevegananimalista.it/event/il-sistema-vegan-salvera-il-mondo/
CATEGORIES:Eventi AVA 2020
END:VEVENT
END:VCALENDAR