BEGIN:VCALENDAR
VERSION:2.0
PRODID:-//AVA - ECPv6.15.20//NONSGML v1.0//EN
CALSCALE:GREGORIAN
METHOD:PUBLISH
X-WR-CALNAME:AVA
X-ORIGINAL-URL:https://associazionevegananimalista.it
X-WR-CALDESC:Eventi per AVA
REFRESH-INTERVAL;VALUE=DURATION:PT1H
X-Robots-Tag:noindex
X-PUBLISHED-TTL:PT1H
BEGIN:VTIMEZONE
TZID:Europe/Rome
BEGIN:DAYLIGHT
TZOFFSETFROM:+0100
TZOFFSETTO:+0200
TZNAME:CEST
DTSTART:20200329T010000
END:DAYLIGHT
BEGIN:STANDARD
TZOFFSETFROM:+0200
TZOFFSETTO:+0100
TZNAME:CET
DTSTART:20201025T010000
END:STANDARD
BEGIN:DAYLIGHT
TZOFFSETFROM:+0100
TZOFFSETTO:+0200
TZNAME:CEST
DTSTART:20210328T010000
END:DAYLIGHT
BEGIN:STANDARD
TZOFFSETFROM:+0200
TZOFFSETTO:+0100
TZNAME:CET
DTSTART:20211031T010000
END:STANDARD
BEGIN:DAYLIGHT
TZOFFSETFROM:+0100
TZOFFSETTO:+0200
TZNAME:CEST
DTSTART:20220327T010000
END:DAYLIGHT
BEGIN:STANDARD
TZOFFSETFROM:+0200
TZOFFSETTO:+0100
TZNAME:CET
DTSTART:20221030T010000
END:STANDARD
END:VTIMEZONE
BEGIN:VEVENT
DTSTART;TZID=Europe/Rome:20210211T180000
DTEND;TZID=Europe/Rome:20210211T200000
DTSTAMP:20260422T132835
CREATED:20210209T203828Z
LAST-MODIFIED:20210209T203829Z
UID:5813-1613066400-1613073600@associazionevegananimalista.it
SUMMARY:ESPIANTO DI ORGANI A CUORE BATTENTE: UN CRIMINE CONTRO L’UMANITA’
DESCRIPTION:“La sporcizia interna dell’uomo medio è qualcosa di inimmaginabile” \n(Arnold Ehret) \nLeggi condividi e diffondi: PROGETTO PACE NEL MONDO – EDUCARE L’UMANITA’ ALLA PACE di Franco Libero Manco \nVisita il nostro sito Associazione Vegan Animalista \nMetti “Mi piace” sulla pagina Facebook del presidente Franco Libero Manco \nMetti “Mi piace” sulla nostra pagina Facebook AVA Associazione Vegan Animalista \nIscriviti alla nostra Newsletter \nVisiona iscriviti e condividi le nostre videoconferenze dal nostro canale Youtube \n Iscriviti ai nostri gruppi su Facebook: \nAVA Associazione Vegan Animalista \nSupporta Agripunk e tutti i Rifugi di Animali Liberi \nI GIOVEDI’ CULTURALI DELL’AVA\nAssociazione Vegan Animalista APS \nLe conferenze si tengono in piazza Asti 5/a Roma \n(Metro Re di Roma\, uscita Vercelli\, trenino staz.ne Tuscolana o bus 85-81-16) \n—————————————– \nGiovedì 11 febbraio\, ore 18\,00\, conferenza del Prof. Dott. Rocco Maruotti\, Dir. Primario Unità Operativa Chirurgia\, Dir. riviste  scientifiche International Surgery\, Endosurgery e Chirurgia; Comitato Medico Lega Nazionale Contro la Predazione di Organi e la Morte a Cuore Battente\,  sul tema: \nESPIANTO DI ORGANI A CUORE BATTENTE: UN CRIMINE CONTRO L’UMANITA’\nLA CONFERENZA SI SVOLGERA’ ADOTTANDO LE PRESCRIZIONI PREVISTE IN MERITO AL COVID 19 \n———————————— \nTutto è inquinato tanto vale mangiare un pò di tutto\ndi Franco Libero Manco \n”Il terreno è tutto e il microbo è niente”\n(Claude Bernard) \n“Tutto è inquinato tanto vale mangiare un pò di tutto”. Che è come dire\, siccome l’aria è inquinata tanto vale che fumo. \nE’ vero che tutto è inquinato ma una cosa è avvelenarsi al 10% e una al 100%. Il che equivale ad avere il 10% o il 100% di possibilità di morire di qualche brutta malattia. C’è un abisso tra le tossine apportate dai prodotti animali e quelle di derivazione vegetale\, anche se convenzionali. \nNella carne gli inquinanti possono essere decine di volte maggiori rispetto a quelli che si possono trovare nei vegetali. La mela peggiore è 100 volte migliore della migliore bistecca.\nLa carne degli animali fa male alla salute umana non perché è avvelenata dai mangimi\, dai residui chimici dei farmaci somministrati agli animali per immunizzarli dalle varie malattie cui vanno incontro a causa di una vita impietosa\,  dalle malattie stesse degli animali\, dalla disperazione\, dallo stress della prigionia\, ma dal fatto che la carne anche degli animali allevati in modo bucolico sviluppano ptomaine\, cioè prodotti tossici che si sprigionano dagli organismi viventi in via di putrefazione. \nNon abbiamo alcun bisogno di mangiare la carne e l’eccellente salute dei vegani lo conferma. \n \n Solo la pulizia interna del corpo e dell’anima può guarire\, niente altro che quella. \n(Louis Kuhne) \nShare on:
URL:https://associazionevegananimalista.it/event/espianto-di-organi-a-cuore-battente-un-crimine-contro-lumanita/
CATEGORIES:Eventi AVA 2021
ATTACH;FMTTYPE=image/jpeg:https://associazionevegananimalista.it/wp-content/uploads/2021/02/aaaaaaaaaapellic.jpg
END:VEVENT
END:VCALENDAR