BEGIN:VCALENDAR
VERSION:2.0
PRODID:-//AVA - ECPv6.15.20//NONSGML v1.0//EN
CALSCALE:GREGORIAN
METHOD:PUBLISH
X-WR-CALNAME:AVA
X-ORIGINAL-URL:https://associazionevegananimalista.it
X-WR-CALDESC:Eventi per AVA
REFRESH-INTERVAL;VALUE=DURATION:PT1H
X-Robots-Tag:noindex
X-PUBLISHED-TTL:PT1H
BEGIN:VTIMEZONE
TZID:Europe/Rome
BEGIN:DAYLIGHT
TZOFFSETFROM:+0100
TZOFFSETTO:+0200
TZNAME:CEST
DTSTART:20200329T010000
END:DAYLIGHT
BEGIN:STANDARD
TZOFFSETFROM:+0200
TZOFFSETTO:+0100
TZNAME:CET
DTSTART:20201025T010000
END:STANDARD
BEGIN:DAYLIGHT
TZOFFSETFROM:+0100
TZOFFSETTO:+0200
TZNAME:CEST
DTSTART:20210328T010000
END:DAYLIGHT
BEGIN:STANDARD
TZOFFSETFROM:+0200
TZOFFSETTO:+0100
TZNAME:CET
DTSTART:20211031T010000
END:STANDARD
BEGIN:DAYLIGHT
TZOFFSETFROM:+0100
TZOFFSETTO:+0200
TZNAME:CEST
DTSTART:20220327T010000
END:DAYLIGHT
BEGIN:STANDARD
TZOFFSETFROM:+0200
TZOFFSETTO:+0100
TZNAME:CET
DTSTART:20221030T010000
END:STANDARD
END:VTIMEZONE
BEGIN:VEVENT
DTSTART;TZID=Europe/Rome:20210218T180000
DTEND;TZID=Europe/Rome:20210218T200000
DTSTAMP:20260422T132835
CREATED:20210216T172340Z
LAST-MODIFIED:20210216T172550Z
UID:5837-1613671200-1613678400@associazionevegananimalista.it
SUMMARY:VINCERE I NEMICI DELLA NOSTRA SALUTE: BISOGNI INSODDISFATTI\, EMOZIONI\, STRESS\, ANSIA
DESCRIPTION:“Forse oggi l’obiettivo principale non è di scoprire che cosa siamo\, ma piuttosto di rifiutare quello che siamo. Dobbiamo immaginare e costruire ciò che dovremmo diventare” (Michel Foucault) \nLeggi condividi e diffondi: PROGETTO PACE NEL MONDO – EDUCARE L’UMANITA’ ALLA PACE di Franco Libero Manco \nVisita il nostro sito Associazione Vegan Animalista \nMetti “Mi piace” sulla pagina Facebook del presidente Franco Libero Manco \nMetti “Mi piace” sulla nostra pagina Facebook AVA Associazione Vegan Animalista \nIscriviti alla nostra Newsletter \nVisiona iscriviti e condividi le nostre videoconferenze dal nostro canale Youtube \n Iscriviti ai nostri gruppi su Facebook: \nAVA Associazione Vegan Animalista \nSupporta Agripunk e tutti i Rifugi di Animali Liberi \nI GIOVEDI’ CULTURALI DELL’AVA\nAssociazione Vegan Animalista APS \nLe conferenze si tengono in piazza Asti 5/a Roma \n(Metro Re di Roma\, uscita Vercelli\, trenino staz.ne Tuscolana o bus 85-81-16) \n—————————————– \nGiovedì 18 febbraio\, ore 18\,00\, conferenza della Dr.ssa Fulvia Tramontano\, Psicologa e Psicoterapeuta\, \nSpecialista nei disturbi psicogeni e del comportamento alimentare\, Psicoterapia analitica Junghiana\, sul tema: \n“VINCERE I NEMICI DELLA NOSTRA SALUTE:\nBISOGNI INSODDISFATTI\, EMOZIONI\, STRESS\, ANSIA”\nLA CONFERENZA SI SVOLGERA’ SECONDO LE PRESCRIZIONI PREVISTE IN MERITO AL COVID 19 \n—————————– \nLA PROVA CHE INNALZA\ndi Franco Libero Manco \nSempre\, ciò che rinnova profondamente l’essere\, lascia la sua impronta dolorosa\, ma più dura è la prova da superare\, più vasti saranno gli orizzonti della tua anima. \nOgni cosa matura nella sofferenza\, così vuole la Legge\, e la prova è ciò che rende l’animo sublime\, e innalza a vette di vertigini.\nIo parlo di coscienza universale\, di sfere evolutive per superare l’abisso spirituale che ancora ci separa dalla meta. \nParlo dello scopo dominante della vita\, dell’intima purezza della mente che libera dai meandri e dagli oscuri labirinti del dolore. \nIo cerco colui che ha voglia di volare\, che guarda alle alture su cui arrampicarsi\, colui che anela\, prima d’ogni cosa\, la bontà del cuore\, per innalzare la sua parte migliore; non chi si ferma in superficie e si smarrisce nelle trame di infiniti dettagli.\nMille virtù racchiude la tua anima che aspetta la tua volontà per emergere in tutto il suo splendore. \nAl torpore è preferibile il troppo impeto\, ma l’equilibrio è superiore alla prudenza e al coraggio stesso. \nTutte  le offese si oppongono alla vita\, e in realtà l’uomo merita gli effetti dolorosi dell’Onda di Ritorno\, perché non è pronto ad apprezzare l’Armonia. \nTua è la vita che scaturisce dal palpito solare\, tuo è il bene e il male che sboccia\, deforme o sublime\, dal centro del tuo essere. \nAma dunque la Vita che divorante arde nel petto di ogni essere. \nDisperdi l’invidia e la durezza\, allontana da te la trappola del deludente ed effimero splendore degli orpelli.\nSia la tua fede come lampada accesa sulla cima del monte\, a baluardo di ogni impulso disarmonico dell’Io. \nFelice non è colui che possiede ciò che la natura esige con furore\, ma chi è libero da ogni insano desiderio. \nGuardati\, e riconosciti\, quando la prova rivela ciò che realmente alberga nel tuo cuore.\nTu non sei solo quello che vuoi far credere di essere: non sei ombra\, ma non sei ancora solamente luce. \nChi cerchi di ingannare col tuo sorriso\, con il tuo garbo ostentato\, con la tua quiete apparente? \nQuella è l’altra faccia di te stesso: la tua vera natura sta sotto la coltre del tuo apparente perbenismo. \nQuando ti scagli con furia vulcanica contro chi ti ha scalfito un’unghia\, cercando di giustificare il tuo egoismo\, anche quello sei tu.\nQuando sei pronto a rinnegare l’onore\, la stima e l’amicizia pur di non perdere più di quanto sperato\, anche quello sei tu. \nQuando viene negato un tuo diritto\, e la tua ira esplode più intensa del delirio\, anche quello sei tu. \nÈ non credere di essere onesto\, solo perché le circostanze ti sono state favorevoli: non sei forse un ladro quando rubi la stima che non meriti? \nMa il coraggio di essere coerenti è prerogativa dei grandi spiriti.\nNon basta amare\, bisogna essere amabili. \nNon serve invocare giustizia se non sei pronto a dare l’esempio con una giusta e limpida condotta. \nSii buono sempre\, in ogni circostanza\, e sboccerà in te l’essere della nuova vita. \nFiumi di stelle verranno a te come all’oceano\, e potrai dire a te stesso: sono finalmente libero. \n  \n \nQUANDO NON CI SEI\nQuando non ci sei \ns’incendia il cuore\, \nstraripa la ragione \ne l’anima sprofonda\, \nintorpidita e indolente\, \nin un languido\, \nnostalgico torpore. \nSi oscura il cielo \ndi angeli abbattuti \ne l’impeto anelante della vita \ncome fiamma ansima nell’aria. \nQuando non ci sei \nogni cosa si offusca\, \nsbiadisce\, si dilegua\, \ned i minuti\, lunghi anni luce\, \ncome macigno mi pesano sul petto. \nEd io non sono più me stesso\, \nma la mia ombra offuscata\, \nsono l’attesa\, l’ansia e la paura. \nSono la vespa che al tramonto \nstrepita ronzando \ncercando l’amato fiore che non trova. \nMa quando sei con me\, \nsi placano i gemiti dell’anima\, \ntutto si dipana e si fa chiaro. \nLa vita torna a scorrere nel sangue \ncome mille cascate di energia. \nEsplode l’azzurro nelle viscere \ne l’iride\, bramosa di visioni\, \ns’irradia prorompente di colori. \nIl gelo notturno si disperde \ne limpido riappare il mio orizzonte. \nFranco Libero Manco \nShare on:
URL:https://associazionevegananimalista.it/event/5837/
CATEGORIES:Eventi AVA 2021
ATTACH;FMTTYPE=image/jpeg:https://associazionevegananimalista.it/wp-content/uploads/2021/02/maialinoava.jpg
END:VEVENT
END:VCALENDAR