BEGIN:VCALENDAR
VERSION:2.0
PRODID:-//AVA - ECPv6.15.20//NONSGML v1.0//EN
CALSCALE:GREGORIAN
METHOD:PUBLISH
X-WR-CALNAME:AVA
X-ORIGINAL-URL:https://associazionevegananimalista.it
X-WR-CALDESC:Eventi per AVA
REFRESH-INTERVAL;VALUE=DURATION:PT1H
X-Robots-Tag:noindex
X-PUBLISHED-TTL:PT1H
BEGIN:VTIMEZONE
TZID:Europe/Rome
BEGIN:DAYLIGHT
TZOFFSETFROM:+0100
TZOFFSETTO:+0200
TZNAME:CEST
DTSTART:20200329T010000
END:DAYLIGHT
BEGIN:STANDARD
TZOFFSETFROM:+0200
TZOFFSETTO:+0100
TZNAME:CET
DTSTART:20201025T010000
END:STANDARD
BEGIN:DAYLIGHT
TZOFFSETFROM:+0100
TZOFFSETTO:+0200
TZNAME:CEST
DTSTART:20210328T010000
END:DAYLIGHT
BEGIN:STANDARD
TZOFFSETFROM:+0200
TZOFFSETTO:+0100
TZNAME:CET
DTSTART:20211031T010000
END:STANDARD
BEGIN:DAYLIGHT
TZOFFSETFROM:+0100
TZOFFSETTO:+0200
TZNAME:CEST
DTSTART:20220327T010000
END:DAYLIGHT
BEGIN:STANDARD
TZOFFSETFROM:+0200
TZOFFSETTO:+0100
TZNAME:CET
DTSTART:20221030T010000
END:STANDARD
END:VTIMEZONE
BEGIN:VEVENT
DTSTART;TZID=Europe/Rome:20210318T180000
DTEND;TZID=Europe/Rome:20210318T200000
DTSTAMP:20260422T120425
CREATED:20210316T215225Z
LAST-MODIFIED:20210316T215225Z
UID:5921-1616090400-1616097600@associazionevegananimalista.it
SUMMARY:LA SPIRITUALITÀ DEL 3° MILLENNIO
DESCRIPTION:“Sono stata spesso accusata di avere più sollecitudine per gli animali che per le persone: perchè intenerirsi per i bruti quando gli esseri razionali sono così infelici? E’ che tutto va insieme\, dall’uccello la cui covata viene schiacciata ai nidi umani decimati dalla guerra…\nAl fondo della mia rivolta contro i potenti trovo\, più antico\, il ricordo delle torture inflitte alle bestie… e più l’uomo è feroce con la bestia\, più striscia di fronte a coloro che lo dominano.” \n(Luise Michel) \nLeggi condividi e diffondi: PROGETTO PACE NEL MONDO – EDUCARE L’UMANITA’ ALLA PACE di Franco Libero Manco \nVisita il nostro sito Associazione Vegan Animalista \nMetti “Mi piace” sulla pagina Facebook del presidente Franco Libero Manco \nMetti “Mi piace” sulla nostra pagina Facebook AVA Associazione Vegan Animalista \nIscriviti alla nostra Newsletter \nVisiona iscriviti e condividi le nostre videoconferenze dal nostro canale Youtube \n Iscriviti ai nostri gruppi su Facebook: \nAVA Associazione Vegan Animalista \nSupporta Agripunk e tutti i Rifugi di Animali Liberi \n  \nI GIOVEDI’ CULTURALI DELL’AVA\nAssociazione Vegan Animalista APS \nLe conferenze si tengono in piazza Asti 5/a Roma \n(Metro Re di Roma\, uscita Vercelli\, trenino staz.ne Tuscolana o bus 85-81-16) \n—————————————– \nGiovedì 18 marzo ore 18\,00\, \n conferenza del Dr. Giuseppe Cali’\, Presidente Fondazione Famiglie per la Pace Mondiale\, \nPresidente Universal Peace Federation South Europe\, sul tema: \n“LA SPIRITUALITÀ DEL 3° MILLENNIO”\nEntra nella riunione in Zoom \nhttps://zoom.us/j/97863350679?pwd=OW5uckJzUzR6Y1ZodG1MRXJIUHdrQT09 \nID riunione: 978 6335 0679 – Passcode: 902940 \n—————————— \nIL VERO AMORE E’ AMORE PER LA VITA UNIVERSALE\ndi Franco Libero Manco \nNon è vero amore quando si ama soltanto la nostra famiglia\, i nostri amici\, chi ci è vicino; non è vero amore quando si ama solo una parte del tutto  e si è indifferenti alla condizione di chi è fisicamente lontano o diverso. Il vero amore valica i confini del gruppo di appartenenza\, di  nazionalità\, di etnia\, di cultura\, di religione\, di specie\, e si espande sfericamente sino ad inglobare nel suo sentire ogni cosa che ha vita. Ama veramente colui che sa far sue non solo le sofferenze degli uomini ma chi sa sacrificarsi per il bene anche dell’essere più umile senza aspettarsi lodi o ricompense. \nIl vero amore è condivisione delle necessità del nostro prossimo universale e  non tollera distinzioni di forma o di contenuto; non si dona a seconda della specie\, del colore della pelle; non aspetta il manifestarsi della necessità\, ma  accoglie\, conforta\, soccorre; non sopporta l’inerzia\, l’inettitudine\, ma ama l’ultimo essere del mondo come fosse il figlio\, il fratello\, il genitore.\nAma veramente colui che sa far sua la responsabilità del destino collettivo; colui che sa trattare con gentilezza e amore l’essere più umile della terra come se da questo dipendesse il suo destino. \nIl vero amore è cascata che frange gli steccati ideologici: scende atterrando tutto quanto non è amore. Noi amiamo la Vita\, di un amore struggente ed inestinguibile\, condividiamo il dolore e il dramma di ogni vittima innocente che muore per malattia\, ignoranza\, fame o sotto la mano violenta dell’uomo che spegne l’anelante desiderio di esistere di un essere umano come di un vitello\, un agnello\, un coniglio. Per questo non è nella nostra natura essere tiepidi\, tacere\, assolvere coloro che uccidono la compassione\, la civiltà\, l’amore.\n—————————— \nSecondo i grandi Maestri\, il cibarsi di carne risulta dannoso anche per chi intende praticare la meditazione\, perché le energie negative della carne di animali brutalmente uccisi impediscono l’armonizzazione delle energie personali con quelle dell’universo. Tutti i grandi yogi indiani si astenevano dalla carne perché il corpo astrale è condizionato da quello fisico. Anche gli inquinanti e le tossine\, oltre ad essere dannosi per l’organismo\, rendono il corpo astrale più denso.   Come il corpo fisico anche gli altri corpi hanno bisogno di essere alimentati e richiedono per il loro sviluppo particolari energie che l’organismo deve sintetizzare a partire dall’alimentazione. La carne degli animali uccisi emana radiazioni di terrore\, e quando l’individuo consuma simili alimenti assorbe tali emanazioni. Il teosofo americano C.W. Leadbeater sostiene che l’alimentazione vegetariana è l’unica che consenta la purificazione e che l’alimentazione carnea è di ostacolo allo sviluppo di percezioni extrasensoriali \n  \n \nNon sento mai la parola “fuga”\nsenza un colpo al cuore.\nUn’improvvisa attesa –\nun impulso al volo. \nNon sento di prigioni smisurate\nabbattute da soldati\, senza scuotere\nle sbarre della mia – come un bambino –\nper fallire una volta ancora. \n(Emily Dickinson) \nLIBERACTION\nShare on:
URL:https://associazionevegananimalista.it/event/la-spiritualita-del-3-millennio/
CATEGORIES:Eventi AVA 2021
ATTACH;FMTTYPE=image/jpeg:https://associazionevegananimalista.it/wp-content/uploads/2021/03/pecorlib.jpg
END:VEVENT
END:VCALENDAR