BEGIN:VCALENDAR
VERSION:2.0
PRODID:-//AVA - ECPv6.15.20//NONSGML v1.0//EN
CALSCALE:GREGORIAN
METHOD:PUBLISH
X-WR-CALNAME:AVA
X-ORIGINAL-URL:https://associazionevegananimalista.it
X-WR-CALDESC:Eventi per AVA
REFRESH-INTERVAL;VALUE=DURATION:PT1H
X-Robots-Tag:noindex
X-PUBLISHED-TTL:PT1H
BEGIN:VTIMEZONE
TZID:Europe/Rome
BEGIN:DAYLIGHT
TZOFFSETFROM:+0100
TZOFFSETTO:+0200
TZNAME:CEST
DTSTART:20200329T010000
END:DAYLIGHT
BEGIN:STANDARD
TZOFFSETFROM:+0200
TZOFFSETTO:+0100
TZNAME:CET
DTSTART:20201025T010000
END:STANDARD
BEGIN:DAYLIGHT
TZOFFSETFROM:+0100
TZOFFSETTO:+0200
TZNAME:CEST
DTSTART:20210328T010000
END:DAYLIGHT
BEGIN:STANDARD
TZOFFSETFROM:+0200
TZOFFSETTO:+0100
TZNAME:CET
DTSTART:20211031T010000
END:STANDARD
BEGIN:DAYLIGHT
TZOFFSETFROM:+0100
TZOFFSETTO:+0200
TZNAME:CEST
DTSTART:20220327T010000
END:DAYLIGHT
BEGIN:STANDARD
TZOFFSETFROM:+0200
TZOFFSETTO:+0100
TZNAME:CET
DTSTART:20221030T010000
END:STANDARD
END:VTIMEZONE
BEGIN:VEVENT
DTSTART;TZID=Europe/Rome:20210325T180000
DTEND;TZID=Europe/Rome:20210325T200000
DTSTAMP:20260422T120412
CREATED:20210323T212547Z
LAST-MODIFIED:20210323T212547Z
UID:5939-1616695200-1616702400@associazionevegananimalista.it
SUMMARY:IL MIRACOLO DEL PH ALCALINO: STRUMENTO DI IDRATAZIONE E DEPURAZIONE ORGANICA
DESCRIPTION:“Ti faccio spazio dentro di me\, in questo incrocio di sguardi che riassume milioni di attimi e di parole” \n(Pablo Neruda) \nLeggi condividi e diffondi: PROGETTO PACE NEL MONDO – EDUCARE L’UMANITA’ ALLA PACE di Franco Libero Manco \nVisita il nostro sito Associazione Vegan Animalista \nMetti “Mi piace” sulla pagina Facebook del presidente Franco Libero Manco \nMetti “Mi piace” sulla nostra pagina Facebook AVA Associazione Vegan Animalista \nIscriviti alla nostra Newsletter \nVisiona iscriviti e condividi le nostre videoconferenze dal nostro canale Youtube \n Iscriviti ai nostri gruppi su Facebook: \nAVA Associazione Vegan Animalista \nSupporta Agripunk e tutti i Rifugi di Animali Liberi \nI GIOVEDI’ CULTURALI DELL’AVA\nAssociazione Vegan Animalista APS \nLe conferenze si tengono in piazza Asti 5/a Roma \n(Metro Re di Roma\, uscita Vercelli\, trenino staz.ne Tuscolana o bus 85-81-16) \n—————————————– \nGiovedì 25 marzo ore 18\,00\, \n conferenza di Marilù Giamporcaro\, Naturopata e Consulente Etica Olistica\, sul tema: \n“IL MIRACOLO DEL PH ALCALINO:\nSTRUMENTO DI IDRATAZIONE E DEPURAZIONE ORGANICA”\nEntra nella riunione in Zoom\nhttps://us04web.zoom.us/j/3306436745?pwd=Q3lYSXcwVnJRTzJydWRJQ25vMDRpZz09 \n———— \nADDITIVI E CONSERVANTI\ndi Franco Libero Manco \nGli additivi nei cibi sono sostanze tossiche\, nocive per l’organismo: deprimono il sistema immunitario e lo predispongono a moltissime patologie; impoveriscono il valore nutrizionale degli alimenti\, accelerano l’invecchiamento\, abbassano il pH del sangue favorendo l’insorgenza di patologie come il cancro\, il diabete\, cardiopatie\, allergie ecc. \nBisognerebbe consumare un quantitativo venti volte maggiore per avere gli stessi nutrienti di un cibo biologico. Un cibo trattato\, conservato\, inscatolato\, incellofanato ecc. limita l’assimilazione di quell’esigua quantità di nutrienti contenuta nei cibi allo stato naturale.\nSaziarsi non equivale a nutrirsi e le nostre cellule restano affamate di nutrienti indispensabili; questo porta a squilibri\, deficit immunitario\, scarsa resistenza alle infezioni\, predisposizione alle malattie. \nIn genere negli alimenti trattati vengono aggiunte circa 1500 diverse sostanze chimiche che non è obbligatorio menzionare nelle etichette; sostanze appetizzanti\, che generano dipendenza in modo che ognuno possa acquistare quantitativi sempre maggiori di quel prodotto e questo può causare mal di testa\, irritabilità\, nausea\, depressione\, ansia ecc. finché non torna a consumare quel determinato alimento. \nAlcuni componenti sono programmati per far ingrassare: le persone grasse mangiano molto perché l’organismo è portato a reperire il quantitativo necessario di sostanze mancanti in maggiori quantità di alimenti.\nSembra che fertilizzanti\, pesticidi\, diserbanti\, ormoni della crescita\, additivi e farmaci permangono nel nostro organismo e vengono immagazzinati nei tessuti grassi e siccome il cervello è costituito in larga misura da sostanza grassa succede che questo accumulo di tossine generi ansia\, depressione\, difficoltà di apprendimento ecc. \nUna tecnica di lavorazione abbastanza comune degli alimenti industriali è l’irradiazione che consiste nel bombardare gli alimenti con radiazioni per uccidere i batteri.\nLa fotografia di Kirlian evidenzia che una mela coltivata in maniera biologica mostra un’aura armonica e perfetta; la stessa mela trattata con radiazioni mostra un’aura irregolare\, spigolosa\, instabile\, simile a quella dell’arsenico. \n———————————— \nRENDITI  PARTE ATTIVA\, TRASMETTI AD AMICI E CONOSCENTI DOCUMENTI E PROGETTI AVA \nLeggi condividi e diffondi:  \nPROGETTO PACE NEL MONDO- EDUCARE L’UMANITA’ ALLA PACE \n Visita il nostro sito ASSOCIAZIONE VEGAN ANIMALISTA \n Metti “Mi piace” sulla pagina Facebook del presidente Franco Libero Manco \nMetti “Mi piace” sulla nostra pagina Facebook AVA Associazione Vegan Animalista \nIscriviti alla nostra Newsletter \n Iscriviti ai nostri gruppi su Facebook:  AVA Associazione Vegan Animalista \n—————————————– \nIL TUO 5X1000 E’ FONDAMENTALE PER L’ESISTENZA DELL’AVA:  CF 97365030580 \nCodice IBAN: IT38 N076 0103 2000 0005 8343 153 \nPostePay 4023 6009 40988241 – – C.c.p. n. 58343153 \n \n#enonmangiochihauncuoreio\nProprio in quel tempo Drogo si accorse come gli uomini\, per quanto possano volersi bene\, rimangono sempre lontani; che se uno soffre il dolore è completamente suo\, nessun altro può prenderne su di sé una minima parte; che se uno soffre\, gli altri per questo non sentono male\, anche se l’amore è grande\, e questo provoca la solitudine della vita.\n**DINO BUZZATI da IL DESERTO DEI TARTARI\n**\n**Di mamma ne esiste una sola. Di secondi piatti possono essercene tanti altri. Lascialo con la mamma. Inventa un vero menù!\n**#eveganrevolution \nAnin Nitilu\nShare on:
URL:https://associazionevegananimalista.it/event/il-miracolo-del-ph-alcalino-strumento-di-idratazione-e-depurazione-organica-2/
CATEGORIES:Eventi AVA 2021
ATTACH;FMTTYPE=image/jpeg:https://associazionevegananimalista.it/wp-content/uploads/2021/03/cantoliberoava.jpg
END:VEVENT
END:VCALENDAR