BEGIN:VCALENDAR
VERSION:2.0
PRODID:-//AVA - ECPv6.15.20//NONSGML v1.0//EN
CALSCALE:GREGORIAN
METHOD:PUBLISH
X-ORIGINAL-URL:https://associazionevegananimalista.it
X-WR-CALDESC:Eventi per AVA
REFRESH-INTERVAL;VALUE=DURATION:PT1H
X-Robots-Tag:noindex
X-PUBLISHED-TTL:PT1H
BEGIN:VTIMEZONE
TZID:Europe/Rome
BEGIN:DAYLIGHT
TZOFFSETFROM:+0100
TZOFFSETTO:+0200
TZNAME:CEST
DTSTART:20200329T010000
END:DAYLIGHT
BEGIN:STANDARD
TZOFFSETFROM:+0200
TZOFFSETTO:+0100
TZNAME:CET
DTSTART:20201025T010000
END:STANDARD
BEGIN:DAYLIGHT
TZOFFSETFROM:+0100
TZOFFSETTO:+0200
TZNAME:CEST
DTSTART:20210328T010000
END:DAYLIGHT
BEGIN:STANDARD
TZOFFSETFROM:+0200
TZOFFSETTO:+0100
TZNAME:CET
DTSTART:20211031T010000
END:STANDARD
BEGIN:DAYLIGHT
TZOFFSETFROM:+0100
TZOFFSETTO:+0200
TZNAME:CEST
DTSTART:20220327T010000
END:DAYLIGHT
BEGIN:STANDARD
TZOFFSETFROM:+0200
TZOFFSETTO:+0100
TZNAME:CET
DTSTART:20221030T010000
END:STANDARD
END:VTIMEZONE
BEGIN:VEVENT
DTSTART;TZID=Europe/Rome:20210520T180000
DTEND;TZID=Europe/Rome:20210520T200000
DTSTAMP:20260422T085240
CREATED:20210517T205449Z
LAST-MODIFIED:20210517T205449Z
UID:6066-1621533600-1621540800@associazionevegananimalista.it
SUMMARY:CORONAVIRUS\, VACCINAZIONI E DANNI COLLATERALI – PREVENZIONE E CURE ADIUVANTI CON LA MEDICINA BIOLOGICA
DESCRIPTION:La vita e il destino della nostra specie sono intrinsecamente connessi agli Esseri Senzienti Non Umani. L’orrore e la morte che infliggiamo\, li infliggiamo a noi stessi. Non c’è distinzione tra loro e noi: nell’Universo è tutto collegato.\nIn qualunque modo si annientino Vite Senzienti\, la coscienza gronda sangue. Che si tratti di caccia\, di vivisezione\, di allevamenti\, di mattatoi\, di zoo\, di circhi\, di pali\, di corride\, di animali scuoiati per pellicce\, di gabbie ecc. non fa alcuna differenza. \n– Il Nostro Canto Libero – \nLeggi condividi e diffondi: PROGETTO PACE NEL MONDO – EDUCARE L’UMANITA’ ALLA PACE di Franco Libero Manco \nVisita il nostro sito Associazione Vegan Animalista \nMetti “Mi piace” sulla pagina Facebook del presidente Franco Libero Manco \nMetti “Mi piace” sulla nostra pagina Facebook AVA Associazione Vegan Animalista \nIscriviti alla nostra Newsletter \nVisiona iscriviti e condividi le nostre videoconferenze dal nostro canale Youtube \n Iscriviti ai nostri gruppi su Facebook: \nAVA Associazione Vegan Animalista \nSupporta Agripunk e tutti i Rifugi di Animali Liberi \nI GIOVEDI’ CULTURALI DELL’AVA\nAssociazione Vegan Animalista APS \nLe conferenze si tengono in piazza Asti 5/a Roma \n(Metro Re di Roma\, uscita Vercelli\, trenino staz.ne Tuscolana o bus 85-81-16) \n—————————————– \nGiovedì 20 maggio ore 18\,00\, \n conferenza dei Dottori Massimiliano Paolini\, Membro Direttivo Ass. COMILVA\, Referente Regione Lazio\, Abruzzo\, Toscana e Dr. Franco Trinca\, Biologo\, Nutrizionista Clinico\, esperto potenziamento difese immunitarie\, sul tema: \nCORONAVIRUS\, VACCINAZIONI E DANNI COLLATERALI –\nPREVENZIONE E CURE ADIUVANTI CON LA MEDICINA BIOLOGICA\nLA CONFERENZA SI SVOLERA’ SECONDO LE PRESCRIZIONI ANTI-COVID \nPOSTI LIMITATI. E’ NECESSARIA LA PRENOTAZIONE A LUANA TEL 3391406256 \n—————————- \n“Coloro che oggi predicano il timore dei germi sono il prodotto mentale di coloro che hanno predicato il timore di Dio\, del diavolo\, dell’inferno e del paradiso nel passato. Essi non sanno che la paura che infondono è da temere molto di più degli oggetti dei loro avvertimenti. La paura fa mille volte più danno di una qualsiasi causa di tossiemia”. (dal libro “La tossiemia\, causa primaria di malattia” del Dr. J.H. Tilden) \nArnold Ehret: “La sporcizia interna dell’uomo medio è qualcosa di inimmaginabile” \nLouis Kuhne: “Solo la pulizia interna del corpo e dell’anima può guarire\, niente altro che quella” \nClaude Bernard :”Il terreno è tutto e il microbo è niente” \nFlorence Nightingale: “Il contagio è il rifugio delle menti deboli e mediocri della medicina” \n—————————– \nQuesto è il link della conferenza   del 13  maggio in sede AVA della dottoressa Marinella Correggia sul tema: “Covid\, le saggezze ed i pericoli nascosti” \nhttps://www.youtube.com/watch?v=Jc4Nxj3eVQM \n—————————— \n SOSTIENI  L’ATTIVITA’  DELL’AVA \nIL TUO 5X1000 E’ FONDAMENTALE PER LA SUA ESISTENZA – C.F. 97365030580 \n \n** La grande forza**\n” La poesia è il salvagente cui mi aggrappo\nquando tutto sembra svanire\nQuando il mio cuore gronda\nper lo strazio delle parole che feriscono\ndei silenzi che trascinano verso il precipizio\nQuando sono diventato così impenetrabile\nche neanche l’aria riesce a passare “\n( KAHIL GIBRAN )\n\nAnin Nitilu\n\nShare on:
URL:https://associazionevegananimalista.it/event/coronavirus-vaccinazioni-e-danni-collaterali-prevenzione-e-cure-adiuvanti-con-la-medicina-biologica/
CATEGORIES:Eventi AVA 2021
ATTACH;FMTTYPE=image/jpeg:https://associazionevegananimalista.it/wp-content/uploads/2021/05/cinghialcanlib.jpg
END:VEVENT
END:VCALENDAR