BEGIN:VCALENDAR
VERSION:2.0
PRODID:-//AVA - ECPv6.15.20//NONSGML v1.0//EN
CALSCALE:GREGORIAN
METHOD:PUBLISH
X-ORIGINAL-URL:https://associazionevegananimalista.it
X-WR-CALDESC:Eventi per AVA
REFRESH-INTERVAL;VALUE=DURATION:PT1H
X-Robots-Tag:noindex
X-PUBLISHED-TTL:PT1H
BEGIN:VTIMEZONE
TZID:Europe/Rome
BEGIN:DAYLIGHT
TZOFFSETFROM:+0100
TZOFFSETTO:+0200
TZNAME:CEST
DTSTART:20200329T010000
END:DAYLIGHT
BEGIN:STANDARD
TZOFFSETFROM:+0200
TZOFFSETTO:+0100
TZNAME:CET
DTSTART:20201025T010000
END:STANDARD
BEGIN:DAYLIGHT
TZOFFSETFROM:+0100
TZOFFSETTO:+0200
TZNAME:CEST
DTSTART:20210328T010000
END:DAYLIGHT
BEGIN:STANDARD
TZOFFSETFROM:+0200
TZOFFSETTO:+0100
TZNAME:CET
DTSTART:20211031T010000
END:STANDARD
BEGIN:DAYLIGHT
TZOFFSETFROM:+0100
TZOFFSETTO:+0200
TZNAME:CEST
DTSTART:20220327T010000
END:DAYLIGHT
BEGIN:STANDARD
TZOFFSETFROM:+0200
TZOFFSETTO:+0100
TZNAME:CET
DTSTART:20221030T010000
END:STANDARD
END:VTIMEZONE
BEGIN:VEVENT
DTSTART;TZID=Europe/Rome:20211007T180000
DTEND;TZID=Europe/Rome:20211007T200000
DTSTAMP:20260422T004637
CREATED:20211006T104527Z
LAST-MODIFIED:20211006T104623Z
UID:6242-1633629600-1633636800@associazionevegananimalista.it
SUMMARY:LE GIUSTE SCELTE DI VITA PER IL PIENO BENESSERE
DESCRIPTION:Vite in Gabbia…\nPer quanto ci si possa sforzare\,per quanto intensa possa essere l’empatia\, non coglieremo mai…la vastità e la profondità della loro sofferenza e del loro dolore…mai.\nCarletto Blu \nLeggi condividi e diffondi: PROGETTO PACE NEL MONDO – EDUCARE L’UMANITA’ ALLA PACE di Franco Libero Manco \nVisita il nostro sito Associazione Vegan Animalista \nMetti “Mi piace” sulla pagina Facebook del presidente Franco Libero Manco \nMetti “Mi piace” sulla nostra pagina Facebook AVA Associazione Vegan Animalista \nIscriviti alla nostra Newsletter \nVisiona iscriviti e condividi le nostre videoconferenze dal nostro canale Youtube \n Iscriviti ai nostri gruppi su Facebook: \nAVA Associazione Vegan Animalista \nSupporta Ippoasi e tutti i Rifugi di Animali Liberi \nI GIOVEDI’ CULTURALI DELL’AVA\nAssociazione Vegan Animalista APS \nLe conferenze si tengono in piazza Asti 5/a Roma \n(Metro Re di Roma\, uscita Vercelli\, trenino staz.ne Tuscolana o bus 85-81-16) \n—————————————– \nGiovedì 7 ottobre ore 18\,00\, \n conferenza della  Dr.ssa Angela Chiumenti\,  Master Reiki esperta di Autoipnosi\, Training Autogeno\, \nGuarigione Spirituale\, Riflessologia del Viso\, Membro Accademia AEREC\, lettura Registri Akashici: \n“LE GIUSTE SCELTE DI VITA\nPER IL PIENO BENESSERE”\nL’incontro si svolgerà secondo le prescrizioni anti-Covid \nL’indifferenza verso la sofferenza altrui è il vero cancro del genere umano\nQuando il tuo organismo non sarà più avvelenato \ndal cibo cadaverico degli animali uccisi; \nquando la tua coscienza sarà incapace di giustificare l’esistenza dei mattatoi; \nquando la tua mente sarà abbastanza aperta a considerare \ngli animali tuoi fratelli e compagni di vita\, \nallora potrai trovare la vera gioia di vivere\, il vero benessere fisico\, \nla vera pace interiore\, la vera libertà del tuo spirito. \nFranco Libero Manco \n  \n“Procura d’esser magro\, per passare dalla porta stretta; bevi acqua per bere la scienza; nutriti di vegetali per essere esperto dei misteri; mangia con moderazione per amare senza misura\, digiuna per vedere. Chi mangia vegetali e beve acqua\, raccoglie visioni e rivelazioni celesti\, la scienza dello  spirito\, la sapienza divina e la rivelazione delle verità nascoste. L’anima che vive in questo modo percepisce ciò che alla scienza umana non è dato di conoscere”. (Filosseno di Mabbug\, scrittore spiritualista cristiano del V-VI sec.) \n“Coloro che desiderano possedere una bellezza pregevole\, una vita duratura\, una salute perfetta\, una buona memoria ed una grande forza fisica\, devono astenersi assolutamente dal mangiare carne animale… Chi è più crudele ed egoista di colui che vuole nutrire il proprio corpo con carne di animali innocenti”? (Krishna) \n———————————- \n  \n \nIl NOSTRO GRIDO DI LIBERTÀ \nNon c’è rassegnazione nel tuo sguardo\, fratellino.\nNo.\nLa Vita non può arrendersi.. questo\, la Vita\, non lo può fare.\nC’è la spensierata curiosità di un bimbo che si stampa sul tuo stupendo viso ”color rosa”.\nC’è la sua stessa voglia di scoprire il mondo\, di viverlo il mondo\, di andargli incontro assecondando “l’istinto..la voce del cuore”.\nCosì\,in libertà. Senza precetti. Senza regole comportamentali.. culturali.\nE c’è “Saggezza primitiva”\, incontaminata\, nel tuo sorriso…appena accennato.\nIn te si legge il desiderio Natura\, di prati verdi\, di rotolarti nell’erba\, di cospargere la tua pelle delicata.. dell’amico fango. Ecchissenefrega…poi.. di sporcarsi.\nÈ questo che esprime il tuo cuore di bimbo.\nE c’è sofferenza muta\,in te\,per tutto quello che\, qualcuno\, ti ha vigliaccamente scippato.\nMa non c’è segno di resa\, nel tuo sguardo\, mio amato fratello.\nNon ci sarà mai resa per le “anime all’inferno”.\nE ci leggo una voglia incontenibile di “ribellione” nei tuoi occhioni grandi e buoni.\nUn desiderio irreprimibile di rompere le Sbarre della ”GABBIA”\, in cui\, mani e cuori di pietra hanno rinchiuso il tuo piccolo\, grande\, cuore.\nMi penetra nelle vene il “TUO GRIDO DI LIBERTÀ”.\nÈ il nostro comune “urlo e desiderio”\, quello\, fratellino adorato.\nSi riflette nel mio specchio dell’anima il tuo volto gentile\, il tuo volto pulito di bimbo punito e maltrattato senza un motivo…senza un.. perché.\nMi rivedo nella culla.\nQuei miei vagiti strozzati in gola…i miei slanci d’amore inibiti e rifiutati.. da mani e cuori freddi.. ”corazzati”.\nQuante lacrime\, quanti fremiti di paura\, quante inascoltate richieste di contatto e di scambio psichico e fisico.. scambiati per “capricci”.. da chi non poteva “sentire e capire”.\nProprio come te\, fratellino\, ho dovuto rinunciare\, sotto minaccia\, alla mia “impudica animalità”.\nIncuteva terrore\, nei miei educatori\, il mio essere animale..il mio essere Natura.. Viva.\nProprio come te\, Vita Rosa\, sono stato recluso per poi essere destinato alla “macellazione sociale ed esistenziale”.\nRisuonano ancora dentro il mio sistema Vitale tutti quei NO…immotivati dei miei incolpevoli genitori-educatori.\nAncora lo rivedo\,ancora mi provoca brividi irrazionali di paura.. quel volto severo che mi intimava…NO!.. questo non si tocca. NO!.. questo non si fa. NO! questo è “PECCATO”.\nQuante ferite laceranti\, quanto sangue innocente “scorre\, invisibile ai più\, dalle “CULLE e dai MACELLI”.\nAncora risuonano in me\, le proibizioni…le punizioni ricevute per aver manifestato\, senza “inibizioni culturali”\, il mio “essere Natura”..il mio…“ESSERE ANIMALE”..ad un mondo esterno reso a sua volta…meccanico\, bigotto e senza cuore.\nE’ tutto questo “martirio” che ci unisce.\nÈ una “ferita cosmica al cuore della Vita” che ci fa “una sola Anima”.\nLotterò per te “Vita.. rosa”.\nLotterò per te che sei anche la mia Vita.\nLo farò per la gioia di entrambi.\nLo farò per la libertà emozionale di entrambi !\nE sei tu\, fratellino rosa\, che me ne dai la forza.\nPerché\, il tuo dolore\, fa scomparire i colori dalla mia misera vita.\nÈ la tua sofferenza\, che si fa mia\, che mi fa stringere i pugni e che mi fa urlare di rabbia al cielo…con te.\nLo farò fino alla fine\, fratellino.\nLo faremo insieme.\nFino all’ultimo respiro.\nFino all’ultimo istante.\nLa strada da percorrere è ancora lunga e tortuosa…fratellino.\nMa la percorreremo insieme…petto a petto.\nCuore a cuore.\nQua la zampa “Guerriero della Vita”.\nAndiamo!  \nCarletto Blu\nShare on:
URL:https://associazionevegananimalista.it/event/6242/
CATEGORIES:Eventi AVA 2021
ATTACH;FMTTYPE=image/jpeg:https://associazionevegananimalista.it/wp-content/uploads/2021/10/scimpcarl.jpg
END:VEVENT
END:VCALENDAR