BEGIN:VCALENDAR
VERSION:2.0
PRODID:-//AVA - ECPv6.15.20//NONSGML v1.0//EN
CALSCALE:GREGORIAN
METHOD:PUBLISH
X-WR-CALNAME:AVA
X-ORIGINAL-URL:https://associazionevegananimalista.it
X-WR-CALDESC:Eventi per AVA
REFRESH-INTERVAL;VALUE=DURATION:PT1H
X-Robots-Tag:noindex
X-PUBLISHED-TTL:PT1H
BEGIN:VTIMEZONE
TZID:Europe/Rome
BEGIN:DAYLIGHT
TZOFFSETFROM:+0100
TZOFFSETTO:+0200
TZNAME:CEST
DTSTART:20210328T010000
END:DAYLIGHT
BEGIN:STANDARD
TZOFFSETFROM:+0200
TZOFFSETTO:+0100
TZNAME:CET
DTSTART:20211031T010000
END:STANDARD
BEGIN:DAYLIGHT
TZOFFSETFROM:+0100
TZOFFSETTO:+0200
TZNAME:CEST
DTSTART:20220327T010000
END:DAYLIGHT
BEGIN:STANDARD
TZOFFSETFROM:+0200
TZOFFSETTO:+0100
TZNAME:CET
DTSTART:20221030T010000
END:STANDARD
BEGIN:DAYLIGHT
TZOFFSETFROM:+0100
TZOFFSETTO:+0200
TZNAME:CEST
DTSTART:20230326T010000
END:DAYLIGHT
BEGIN:STANDARD
TZOFFSETFROM:+0200
TZOFFSETTO:+0100
TZNAME:CET
DTSTART:20231029T010000
END:STANDARD
END:VTIMEZONE
BEGIN:VEVENT
DTSTART;TZID=Europe/Rome:20220203T180000
DTEND;TZID=Europe/Rome:20220203T200000
DTSTAMP:20260421T174357
CREATED:20220131T210206Z
LAST-MODIFIED:20220131T210206Z
UID:6412-1643911200-1643918400@associazionevegananimalista.it
SUMMARY:VERSO LA CONVERGENZA DELLE GRANDI RELIGIONI: SPERANZA DI PACE NEL MONDO
DESCRIPTION:Delle volte sulla nostra Terra arrivano degli Angeli!\nLoro sono creature ad Alti Livelli Spirituali. Non hanno il corpo\, ma solo Anima!\nQuindi per essere visibili da noi umani devono adottare un corpo\, qualsiasi corpo.\nMa lo scopo loro è di non essere visti\, ma essere capiti!\nLoro” bussano “ nelle nostre vite per “svegliarci”.\nNoi seguiamo le nostre strade . Abbiamo tanti impegni. Non ci fermiamo. Non li ascoltiamo…nemmeno li sentiamo…e li perdiamo.\nPerdiamo degli Angeli!!!\nInvece delle volte ci fermiamo… lasciamo i nostri impegni\, perche la nostra Anima si sveglia e ti dice:\n”Non puoi passare! Fermati! Questa creatura ha bisogna di te\, proprio di te!”\nE ci fermiamo\, lasciamo da parte i nostri impegni\, troviamo il posticino nel nostro cuore …e da questo momento la nostra vita cambia! \nQuesta volta l’Angelo ha messo la veste di un galgo. \nGabriella Dimastrodonato \nLeggi condividi e diffondi: PROGETTO PACE NEL MONDO – EDUCARE L’UMANITA’ ALLA PACE di Franco Libero Manco \nVisita il nostro sito Associazione Vegan Animalista \nMetti “Mi piace” sulla pagina Facebook del presidente Franco Libero Manco \nMetti “Mi piace” sulla nostra pagina Facebook AVA Associazione Vegan Animalista \nIscriviti alla nostra Newsletter \nVisiona iscriviti e condividi le nostre videoconferenze dal nostro canale Youtube \n Iscriviti ai nostri gruppi su Facebook: \nAVA Associazione Vegan Animalista \nSupporta Ippoasi e tutti i Rifugi di Animali Liberi \nVERSO LA CONVERGENZA DELLE GRANDI RELIGIONI:\nSPERANZA DI PACE NEL MONDO\nGiovedì 3 febbraio\, ore 18\,00\, via dei Rogazionisti n.3\, conferenza del Dr. Paolo Trianni\,  \nDott. in Teologia\, Doc. Univ. Storia del Pensiero Teologico e filosofico Università Tor Vergata; \nPontificio Ateneo Sant’Anselmo\, Univ. Gregoriana e Urbaniana; Master I livello\, Scienze Umane e Sociali; \nNonviolenza Gandhiana; Ecologia e Vegetarianesimo \nOre 20\,00 cena vegan\, contributo 15 euro \nPer i non associati che non si fermano a cena \nè obbligatoria la tessera di 5 € \nche sarà decurtata dalla quota associativa annuale di 30 € \nquando decideranno di associarsi. \nPosti limitati. E’ necessaria la prenotazione al tel. 3391406256 \nL’INCONTRO SI SVOLGERA’ SECONDO LE PRESCRIZIONI ANTI COVID \n————————————- \nSERATA DI POESIA\, MUSICA E FILMATI \nSULL’AMORE\, GLI ANIMALI\, LA NATURA \nDOMENICA 30 GENNAIO\, ORE 18\,00\, VIA DEI ROGAZIONISTI N.3 \nDECLAMAZIONE DELLE PIU’ BELLE POESIE DEI GRANDI AUTORI \nE DEI PARTECIPANTI \nINTERCALATE DA BELLISSIMI CORTOMETRAGGI \nOre 20\,00 cena vegan con: insalatona\, farfalle al sugo\, piselli verdi\, \ndolce vegan\, vino\, pane\, olive\, acqua contr. 10 € \nPosti limitati. E’ necessaria la prenotazione al tel. 3391406256 \nL’INCONTRO SI SVOLGERA’ SECONDO LE PRESCRIZIONI ANTI COVID \n———————————– \nSE POTETE DIFFONDERE FRA ANIMALISTI VOLONTARI CHE CI AIUTINO A CARICARE GLI ANIMALI SUI VAN  \nABBIAMO BISOGNO DI PERSONE CHE HANNO DIMISTICHEZZA CON GLI ANIMALI. CONDIVIDIAMO! \nA TUTTE LE ASSOCIAZIONI DI VOLONTARIATO  ANIMALISTE  E LE PERSONE VEGAN DI ROMA E DINTORNI \nDOBBIAMO TRASFERIRE GLI ANIMALI – ANIMAL SANCTUARY IN NUOVA TENUTA  \nMOLTO PIÙ BELLA ABBIAMO  BISOGNO DI VOLONTARI SOLO PER  CARICARLI 3516411229 \n \n\nNON UCCIDERLA!!!\n\n\nQuest’ape è presente in questo periodo nei giardini.\nÈ un’Ape Xilocope. È l’ape più grande d’Europa (2.5 cm). Lei non punge (se non la cacciamo ovviamente). Lo Xilocopio è un’ape detta\n′′ solitaria “\, ma può vivere in colonie\, cioè fianco a fianco. Nera con le ali blu… è molto bella ma può spaventare\, il suo volo è veloce e molto rumoroso\, ma non è aggressiva e punge raramente. È da proteggere perché rara e molto utile…. alcune persone la confondono con il calabrone asiatico!!!\n\n\nGabriella Dimastrodonato\n\nShare on:
URL:https://associazionevegananimalista.it/event/verso-la-convergenza-delle-grandi-religioni-speranza-di-pace-nel-mondo/
CATEGORIES:Eventi AVA 2022
ATTACH;FMTTYPE=image/jpeg:https://associazionevegananimalista.it/wp-content/uploads/2022/01/apeblu.jpg
END:VEVENT
END:VCALENDAR