BEGIN:VCALENDAR
VERSION:2.0
PRODID:-//AVA - ECPv6.15.20//NONSGML v1.0//EN
CALSCALE:GREGORIAN
METHOD:PUBLISH
X-WR-CALNAME:AVA
X-ORIGINAL-URL:https://associazionevegananimalista.it
X-WR-CALDESC:Eventi per AVA
REFRESH-INTERVAL;VALUE=DURATION:PT1H
X-Robots-Tag:noindex
X-PUBLISHED-TTL:PT1H
BEGIN:VTIMEZONE
TZID:Europe/Rome
BEGIN:DAYLIGHT
TZOFFSETFROM:+0100
TZOFFSETTO:+0200
TZNAME:CEST
DTSTART:20210328T010000
END:DAYLIGHT
BEGIN:STANDARD
TZOFFSETFROM:+0200
TZOFFSETTO:+0100
TZNAME:CET
DTSTART:20211031T010000
END:STANDARD
BEGIN:DAYLIGHT
TZOFFSETFROM:+0100
TZOFFSETTO:+0200
TZNAME:CEST
DTSTART:20220327T010000
END:DAYLIGHT
BEGIN:STANDARD
TZOFFSETFROM:+0200
TZOFFSETTO:+0100
TZNAME:CET
DTSTART:20221030T010000
END:STANDARD
BEGIN:DAYLIGHT
TZOFFSETFROM:+0100
TZOFFSETTO:+0200
TZNAME:CEST
DTSTART:20230326T010000
END:DAYLIGHT
BEGIN:STANDARD
TZOFFSETFROM:+0200
TZOFFSETTO:+0100
TZNAME:CET
DTSTART:20231029T010000
END:STANDARD
END:VTIMEZONE
BEGIN:VEVENT
DTSTART;TZID=Europe/Rome:20220210T180000
DTEND;TZID=Europe/Rome:20220210T200000
DTSTAMP:20260421T174359
CREATED:20220207T221529Z
LAST-MODIFIED:20220207T221529Z
UID:6423-1644516000-1644523200@associazionevegananimalista.it
SUMMARY:VINCERE  BISOGNI INSODDISFATTI\, ATTACCHI DI PANICO\, STRESS\, ANSIA
DESCRIPTION:“Più guardiamo nel profondo della Natura\, più ci accorgiamo che è piena di vita e più constatiamo che tutta la vita è un mistero e che noi siamo uniti a ogni vita che esiste nella Natura.”\n\n\n(Albert Schweiter)\n\nLeggi condividi e diffondi: PROGETTO PACE NEL MONDO – EDUCARE L’UMANITA’ ALLA PACE di Franco Libero Manco \nVisita il nostro sito Associazione Vegan Animalista \nMetti “Mi piace” sulla pagina Facebook del presidente Franco Libero Manco \nMetti “Mi piace” sulla nostra pagina Facebook AVA Associazione Vegan Animalista \nIscriviti alla nostra Newsletter \nVisiona iscriviti e condividi le nostre videoconferenze dal nostro canale Youtube \n Iscriviti ai nostri gruppi su Facebook: \nAVA Associazione Vegan Animalista \nSupporta Ippoasi e tutti i Rifugi di Animali Liberi \nVINCERE  BISOGNI INSODDISFATTI\,\nATTACCHI DI PANICO\, STRESS\, ANSIA\nGiov. 10 febbraio\, via dei Rogazionisti n.3\, ore 18\,00\nconferenza della Dr.ssa Fulvia Tramontano\, Psicologa e Psicoterapeuta\, Specialista nei Disturbi Psicogeni e del Comportamento Alimentare\, \nPsicoterapia Analitica Junghiana \nOre 20\,00 cena vegan\, contributo 15 euro \nPer i non associati che non si fermano a cena \n obbligatoria la tessera di 5 € \nPosti limitati. E’ necessaria la prenotazione al tel. 3391406256 \nL’INCONTRO SI SVOLGERA’ SECONDO LE PRESCRIZIONI ANTI COVID \n(AVA) Associazione Vegan Animalista (APS) \n——————————- \nCONSIGLI (forse) DI BUON COMPORTAMENTO\nIo sono la causa dei miei problemi e il mezzo per risolverli\nVivi con entusiasmo nel presente\, apprezza il valore delle cose e sii grato alla vita. \nIn ogni debolezza emerge la nostra vera natura. \nImpegnati a superare i tuoi limiti e ad essere oggi migliore di ieri. \nNon è la vittoria sugli altri ciò che conta ma il dominio di se stessi. \nSegui il flusso del cambiamento incessante delle cose invece di ostacolarlo. \nOgni ostacolo è soprattutto una prova che contiene un messaggio da interpretare. \nCerca di non fare mai lo stesso errore. Ogni errore si paga con una sofferenza. \nNon vi è pensiero o azione che non abbia i suoi effetti universali. \nMale è tutto ciò che si oppone alla vita\, bene è tutto ciò che la tutela. \nL’indifferenza verso il dolore altrui è il vero cancro del genere umano. \nQuando un uomo non vuole fare il suo dovere tira in ballo le mancanze degli altri. \nLa nostra colpa maggiore sta nel preoccuparci delle colpe degli altri. \nBasta credersi migliori degli altri per diventare peggiori di tutti. \nVi sono pulcini che quando diventano galli credono che il sole si levi per sentirli cantare. \nMolti pregano per ottenere quello che vogliono\, il saggio per apprezzare quello che ha. \nSe si andasse in fondo alle cose si avrebbe pietà perfino delle stelle. \nNon lamentarti che le rose hanno le spine\, pensa che le spine hanno le rose. \nSii breve\, al giudizio finale ciò non sarà che un vantaggio. \nDa cosa mangia (e da come mangia) si riconosce un uomo. \nMetà degli uomini opera senza pensare\, l’altra metà pensa senza operare. \nQuando gli dei vogliono punirci esaudiscono le nostre preghiere. \nLa salute è come la coscienza: tiene conto di tutto. \nNon delegare ad altri il tuo benessere e la tua salute: sii artefice del tuo stesso destino. \nNon aspettare di ammalarti per prenderti cura della tua salute. \nSe oggi non hai tempo per prevenire la malattia domani dovrai trovarlo per curarti. \n—————————– \n\n\n\n \nI gatti sono essere misteriosi… Non puoi mai sapere se ti amano o se semplicemente acconsentono a occupare la tua casa. Questo mistero è ciò che li rende i più attraenti tra gli animali. (Paul Moore) \nFelines\nShare on:
URL:https://associazionevegananimalista.it/event/vincere-bisogni-insoddisfatti-attacchi-di-panico-stress-ansia/
CATEGORIES:Eventi AVA 2022
ATTACH;FMTTYPE=image/jpeg:https://associazionevegananimalista.it/wp-content/uploads/2022/02/catmoore.jpg
END:VEVENT
END:VCALENDAR