BEGIN:VCALENDAR
VERSION:2.0
PRODID:-//AVA - ECPv6.15.20//NONSGML v1.0//EN
CALSCALE:GREGORIAN
METHOD:PUBLISH
X-WR-CALNAME:AVA
X-ORIGINAL-URL:https://associazionevegananimalista.it
X-WR-CALDESC:Eventi per AVA
REFRESH-INTERVAL;VALUE=DURATION:PT1H
X-Robots-Tag:noindex
X-PUBLISHED-TTL:PT1H
BEGIN:VTIMEZONE
TZID:Europe/Rome
BEGIN:DAYLIGHT
TZOFFSETFROM:+0100
TZOFFSETTO:+0200
TZNAME:CEST
DTSTART:20210328T010000
END:DAYLIGHT
BEGIN:STANDARD
TZOFFSETFROM:+0200
TZOFFSETTO:+0100
TZNAME:CET
DTSTART:20211031T010000
END:STANDARD
BEGIN:DAYLIGHT
TZOFFSETFROM:+0100
TZOFFSETTO:+0200
TZNAME:CEST
DTSTART:20220327T010000
END:DAYLIGHT
BEGIN:STANDARD
TZOFFSETFROM:+0200
TZOFFSETTO:+0100
TZNAME:CET
DTSTART:20221030T010000
END:STANDARD
BEGIN:DAYLIGHT
TZOFFSETFROM:+0100
TZOFFSETTO:+0200
TZNAME:CEST
DTSTART:20230326T010000
END:DAYLIGHT
BEGIN:STANDARD
TZOFFSETFROM:+0200
TZOFFSETTO:+0100
TZNAME:CET
DTSTART:20231029T010000
END:STANDARD
END:VTIMEZONE
BEGIN:VEVENT
DTSTART;TZID=Europe/Rome:20220224T180000
DTEND;TZID=Europe/Rome:20220224T200000
DTSTAMP:20260421T174358
CREATED:20220221T214038Z
LAST-MODIFIED:20220221T214038Z
UID:6446-1645725600-1645732800@associazionevegananimalista.it
SUMMARY:STORIA\, SPIRITUALITA’ ED ESSSENZA DELLE GRANDI RELIGIONI
DESCRIPTION:La via giusta è l’amore\, diceva Lennon. Tutto l’universo obbedisce all’amore\, cantava Battiato.\nE fra troppi non inclini ai buoni sentimenti\, c’è chi ha molto da insegnarci. \nSilvia Bandini \nLeggi condividi e diffondi: PROGETTO PACE NEL MONDO – EDUCARE L’UMANITA’ ALLA PACE di Franco Libero Manco \nVisita il nostro sito Associazione Vegan Animalista \nMetti “Mi piace” sulla pagina Facebook del presidente Franco Libero Manco \nMetti “Mi piace” sulla nostra pagina Facebook AVA Associazione Vegan Animalista \nIscriviti alla nostra Newsletter \nVisiona iscriviti e condividi le nostre videoconferenze dal nostro canale Youtube \n Iscriviti ai nostri gruppi su Facebook: \nAVA Associazione Vegan Animalista \nSupporta Ippoasi e tutti i Rifugi di Animali Liberi \nSTORIA\, SPIRITUALITA’ ED ESSSENZA\nDELLE GRANDI RELIGIONI\nGiovedì 24 febbraio ore 18\,00 via dei Rogazionisti n.3 \nConferenza del Dr. Paolo Trianni\,  Dott. in Teologia\, Doc. Univ. Storia del Pensiero Teologico e filosofico Università Tor Vergata; \nPontificio Ateneo Sant’Anselmo\, Univ. Gregoriana e Urbaniana; Master I livello\, Scienze Umane e Sociali; Nonviolenza Gandhiana; Ecologia e Vegetarianesimo. \n20\,00 cena vegan\, contributo 15 euro \nPosti limitati. E’ necessaria la prenotazione al tel. 3391406256 \nL’INCONTRO SI SVOLGERA’ SECONDO LE PRESCRIZIONI ANTI COVID \n—————————- \nLA CRESCITA DEI  “BAMBINI VITELLO”\ndi Franco Libero Manco \nSpunti tratti dal libro del Prof. Armando D’Elia “Miti e realtà nell’alimentazione umana”\nIl fatto che le ultime generazioni siano fisicamente più alte delle precedenti non è affatto un vantaggio; non è dovuto tanto alla maggiore possibilità di nutrizione quanto all’uso sistematico e massiccio di prodotti caseari e alimenti troppo ricchi di proteine. I bambini nutriti con latte vaccino all’età di un anno sono più pesanti di circa 2 kg e anche più alti di circa 5 cm\, rispetto ai bambini vegan\, ma questo non è fisiologico. \nQuesta velocità di accrescimento è a discapito della resistenza\, della salute e della longevità essendo conseguito con una pratica contro natura.\nIl latte delle mucche in stato di gravidanza contiene sostanze “eccito formatrici” che consentono al vitello di crescere velocemente e costruire la sua possente massa ossea\, ma se assunto dal bambino causa una crescita patologica che ostacola lo sviluppo psichico del bambino: il latte vaccino manca di composti nutrizionali presenti invece nel latte umano\,  i galattocerebrosidi che favoriscono lo sviluppo delle facoltà mentali. La difficoltà di apprendimento è fenomeno abbastanza diffuso tra i bambini delle ultime generazioni.   Il latte vaccino è scarso di glucidi importantissimi per lo sviluppo cerebrale del bambino:  il glucosio del latte vaccino è circa un terzo del glucosio presente nel latte umano\, sufficiente all’intelligenza del vitello non dell’essere umano. \nLa natura ha previsto per ogni specie cibi adatti al suo ritmo di crescita normale e la velocità di crescita dipende dal quantitativo proteico contenuto nel latte della madre. Il latte materno umano ha una percentuale proteica intorno all’1% adatto al bambino che raddoppia il suo peso in 4 mesi circa mentre il latte vaccino\, che ha una percentuale proteica del 3\,5%\, è adatto al vitello che raddoppia il suo peso in due mesi. Il coniglio\, per esempio\, avendo la più alta percentuale proteica (10\,4) raddoppia il suo peso in una settimana. \n            Un bambino  che assume un’alta carica proteica avrà un più veloce accrescimento e diventerà adulto prima\, ma questo non è un vantaggio perché causa un superlavoro per il fegato ed i reni che devono eliminare giornalmente le proteine in eccesso\, oltre che affaticare il sistema neuroendocrino\, l’ipofisi\, la tiroide e il surrene.\nSolo il 30-35% del quantitativo del calcio presente nel latte vaccino viene assorbito\, perché legato alla caseina\, il resto viene espulso con le feci\, diversamente il calcio dei vegetali viene assorbito fino al 60-65%. Il latte è scarso di vitamine ACDE. Nel latte delle mucche di allevamento si depositano gli inquinanti assunti dagli animali con un’alimentazione innaturale\, i residui chimici dei farmaci somministrati per scongiurare epidemie\, oltre le sostanze ormonali per spingere le mucche a produrre più latte possibile. Una mucca allo stato naturale produce circa 5 litri di latte al giorno\, in allevamento intensivo arriva a produrre 30 litri\, cioè 6 volte di più. Ed è come incatenare una bambina in cantina fin dalla nascita\, costringerla ad un’inseminazione artificiale per farle produrre 6 volte più latte di quanto produrrebbe allo stato naturale\, con le conseguenze che si possono immaginare.  Inoltre. La specie umana è la sola\, tra tutte le specie animali\, a nutrirsi anche dopo lo svezzamento con il latte di un’altra specie\, tra l’altro considerata inferiore sul piano evolutivo. \n \nMi lascio conquistare dalla gioia di questo cuore libero per ridarne un po’ anche al mio. \nSilvia Bandini\nShare on:
URL:https://associazionevegananimalista.it/event/storia-spiritualita-ed-esssenza-delle-grandi-religioni/
CATEGORIES:Eventi AVA 2022
ATTACH;FMTTYPE=image/jpeg:https://associazionevegananimalista.it/wp-content/uploads/2022/02/orsosilvia.jpg
END:VEVENT
END:VCALENDAR