BEGIN:VCALENDAR
VERSION:2.0
PRODID:-//AVA - ECPv6.15.20//NONSGML v1.0//EN
CALSCALE:GREGORIAN
METHOD:PUBLISH
X-ORIGINAL-URL:https://associazionevegananimalista.it
X-WR-CALDESC:Eventi per AVA
REFRESH-INTERVAL;VALUE=DURATION:PT1H
X-Robots-Tag:noindex
X-PUBLISHED-TTL:PT1H
BEGIN:VTIMEZONE
TZID:Europe/Rome
BEGIN:DAYLIGHT
TZOFFSETFROM:+0100
TZOFFSETTO:+0200
TZNAME:CEST
DTSTART:20210328T010000
END:DAYLIGHT
BEGIN:STANDARD
TZOFFSETFROM:+0200
TZOFFSETTO:+0100
TZNAME:CET
DTSTART:20211031T010000
END:STANDARD
BEGIN:DAYLIGHT
TZOFFSETFROM:+0100
TZOFFSETTO:+0200
TZNAME:CEST
DTSTART:20220327T010000
END:DAYLIGHT
BEGIN:STANDARD
TZOFFSETFROM:+0200
TZOFFSETTO:+0100
TZNAME:CET
DTSTART:20221030T010000
END:STANDARD
BEGIN:DAYLIGHT
TZOFFSETFROM:+0100
TZOFFSETTO:+0200
TZNAME:CEST
DTSTART:20230326T010000
END:DAYLIGHT
BEGIN:STANDARD
TZOFFSETFROM:+0200
TZOFFSETTO:+0100
TZNAME:CET
DTSTART:20231029T010000
END:STANDARD
END:VTIMEZONE
BEGIN:VEVENT
DTSTART;TZID=Europe/Rome:20220407T180000
DTEND;TZID=Europe/Rome:20220407T200000
DTSTAMP:20260421T144133
CREATED:20220405T204115Z
LAST-MODIFIED:20220405T204115Z
UID:6522-1649354400-1649361600@associazionevegananimalista.it
SUMMARY:LATTE\, LATTICINI E FORMAGGI\, ALIMENTI INCOMPATIBILI CON LA SPECIE UMANA  
DESCRIPTION:“Le anime più forti sono quelle temprate dalla sofferenza.\nI caratteri più solidi sono cosparsi di cicatrici. “\n\n\nKahlil Gibran~\nBy La Foresta di Luna\n\nLeggi condividi e diffondi: PROGETTO PACE NEL MONDO – EDUCARE L’UMANITA’ ALLA PACE di Franco Libero Manco \nVisita il nostro sito Associazione Vegan Animalista \nMetti “Mi piace” sulla pagina Facebook del presidente Franco Libero Manco \nMetti “Mi piace” sulla nostra pagina Facebook AVA Associazione Vegan Animalista \nIscriviti alla nostra Newsletter \nVisiona iscriviti e condividi le nostre videoconferenze dal nostro canale Youtube \n Iscriviti ai nostri gruppi su Facebook: \nAVA Associazione Vegan Animalista \nSupporta Ippoasi e tutti i Rifugi di Animali Liberi \nLATTE\, LATTICINI E FORMAGGI\, ALIMENTI INCOMPATIBILI CON LA SPECIE UMANA  \nGIOV. 7 APRILE\, PRESSO SEDE AVA\, VIA DEI ROGAZIONISTI N.3 ROMA\, \nCONFERENZA DELLA  DR.SSA SABINA BIETOLINI\, BIOLOGA NUTRIZIONISTA\, \nDOTTORE DI RICERCA IN SCIENZE DELLA SALUTE\, PROFESSORE A CONTRATTO UNICUSANO. \nORE 20\,00 CENA VEGAN\, CONTRIBUTO 15 EURO- \nPOSTI LIMITATI. E’ NECESSARIA LA PRENOTAZIONE AL TEL. 3391406256 \nL’INCONTRO SI SVOLGERAÀ SECONDO LE PRESCRIZIONI ANTI COVID \n—————————- \nNON SI E’ MAI VISTO\nFranco Libero Manco \nCento volte più degli umani gli animali soffrono la follia della guerra\nNon si è mai visto un animale uccidere un altro animale se non per difesa o per necessità di nutrimento\, né lo si è visto torturare un altro animale.\nNon si è mai visto un animale condurre alla guerra un branco di suoi simili\, né lo si è mai visto incitare all’odio o al disprezzo elementi diversi dal proprio branco.\nNon si è mai visto un animale schiavizzare un altro animale\, stuprare un suo simile\, bruciare un altro animale\, incendiare il rifugio\, il nido di un altro animale.\nNon si è mai visto un animale imprigionare altri animali allo scopo di divorarli\, né lo si è mai visto spellare un altro animale per il piacere di mettersi addosso le sue pelli.\nTutte queste sono caratteristiche di chi si considera superiore e si comporta in modo ogni disumano. \nL’innocenza dell’animale\, la sua semplicità\, la sua lealtà\, la sua mitezza\, il suo spontaneo fuggire ad ogni violenza sono mete ancora da raggiungere dalla maggior parte degli umani. \nEd ora\, che ne è dei milioni di animali incatenati nelle grandi stalle d’allevamento intensivo? Moriranno d’inedia\, di fame\, di sete o disintegrati da un missile? Che ne sarà della mucche\, dei cavalli\, della capre\, dei suini\, dei polli\, dei conigli. delle galline ovaiole?  Che ne sarà dei fedelissimi cani e gatti che erano parte di una famiglia umana? Vagano nel terrore di una realtà che non comprendono? Solo chi ha avuto la compagnia di un cane\, un gatto\, un cavallo sa cosa significa separarsene. \n——————————— \nCORSO DI TANGO ARGENTINO\nSI RACCOLGONO LE ADESIONI PER IL CORSO DI TANGO ARGENTINO CHE SI SVOLGERA’ IL MARTDI SERA PRESSO LA SEDE AVA \nIL CORSO SI SVOLGERA’ SE CI SARANNO ALMENO 10 PRENOTAZIONI AL TEL 3927706049 \n——————————– \nPASQUETTA CON IL GRUPPO AVA AL PARCO DELLA CAFFARELLA\nL’APPUNTAMENTO E’ PER LE ORE 11\,00 IN LARGO TACCHI VENTURI \nUN OCCASIIONE PER UN MOMENTO DI PACEVOLE SVAGO E SOCIALIZZAZIONE IN CONTATTO CON LA NATURA. GIOCHEREMO\, DECLAMEREMO POESIE CANTEREMO. E’ NECESSARIO MUNIRSI DI STUOIA O COPERTINA  E TUTTO L’OCCORRENTE PER IL PRANZO AL SACCO \nE’ GRADITA LA PRENOTAZIONE AL TEL DI LUANA 3391406256 \n \n\n“Niente è reale ad eccezione dei sogni e dell’amore.”\n\n\nAnna de Noailles~\n\nLa foresta di Luna\n\n\n\n\nShare on:
URL:https://associazionevegananimalista.it/event/latte-latticini-e-formaggi-alimenti-incompatibili-con-la-specie-umana/
CATEGORIES:Eventi AVA 2022
ATTACH;FMTTYPE=image/jpeg:https://associazionevegananimalista.it/wp-content/uploads/2022/04/orsiluna.jpg
END:VEVENT
END:VCALENDAR