BEGIN:VCALENDAR
VERSION:2.0
PRODID:-//AVA - ECPv6.15.20//NONSGML v1.0//EN
CALSCALE:GREGORIAN
METHOD:PUBLISH
X-ORIGINAL-URL:https://associazionevegananimalista.it
X-WR-CALDESC:Eventi per AVA
REFRESH-INTERVAL;VALUE=DURATION:PT1H
X-Robots-Tag:noindex
X-PUBLISHED-TTL:PT1H
BEGIN:VTIMEZONE
TZID:Europe/Rome
BEGIN:DAYLIGHT
TZOFFSETFROM:+0100
TZOFFSETTO:+0200
TZNAME:CEST
DTSTART:20210328T010000
END:DAYLIGHT
BEGIN:STANDARD
TZOFFSETFROM:+0200
TZOFFSETTO:+0100
TZNAME:CET
DTSTART:20211031T010000
END:STANDARD
BEGIN:DAYLIGHT
TZOFFSETFROM:+0100
TZOFFSETTO:+0200
TZNAME:CEST
DTSTART:20220327T010000
END:DAYLIGHT
BEGIN:STANDARD
TZOFFSETFROM:+0200
TZOFFSETTO:+0100
TZNAME:CET
DTSTART:20221030T010000
END:STANDARD
BEGIN:DAYLIGHT
TZOFFSETFROM:+0100
TZOFFSETTO:+0200
TZNAME:CEST
DTSTART:20230326T010000
END:DAYLIGHT
BEGIN:STANDARD
TZOFFSETFROM:+0200
TZOFFSETTO:+0100
TZNAME:CET
DTSTART:20231029T010000
END:STANDARD
END:VTIMEZONE
BEGIN:VEVENT
DTSTART;TZID=Europe/Rome:20220512T180000
DTEND;TZID=Europe/Rome:20220512T200000
DTSTAMP:20260421T125932
CREATED:20220509T195514Z
LAST-MODIFIED:20220509T195514Z
UID:6570-1652378400-1652385600@associazionevegananimalista.it
SUMMARY:ALIMENTAZIONE ALCALINA E APERTURA DEL TERZO OCCHIO
DESCRIPTION:Non abbassare lo sguardo ma guardami dritto negli occhi e vedrai che si parla la stessa lingua !\n( Aurora Mattia) \nLeggi condividi e diffondi: PROGETTO PACE NEL MONDO – EDUCARE L’UMANITA’ ALLA PACE di Franco Libero Manco \nVisita il nostro sito Associazione Vegan Animalista \nMetti “Mi piace” sulla pagina Facebook del presidente Franco Libero Manco \nMetti “Mi piace” sulla nostra pagina Facebook AVA Associazione Vegan Animalista \nIscriviti alla nostra Newsletter \nVisiona iscriviti e condividi le nostre videoconferenze dal nostro canale Youtube \n Iscriviti ai nostri gruppi su Facebook: \nAVA Associazione Vegan Animalista \nSupporta Ippoasi e tutti i Rifugi di Animali Liberi \nGiov. 12 maggio ore 18\,00 in sede AVA via dei Rogazionisti n.3 Roma \nconferenza del Dr. Davide Ancona Prete\, Naturopata\, Reiki Master\, Pranoterapeuta\, \nArte-terapeuta\,  Esperto in Tecniche Olistiche\, sul tema: \nALIMENTAZIONE ALCALINA E APERTURA DEL TERZO OCCHIO\nAlle ore 20\,00 cena vegan\, contributo 15 euro. \nPosti limitati\, è necessaria la prenotazione al tel. 3391406256 \nLA CONFERENZA SI SVOLGERA’ SENCONDO LE PRESCRIZIONI ANTI COVID \n———————————– \n–        Il Corriere della Sera\, fin dal lontano gennaio 2007 riportava: I  più intelligenti scelgono la dieta vegetariana.  “Chi ha un buon quoziente intellettivo (QI) a dieci anni ha maggiore probabilità di diventare vegetariano da grande. Lo suggerisce uno studio pubblicato sulla rivista British Medical Journal. La rivista “Viversani” riprende l’argomento con un articolo dal titolo “Vegetariani\, da bambini erano più intelligenti” in cui si dice: “Secondo uno studio pubblicato sul British Medical Jiurnal chi diventa vegetariano prima dei 30 anni\, probabilmente da bambino aveva un quoziente intellettivo superiore al normale (con una media di 5 punti in più)”. Lo studio ha coinvolto più di 8.000 persone che all’età di 10 anni erano state sottoposte ad un test di intelligenza. Dopo 20 anni è stato preso in considerazione il loro tipo di alimentazione. Si è scoperto che i maschi vegetariani avevano totalizzato 106 punti\, contro i 101 dei non vegetariani\, mentre le donne vegetariane 104 punti contro i 99 delle non vegetariane. I ricercatori sostengono che questa è la dimostrazione scientifica del fatto che le persone più intelligenti sono anche le più sane. \n–        ————————————————- \n–        GIRA A PARENTI E AMICI SCRITTI  E PROGRAMMI AVA \n–        VIENI\, FREQUENTA I GIOVEDI’ CULTURALI \n–        VISITA IL SITO DELL’ASSOCIAZIONE VEGAN ANIMALISTA \n–        LEGGI IL PROGETTO “EDUCARE L’UMANITA’ ALLA PACE” \n–        SOSTIENI LA NOSTRA ATTIVITA’ ASSOCIANDOTI \n–        O VERSANDO IL 5X1000 ALL’AVA CF 97365030580 \n \n\nOggi voglio fare gli auguri a tutte quelle mamme di cuore e di amore \, a tutte quelle mamme che sono più mamme di tante altre perché con amore amano figli non generati da loro \, a quelle mamme uniche che vivono solo per amore loro … Essere mamma non è generare e mettere al mondo dei figli \, essere madre è amare \, proteggere ed esserci sempre e per sempre incondizionatamente nel nome dell’amore ..\nPerche i figli non sono solo di sangue \, i figli sono l’amore vero anche se non umani ..\nLi l’amore è forte è sentito ….\nIo non sono una madre di sangue \, non ho figli umani\, non li ho partoriti io \, ma li sento nel cuore \, nell’anima come fossero da me generati di un amore puro e incondizionato…\n.. io li chiamo così : ” figli di un’amore puro “..\nLamore quando è vero non conosce e non vede differenza di specie \, ma sente forte il richiamo materno dell’amore …\nquell’amore che durerà per sempre\n\n\nA tutte le mamme d’amore\,\ne a tutte quelle mamme speciali faccio i miei più sentiti auguri\n\nAurora Mattia\n\n\nShare on:
URL:https://associazionevegananimalista.it/event/alimentazione-alcalina-e-apertura-del-terzo-occhio/
CATEGORIES:Eventi AVA 2022
ATTACH;FMTTYPE=image/jpeg:https://associazionevegananimalista.it/wp-content/uploads/2022/05/aurormamma.jpg
END:VEVENT
END:VCALENDAR