BEGIN:VCALENDAR
VERSION:2.0
PRODID:-//AVA - ECPv6.15.20//NONSGML v1.0//EN
CALSCALE:GREGORIAN
METHOD:PUBLISH
X-WR-CALNAME:AVA
X-ORIGINAL-URL:https://associazionevegananimalista.it
X-WR-CALDESC:Eventi per AVA
REFRESH-INTERVAL;VALUE=DURATION:PT1H
X-Robots-Tag:noindex
X-PUBLISHED-TTL:PT1H
BEGIN:VTIMEZONE
TZID:Europe/Rome
BEGIN:DAYLIGHT
TZOFFSETFROM:+0100
TZOFFSETTO:+0200
TZNAME:CEST
DTSTART:20210328T010000
END:DAYLIGHT
BEGIN:STANDARD
TZOFFSETFROM:+0200
TZOFFSETTO:+0100
TZNAME:CET
DTSTART:20211031T010000
END:STANDARD
BEGIN:DAYLIGHT
TZOFFSETFROM:+0100
TZOFFSETTO:+0200
TZNAME:CEST
DTSTART:20220327T010000
END:DAYLIGHT
BEGIN:STANDARD
TZOFFSETFROM:+0200
TZOFFSETTO:+0100
TZNAME:CET
DTSTART:20221030T010000
END:STANDARD
BEGIN:DAYLIGHT
TZOFFSETFROM:+0100
TZOFFSETTO:+0200
TZNAME:CEST
DTSTART:20230326T010000
END:DAYLIGHT
BEGIN:STANDARD
TZOFFSETFROM:+0200
TZOFFSETTO:+0100
TZNAME:CET
DTSTART:20231029T010000
END:STANDARD
END:VTIMEZONE
BEGIN:VEVENT
DTSTART;TZID=Europe/Rome:20221103T180000
DTEND;TZID=Europe/Rome:20221103T200000
DTSTAMP:20260421T012818
CREATED:20221101T213310Z
LAST-MODIFIED:20221102T141847Z
UID:6808-1667498400-1667505600@associazionevegananimalista.it
SUMMARY:LA CHIMICA NEL PIATTO: IL DIRITTO A NON MORIRE AVVELENATI
DESCRIPTION:《Tutti gli uomini\, ma anche tutti gli Animali sono della stessa razza\, perché i principi dei loro corpi sono per natura gli stessi\, e ancor più perché l’anima che è in loro non è diversa per natura in rapporto agli appetiti\, ai ragionamenti e soprattutto alle sensazioni e alle emozioni 》(Teofrasto\, 371 a.C. – 287 a.C.) \nIl Nostro Canto Libero \nLeggi condividi e diffondi: PROGETTO PACE NEL MONDO – EDUCARE L’UMANITA’ ALLA PACE di Franco Libero Manco \nVisita il nostro sito Associazione Vegan Animalista \nMetti “Mi piace” sulla pagina Facebook del presidente Franco Libero Manco \nMetti “Mi piace” sulla nostra pagina Facebook AVA Associazione Vegan Animalista \nIscriviti alla nostra Newsletter \nVisiona iscriviti e condividi le nostre videoconferenze dal nostro canale Youtube \n Iscriviti ai nostri gruppi su Facebook: \nAVA Associazione Vegan Animalista \nSupporta Ippoasi e tutti i Rifugi di Animali Liberi \nGiovedì 3 novembre in sede AVA via dei Rogazionisti 3 Roma conferenza del Prof. Giuseppe Altieri\, \nAgroecologo\, Docente in Fitopatologia\, Entomologia ed Agricoltura Biologica\, sul tema: \n LA CHIMICA NEL PIATTO: IL DIRITTO A NON MORIRE AVVELENATI\nOre 20 cena vegan con: antipasto\, primo\, secondo dolce\, vino\, pane\, acqua\, contr. 15 euro. Per la cena è necessaria la prenotazione al tel 3391406256 \nCollegamenti: Metro A San Giovanni\, Re di Roma\, Ponte Lungo – Stazione Tuscolana – Bus 85 \n__________________________ \nCIBO E INTELLIGENZA\nDalla qualità del cibo dipendono le facoltà mentali di un individuo\ndi Franco Libero Manco \nUno studio scientifico pubblicato qualche anno fa sul Corriere della Sera condotto dai ricercatori dell’Istituto di Biochimica e Biologia Molecolare I della Heinrich-Heine University di Düsseldorf e pubblicato .sul Journal of Alzheimer’s Disease dice che su 200 persone sane tra i 45 e i 102 anni quelle che assumono in media circa 400 grammi di frutta e verdura al giorno possiedono un livello maggiore di antiossidanti\, livelli più bassi di radicali liberi e\, soprattutto\, sviluppano abilità cognitive più performanti rispetto a chi non raggiunge i 100 grammi quotidiani di cibo proveniente dal mondo vegetale. \nLo studio\, inoltre\, sottolinea che l’effetto benefico di frutta e verdura è assolutamente indipendente da tutti gli altri fattori\, età\, sesso\, peso\, altezza\, istruzione\, profilo lipidico e livello di albumina che normalmente influenzano la quantità di antiossidanti presenti nell’organismo e lo sviluppo cerebrale. \nOltre ai ricercatori dell’Università tedesca\, l’analisi ha visto la collaborazione di numerosi scienziati di tutto il mondo\, tra cui alcuni membri del Dipartimento di Geriatria dell’Università di Perugia coordinati dalla prof.ssa Patrizia Mecocci. \nInoltre la dottoressa Maria Cristina Polidori\, del Dipartimento di Geriatrica dell’Università di Bochum\, conferma le nuove conoscenze che i risultati dello studio hanno portato alla comunità scientifica: «Era risaputo che esistesse una forte connessione tra l’assunzione di frutta e verdura e le difese antiossidanti naturali del nostro organismo contro i radicali liberi. Si sapeva anche che cattive abitudini alimentari aumentano il rischio di un impoverimento cognitivo\, e tendono a causare demenza. Questa ricerca mostra un legame multiplo tra frutta e verdura\, difese antiossidanti e abilità cognitive. E’ vivamente consigliabile una consistente assunzione di questi elementi fin da bambini\, per evitare il più possibile il rischio di demenza in età avanzata».      \nLa presenza eccessiva di grassi di origine animale\, di alimenti ricchi di zuccheri e di carboidrati raffinati\, che contribuiscono a depositi di radicali liberi e di omocisteina\, ha ripercussioni negative sulla salute del cervello. Mentre una dieta vegetariana sembra in grado di svolgere un’azione protettiva sulle malattie degenerative. \n \n\n《Se qualcuno sostenesse che il dio ci ha dato gli animali per il nostro uso\, gli risponderei che\, sacrificando esseri viventi\, si commette contro di loro un’ingiustizia senza pari\, perché li si deruba della loro Vita》(Teofrasto – III sec. a.C.)\n\n\nL’antispecismo affonda le sue origini in epoche remotissime. Chi rivendica che la supremazia umana sulle altre Vite sia giusta e naturale\, mente consapevolmente a sé stesso. Non esisterà mai Giustizia e Libertà fintanto che anche un solo Individuo Senziente di qualunque specie verrà soggiogato e “usato” dall’animale umano. Chi legittima il dominio dell’uomo giustifica il sopruso in ogni sua forma e manifestazione e si rende colpevolmente complice.\n\n\n~ Il Nostro Canto Libero ~\n\nShare on:
URL:https://associazionevegananimalista.it/event/la-chimica-nel-piatto-il-diritto-a-non-morire-avvelenati/
CATEGORIES:Eventi AVA 2022
ATTACH;FMTTYPE=image/jpeg:https://associazionevegananimalista.it/wp-content/uploads/2022/10/312271395_226510113038054_4710183432786670475_n.jpg
END:VEVENT
END:VCALENDAR