BEGIN:VCALENDAR
VERSION:2.0
PRODID:-//AVA - ECPv6.15.20//NONSGML v1.0//EN
CALSCALE:GREGORIAN
METHOD:PUBLISH
X-WR-CALNAME:AVA
X-ORIGINAL-URL:https://associazionevegananimalista.it
X-WR-CALDESC:Eventi per AVA
REFRESH-INTERVAL;VALUE=DURATION:PT1H
X-Robots-Tag:noindex
X-PUBLISHED-TTL:PT1H
BEGIN:VTIMEZONE
TZID:Europe/Rome
BEGIN:DAYLIGHT
TZOFFSETFROM:+0100
TZOFFSETTO:+0200
TZNAME:CEST
DTSTART:20210328T010000
END:DAYLIGHT
BEGIN:STANDARD
TZOFFSETFROM:+0200
TZOFFSETTO:+0100
TZNAME:CET
DTSTART:20211031T010000
END:STANDARD
BEGIN:DAYLIGHT
TZOFFSETFROM:+0100
TZOFFSETTO:+0200
TZNAME:CEST
DTSTART:20220327T010000
END:DAYLIGHT
BEGIN:STANDARD
TZOFFSETFROM:+0200
TZOFFSETTO:+0100
TZNAME:CET
DTSTART:20221030T010000
END:STANDARD
BEGIN:DAYLIGHT
TZOFFSETFROM:+0100
TZOFFSETTO:+0200
TZNAME:CEST
DTSTART:20230326T010000
END:DAYLIGHT
BEGIN:STANDARD
TZOFFSETFROM:+0200
TZOFFSETTO:+0100
TZNAME:CET
DTSTART:20231029T010000
END:STANDARD
END:VTIMEZONE
BEGIN:VEVENT
DTSTART;TZID=Europe/Rome:20221115T170000
DTEND;TZID=Europe/Rome:20221115T183000
DTSTAMP:20260421T012818
CREATED:20221114T221629Z
LAST-MODIFIED:20221114T222014Z
UID:6839-1668531600-1668537000@associazionevegananimalista.it
SUMMARY:VEGAN PERCHE'\, MILLE DOMANDE MILLE RISPOSTE
DESCRIPTION:“Che mondo creeremmo se tre volte al giorno la nostra compassione e la nostra razionalità intervenissero mentre ci sediamo a tavola\, se avessimo l’immaginazione morale e la volontà pratica di cambiare il nostro atto di consumo più essenziale?”\n\n\n(Jonathan Safran Foer)\n\n\n\n(LIBERACTION)\n\nLeggi condividi e diffondi: PROGETTO PACE NEL MONDO – EDUCARE L’UMANITA’ ALLA PACE di Franco Libero Manco \nVisita il nostro sito Associazione Vegan Animalista \nMetti “Mi piace” sulla pagina Facebook del presidente Franco Libero Manco \nMetti “Mi piace” sulla nostra pagina Facebook AVA Associazione Vegan Animalista \nIscriviti alla nostra Newsletter \nVisiona iscriviti e condividi le nostre videoconferenze dal nostro canale Youtube \n Iscriviti ai nostri gruppi su Facebook: \nAVA Associazione Vegan Animalista \nSupporta Ippoasi e tutti i Rifugi di Animali Liberi \nINTERVISTE DEL MARTEDI’ IN DIRETTA AVA \n(Nella nuova sede dell’AVA in via dei Rogazionisti\, 3 Roma) \nMARTEDI’ 15 NOVEMBRE DALLE ORE 17\,00 \nINTERVISTA SUI TEMI FONDAMENTALI DELLA CULTURA VEGAN/ANIMALISTA \nFLORIANA COLELLA E NINO MALGERI INTERVISTANO IL PRESIDENTE DELL’ASSOCIAZIONE VEGAN ANIMALISTA FRANCO LIBERO MANCO \nVEGAN PERCHE’\, MILLE DOMANDE MILLE RISPOSTE\n——————————– \nSINTETICHE SUPPOSIZIONI SUL COSMO E SULL’ETERNITA’ DELLE COSE\ndi Franco Libero Manco \nCome il piccolo così il grande\nSe\, come dice la fisica\, nulla si crea e nulla si distrugge\, si può supporre che le cose esistano da sempre\, anche se mutano nel tempo e nello spazio.  E su questa logica la materia\, come noi la conosciamo\,  muta e nel suo mutare passa da dimensione in dimensione\, a seconda della sua composizione energetica\, e le forme/vita si manifestano a seconda dei regni e della specie; ma alla fine del ciclo vitale nulla si dissolve nel nulla perché il Nulla si presume che non esista. Per questo si può pensare che la materia (le cose\, i viventi\, il cosmo\, l’universo) sia infinita ed eterna. \nProbabilmente un centro primigenio ha dato  vita ad un meccanismo chimico che nel tempo a formato alla materia come noi la conosciamo e alla molteplicità delle cose. ma la domanda è: o l’universo ha generato se stesso all’interno del Nulla (ma il Nulla non può contenere qualcosa) o vi è un principio esterno alla materia di natura diversa che ha generato la materia. Ma un principio esterno/eterno/infinito può generare cose transitorie? Le cose eterne non hanno né principio né fine. \nSe l’universo è infinito non può essere all’interno di qualcosa di finito e quindi di transitorio. Se fosse transitorio sarebbe all’interno di qualcosa di transitorio\, cioè di materiale che lo contiene\, e questo\, a sua volta\, di  qualcos’altro di transitorio; quindi è probabile che l’universo materiale sia all’interno di qualcosa di eterno ed infinito e che le cose esistono da sempre e sempre esisteranno anche se\, in forme e dimensioni diverse. \nOgni cosa materiale è energia concentrata. La materia è composta di atomi. L’atomo di particelle sub atomiche ( elettroni\, protoni\, neutrini\, quark). Se più atomi fanno una cellula\, più cellule formano i tessuti\, più tessuti un organo e più organi un apparato e\, più apparati un corpo\, più corpi formano le galassie\, più galassie l’universo: l’indagine non può fermarsi all’universo: più universi che formano? Il Cosmo? E più cosmi che formano? \nOgni pensiero individuale è parte del pensiero collettivo. Ogni coscienza individuale è parte della coscienza collettiva e questa della Coscienza Cosmica. Se un corpo è dotato di coscienza e intelligenza non possono esserne prive le singole parti che lo compongono. \n——————————– \nI GIOVEDI’ CULTURALI DELL’AVA \n“I BUCHI NERI NELL’UNIVERSO\, LO SPAZIO-TEMPO \nE LA PRESUNTA COSCIENZA DELL’ATOMO” \nGiovedì 17 novembre ore 18 in sede AVA via dei Rogazionisti 3 Roma\nconferenza del Dr Piero Musilli\,\nLaurea in Scienze Politiche\, Documentarista\, Astrofilo del Gruppo Astrofili Hipparcos\, \nMuseo Geopaleontologico e Osservatorio Astronomico Rocca di Cave \n \n\n\n\n\n“I veri compagni sono gli alberi\, i fili d’erba\, i raggi del sole\, le nubi che corrono nel cielo al crepuscolo o al mattino\, il mare\, le montagne. Da tutto ciò sgorga la vera vita\, la grande vita e non si prova mai solitudine quando la si sa vedere e ascoltare.”\n\n\n– Alexandra David-Néel\n\n\n\nLIBERACTION\n\n\n\n\nShare on:
URL:https://associazionevegananimalista.it/event/vegan-perche-mille-domande-mille-risposte/
CATEGORIES:Eventi AVA 2022
ATTACH;FMTTYPE=image/jpeg:https://associazionevegananimalista.it/wp-content/uploads/2022/11/23561455_1472620092854208_2816714610030529678_n.jpg
END:VEVENT
END:VCALENDAR