BEGIN:VCALENDAR
VERSION:2.0
PRODID:-//AVA - ECPv6.15.20//NONSGML v1.0//EN
CALSCALE:GREGORIAN
METHOD:PUBLISH
X-WR-CALNAME:AVA
X-ORIGINAL-URL:https://associazionevegananimalista.it
X-WR-CALDESC:Eventi per AVA
REFRESH-INTERVAL;VALUE=DURATION:PT1H
X-Robots-Tag:noindex
X-PUBLISHED-TTL:PT1H
BEGIN:VTIMEZONE
TZID:Europe/Rome
BEGIN:DAYLIGHT
TZOFFSETFROM:+0100
TZOFFSETTO:+0200
TZNAME:CEST
DTSTART:20220327T010000
END:DAYLIGHT
BEGIN:STANDARD
TZOFFSETFROM:+0200
TZOFFSETTO:+0100
TZNAME:CET
DTSTART:20221030T010000
END:STANDARD
BEGIN:DAYLIGHT
TZOFFSETFROM:+0100
TZOFFSETTO:+0200
TZNAME:CEST
DTSTART:20230326T010000
END:DAYLIGHT
BEGIN:STANDARD
TZOFFSETFROM:+0200
TZOFFSETTO:+0100
TZNAME:CET
DTSTART:20231029T010000
END:STANDARD
BEGIN:DAYLIGHT
TZOFFSETFROM:+0100
TZOFFSETTO:+0200
TZNAME:CEST
DTSTART:20240331T010000
END:DAYLIGHT
BEGIN:STANDARD
TZOFFSETFROM:+0200
TZOFFSETTO:+0100
TZNAME:CET
DTSTART:20241027T010000
END:STANDARD
END:VTIMEZONE
BEGIN:VEVENT
DTSTART;TZID=Europe/Rome:20230304T080000
DTEND;TZID=Europe/Rome:20230304T233000
DTSTAMP:20260420T181925
CREATED:20200407T092109Z
LAST-MODIFIED:20230202T212927Z
UID:4646-1677916800-1677972600@associazionevegananimalista.it
SUMMARY:Mi si è posato una volta un passero sulla spalla mentre stavo zappando in un giardino del villaggio e ho sentito di essere più onorato in quella circostanza più di quanto lo potessi essere da qualsiasi mostrina avessi potuto indossare. (Henry David Thoreau)
DESCRIPTION:Mi si è posato una volta un passero sulla spalla mentre stavo zappando in un giardino del villaggio e ho sentito di essere più onorato in quella circostanza più di quanto lo potessi essere da qualsiasi mostrina avessi potuto indossare.\n\n\n(Henry David Thoreau)\n\n\n\n\n\n\nLeggi condividi e diffondi: PROGETTO PACE NEL MONDO – EDUCARE L’UMANITA’ ALLA PACE di Franco Libero Manco \nVisita il nostro sito Associazione Vegan Animalista \nMetti “Mi piace” sulla pagina Facebook del presidente Franco Libero Manco \nMetti “Mi piace” sulla nostra pagina Facebook AVA Associazione Vegan Animalista \nVieni a trovarci presso la nostra sede di Roma in Piazza Asti\, 5/A  \nVisiona iscriviti e condividi le nostre videoconferenze dal nostro canale Youtube \n Iscriviti ai nostri gruppi su Facebook: \nAVA Associazione Vegan Animalista \nSupporta Agripunk e tutti i Rifugi di Animali Liberi \n\n\nShare on:
URL:https://associazionevegananimalista.it/event/mi-si-e-posato-una-volta-un-passero-sulla-spalla-mentre-stavo-zappando-in-un-giardino-del-villaggio-e-ho-sentito-di-essere-piu-onorato-in-quella-circostanza-piu-di-quanto-lo-potessi-essere-da-qualsias/
CATEGORIES:Citazioni
ATTACH;FMTTYPE=image/jpeg:https://associazionevegananimalista.it/wp-content/uploads/2020/04/aaacanarino-1.jpg
END:VEVENT
BEGIN:VEVENT
DTSTART;TZID=Europe/Rome:20230304T080000
DTEND;TZID=Europe/Rome:20230304T233000
DTSTAMP:20260420T181925
CREATED:20200828T104414Z
LAST-MODIFIED:20230204T150217Z
UID:5279-1677916800-1677972600@associazionevegananimalista.it
SUMMARY:Quel ragazzo aveva dei pantaloni così stretti che non solo si distingueva il sesso ma anche la religione. (Bruno Lauzi)
DESCRIPTION:Quel ragazzo aveva dei pantaloni così stretti che non solo si distingueva il sesso ma anche la religione.\n\n\n(Bruno Lauzi)\nLeggi condividi e diffondi: PROGETTO PACE NEL MONDO – EDUCARE L’UMANITA’ ALLA PACE di Franco Libero Manco \nVisita il nostro sito Associazione Vegan Animalista \nMetti “Mi piace” sulla pagina Facebook del presidente Franco Libero Manco \nMetti “Mi piace” sulla nostra pagina Facebook AVA Associazione Vegan Animalista \nVieni a trovarci presso la nostra sede di Roma in Piazza Asti\, 5/A  \nVisiona iscriviti e condividi le nostre videoconferenze dal nostro canale Youtube \n Iscriviti ai nostri gruppi su Facebook: \nAVA Associazione Vegan Animalista \nSupporta Agripunk e tutti i Rifugi di Animali Liberi \n\n\n \n\n\n\n\n\nShare on:
URL:https://associazionevegananimalista.it/event/quel-ragazzo-aveva-dei-pantaloni-cosi-stretti-che-non-solo-si-distingueva-il-sesso-ma-anche-la-religione-bruno-lauzi/
CATEGORIES:Citazioni
ATTACH;FMTTYPE=image/jpeg:https://associazionevegananimalista.it/wp-content/uploads/2020/08/aaaaaaaabruno.jpg
END:VEVENT
END:VCALENDAR