BEGIN:VCALENDAR
VERSION:2.0
PRODID:-//AVA - ECPv6.15.20//NONSGML v1.0//EN
CALSCALE:GREGORIAN
METHOD:PUBLISH
X-ORIGINAL-URL:https://associazionevegananimalista.it
X-WR-CALDESC:Eventi per AVA
REFRESH-INTERVAL;VALUE=DURATION:PT1H
X-Robots-Tag:noindex
X-PUBLISHED-TTL:PT1H
BEGIN:VTIMEZONE
TZID:Europe/Rome
BEGIN:DAYLIGHT
TZOFFSETFROM:+0100
TZOFFSETTO:+0200
TZNAME:CEST
DTSTART:20220327T010000
END:DAYLIGHT
BEGIN:STANDARD
TZOFFSETFROM:+0200
TZOFFSETTO:+0100
TZNAME:CET
DTSTART:20221030T010000
END:STANDARD
BEGIN:DAYLIGHT
TZOFFSETFROM:+0100
TZOFFSETTO:+0200
TZNAME:CEST
DTSTART:20230326T010000
END:DAYLIGHT
BEGIN:STANDARD
TZOFFSETFROM:+0200
TZOFFSETTO:+0100
TZNAME:CET
DTSTART:20231029T010000
END:STANDARD
BEGIN:DAYLIGHT
TZOFFSETFROM:+0100
TZOFFSETTO:+0200
TZNAME:CEST
DTSTART:20240331T010000
END:DAYLIGHT
BEGIN:STANDARD
TZOFFSETFROM:+0200
TZOFFSETTO:+0100
TZNAME:CET
DTSTART:20241027T010000
END:STANDARD
END:VTIMEZONE
BEGIN:VEVENT
DTSTART;TZID=Europe/Rome:20230305T080000
DTEND;TZID=Europe/Rome:20230305T233000
DTSTAMP:20260420T182305
CREATED:20200518T084628Z
LAST-MODIFIED:20230205T191234Z
UID:4847-1678003200-1678059000@associazionevegananimalista.it
SUMMARY:È notte Un gufo mi guarda la luna mi sorride le stelle mi parlano e le nuvole creano disegni di ogni tipo. La devo smettere di farmi le canne! (Flavio Oreglio)
DESCRIPTION:È notte\n\nUn gufo mi guarda\nla luna mi sorride\nle stelle mi parlano\ne le nuvole creano disegni di ogni tipo. \nLa devo smettere di farmi le canne!\n\n(Flavio Oreglio)\n\n\n\nLeggi condividi e diffondi: PROGETTO PACE NEL MONDO – EDUCARE L’UMANITA’ ALLA PACE di Franco Libero Manco \nVisita il nostro sito Associazione Vegan Animalista \nMetti “Mi piace” sulla pagina Facebook del presidente Franco Libero Manco \nMetti “Mi piace” sulla nostra pagina Facebook AVA Associazione Vegan Animalista \nIscriviti alla nostra Newsletter \nVisiona iscriviti e condividi le nostre videoconferenze dal nostro canale Youtube \n Iscriviti ai nostri gruppi su Facebook: \nAVA Associazione Vegan Animalista \nSupporta Agripunk e tutti i Rifugi di Animali Liberi \n\n\n \n\n\n\n\n\nShare on:
URL:https://associazionevegananimalista.it/event/e-notte-un-gufo-mi-guarda-la-luna-mi-sorride-le-stelle-mi-parlano-e-le-nuvole-creano-disegni-di-ogni-tipo-la-devo-smettere-di-farmi-le-canne-flavio-oreglio/
CATEGORIES:Citazioni
ATTACH;FMTTYPE=image/jpeg:https://associazionevegananimalista.it/wp-content/uploads/2020/05/gufi6.jpg
END:VEVENT
END:VCALENDAR