BEGIN:VCALENDAR
VERSION:2.0
PRODID:-//AVA - ECPv6.15.20//NONSGML v1.0//EN
CALSCALE:GREGORIAN
METHOD:PUBLISH
X-WR-CALNAME:AVA
X-ORIGINAL-URL:https://associazionevegananimalista.it
X-WR-CALDESC:Eventi per AVA
REFRESH-INTERVAL;VALUE=DURATION:PT1H
X-Robots-Tag:noindex
X-PUBLISHED-TTL:PT1H
BEGIN:VTIMEZONE
TZID:Europe/Rome
BEGIN:DAYLIGHT
TZOFFSETFROM:+0100
TZOFFSETTO:+0200
TZNAME:CEST
DTSTART:20220327T010000
END:DAYLIGHT
BEGIN:STANDARD
TZOFFSETFROM:+0200
TZOFFSETTO:+0100
TZNAME:CET
DTSTART:20221030T010000
END:STANDARD
BEGIN:DAYLIGHT
TZOFFSETFROM:+0100
TZOFFSETTO:+0200
TZNAME:CEST
DTSTART:20230326T010000
END:DAYLIGHT
BEGIN:STANDARD
TZOFFSETFROM:+0200
TZOFFSETTO:+0100
TZNAME:CET
DTSTART:20231029T010000
END:STANDARD
BEGIN:DAYLIGHT
TZOFFSETFROM:+0100
TZOFFSETTO:+0200
TZNAME:CEST
DTSTART:20240331T010000
END:DAYLIGHT
BEGIN:STANDARD
TZOFFSETFROM:+0200
TZOFFSETTO:+0100
TZNAME:CET
DTSTART:20241027T010000
END:STANDARD
END:VTIMEZONE
BEGIN:VEVENT
DTSTART;TZID=Europe/Rome:20230309T080000
DTEND;TZID=Europe/Rome:20230309T233000
DTSTAMP:20260420T182108
CREATED:20200403T100424Z
LAST-MODIFIED:20230209T212716Z
UID:4611-1678348800-1678404600@associazionevegananimalista.it
SUMMARY:"Avete mai sentito l’eco in montagna o in una valle? Gridate e la valle grida\, cantate e la valle canta. Ogni cuore è una valle: se ci riversate amore\, risponderà" (Osho)
DESCRIPTION:“Avete mai sentito l’eco in montagna o in una valle? Gridate e la valle grida\, cantate e la valle canta. Ogni cuore è una valle: se ci riversate amore\, risponderà” (Osho)\nLeggi condividi e diffondi: PROGETTO PACE NEL MONDO – EDUCARE L’UMANITA’ ALLA PACE di Franco Libero Manco \nVisita il nostro sito Associazione Vegan Animalista \nMetti “Mi piace” sulla pagina Facebook del presidente Franco Libero Manco \nMetti “Mi piace” sulla nostra pagina Facebook AVA Associazione Vegan Animalista \nVieni a trovarci presso la nostra sede di Roma in Piazza Asti\, 5/A  \nVisiona iscriviti e condividi le nostre videoconferenze dal nostro canale Youtube \n Iscriviti ai nostri gruppi su Facebook: \nAVA Associazione Vegan Animalista \nSupporta Agripunk e tutti i Rifugi di Animali Liberi \nShare on:
URL:https://associazionevegananimalista.it/event/avete-mai-sentito-leco-in-montagna-o-in-una-valle-gridate-e-la-valle-grida-cantate-e-la-valle-canta-ogni-cuore-e-una-valle-se-ci-riversate-amore-rispondera-osho/
CATEGORIES:Citazioni
ATTACH;FMTTYPE=image/png:https://associazionevegananimalista.it/wp-content/uploads/2020/04/aaaaaaluna-1.png
END:VEVENT
END:VCALENDAR