BEGIN:VCALENDAR
VERSION:2.0
PRODID:-//AVA - ECPv6.15.20//NONSGML v1.0//EN
CALSCALE:GREGORIAN
METHOD:PUBLISH
X-WR-CALNAME:AVA
X-ORIGINAL-URL:https://associazionevegananimalista.it
X-WR-CALDESC:Eventi per AVA
REFRESH-INTERVAL;VALUE=DURATION:PT1H
X-Robots-Tag:noindex
X-PUBLISHED-TTL:PT1H
BEGIN:VTIMEZONE
TZID:Europe/Rome
BEGIN:DAYLIGHT
TZOFFSETFROM:+0100
TZOFFSETTO:+0200
TZNAME:CEST
DTSTART:20220327T010000
END:DAYLIGHT
BEGIN:STANDARD
TZOFFSETFROM:+0200
TZOFFSETTO:+0100
TZNAME:CET
DTSTART:20221030T010000
END:STANDARD
BEGIN:DAYLIGHT
TZOFFSETFROM:+0100
TZOFFSETTO:+0200
TZNAME:CEST
DTSTART:20230326T010000
END:DAYLIGHT
BEGIN:STANDARD
TZOFFSETFROM:+0200
TZOFFSETTO:+0100
TZNAME:CET
DTSTART:20231029T010000
END:STANDARD
BEGIN:DAYLIGHT
TZOFFSETFROM:+0100
TZOFFSETTO:+0200
TZNAME:CEST
DTSTART:20240331T010000
END:DAYLIGHT
BEGIN:STANDARD
TZOFFSETFROM:+0200
TZOFFSETTO:+0100
TZNAME:CET
DTSTART:20241027T010000
END:STANDARD
END:VTIMEZONE
BEGIN:VEVENT
DTSTART;TZID=Europe/Rome:20230320T080000
DTEND;TZID=Europe/Rome:20230320T233000
DTSTAMP:20260420T182035
CREATED:20200417T091109Z
LAST-MODIFIED:20230220T215511Z
UID:4700-1679299200-1679355000@associazionevegananimalista.it
SUMMARY:Della serie miti da sfatare. Se un gatto nero attraversa la strada è perchè sta andando per i fatti suoi...
DESCRIPTION:Della serie miti da sfatare. Se un gatto nero attraversa la strada è perchè sta andando per i fatti suoi…\n\n\n \n\n\nOgni impiegato ha la sua nuvola personale. Sono nuvole maligne che stanno in agguato anche quattordici mesi\, ma quando vedono che il loro uomo è in ferie o in vacanza gli piombano sulla testa scaricandogli addosso tonnellate di pioggia fitta e gelata\n\n\n(Dal film Fantozzi)\n\n\n\n\nLeggi condividi e diffondi: PROGETTO PACE NEL MONDO – EDUCARE L’UMANITA’ ALLA PACE di Franco Libero Manco \nVisita il nostro sito Associazione Vegan Animalista \nMetti “Mi piace” sulla pagina Facebook del presidente Franco Libero Manco \nMetti “Mi piace” sulla nostra pagina Facebook AVA Associazione Vegan Animalista \nVieni a trovarci presso la nostra sede di Roma in Piazza Asti\, 5/A  \nVisiona iscriviti e condividi le nostre videoconferenze dal nostro canale Youtube \n Iscriviti ai nostri gruppi su Facebook: \nAVA Associazione Vegan Animalista \nSupporta Agripunk e tutti i Rifugi di Animali Liberi \n\n\nShare on:
URL:https://associazionevegananimalista.it/event/della-serie-miti-da-sfatare-se-un-gatto-nero-attraversa-la-strada-e-perche-sta-andando-per-i-fatti-suoi/
CATEGORIES:Citazioni
ATTACH;FMTTYPE=image/jpeg:https://associazionevegananimalista.it/wp-content/uploads/2020/04/aaaaaaaaagattonero.jpg
END:VEVENT
END:VCALENDAR