BEGIN:VCALENDAR
VERSION:2.0
PRODID:-//AVA - ECPv6.15.20//NONSGML v1.0//EN
CALSCALE:GREGORIAN
METHOD:PUBLISH
X-WR-CALNAME:AVA
X-ORIGINAL-URL:https://associazionevegananimalista.it
X-WR-CALDESC:Eventi per AVA
REFRESH-INTERVAL;VALUE=DURATION:PT1H
X-Robots-Tag:noindex
X-PUBLISHED-TTL:PT1H
BEGIN:VTIMEZONE
TZID:Europe/Rome
BEGIN:DAYLIGHT
TZOFFSETFROM:+0100
TZOFFSETTO:+0200
TZNAME:CEST
DTSTART:20220327T010000
END:DAYLIGHT
BEGIN:STANDARD
TZOFFSETFROM:+0200
TZOFFSETTO:+0100
TZNAME:CET
DTSTART:20221030T010000
END:STANDARD
BEGIN:DAYLIGHT
TZOFFSETFROM:+0100
TZOFFSETTO:+0200
TZNAME:CEST
DTSTART:20230326T010000
END:DAYLIGHT
BEGIN:STANDARD
TZOFFSETFROM:+0200
TZOFFSETTO:+0100
TZNAME:CET
DTSTART:20231029T010000
END:STANDARD
BEGIN:DAYLIGHT
TZOFFSETFROM:+0100
TZOFFSETTO:+0200
TZNAME:CEST
DTSTART:20240331T010000
END:DAYLIGHT
BEGIN:STANDARD
TZOFFSETFROM:+0200
TZOFFSETTO:+0100
TZNAME:CET
DTSTART:20241027T010000
END:STANDARD
END:VTIMEZONE
BEGIN:VEVENT
DTSTART;TZID=Europe/Rome:20230322T080000
DTEND;TZID=Europe/Rome:20230322T233000
DTSTAMP:20260420T182109
CREATED:20201106T105930Z
LAST-MODIFIED:20230222T182316Z
UID:5528-1679472000-1679527800@associazionevegananimalista.it
SUMMARY:Grido del gallo Canto del cigno della notte Messaggio monocorde e fastidioso Che mi grida Oggi si deve cominciar da capo Oggi ancora oggi Non sento la tua romanza E faccio orecchie da mercante Non ascolto il tuo grido Eppure esco dal letto di buonora (Jacques Prévert)
DESCRIPTION:Grido del gallo\nCanto del cigno della notte\nMessaggio monocorde e fastidioso\nChe mi grida\nOggi si deve cominciar da capo\nOggi ancora oggi\nNon sento la tua romanza\nE faccio orecchie da mercante\nNon ascolto il tuo grido\nEppure esco dal letto di buonora\n(Jacques Prévert)\nLeggi condividi e diffondi: PROGETTO PACE NEL MONDO – EDUCARE L’UMANITA’ ALLA PACE di Franco Libero Manco \nVisita il nostro sito Associazione Vegan Animalista \nMetti “Mi piace” sulla pagina Facebook del presidente Franco Libero Manco \nMetti “Mi piace” sulla nostra pagina Facebook AVA Associazione Vegan Animalista \nVieni a trovarci presso la nostra sede di Roma in Piazza Asti\, 5/A  \nVisiona iscriviti e condividi le nostre videoconferenze dal nostro canale Youtube \n Iscriviti ai nostri gruppi su Facebook: \nAVA Associazione Vegan Animalista \nSupporta Agripunk e tutti i Rifugi di Animali Liberi \nShare on:
URL:https://associazionevegananimalista.it/event/grido-del-gallo-canto-del-cigno-della-notte-messaggio-monocorde-e-fastidioso-che-mi-grida-oggi-si-deve-cominciar-da-capo-oggi-ancora-oggi-non-sento-la-tua-romanza-e-faccio-orecchie-da-mercante-non-asc/
CATEGORIES:Citazioni
ATTACH;FMTTYPE=image/jpeg:https://associazionevegananimalista.it/wp-content/uploads/2020/11/aaaaaagallo98.jpg
END:VEVENT
END:VCALENDAR