BEGIN:VCALENDAR
VERSION:2.0
PRODID:-//AVA - ECPv6.15.20//NONSGML v1.0//EN
CALSCALE:GREGORIAN
METHOD:PUBLISH
X-WR-CALNAME:AVA
X-ORIGINAL-URL:https://associazionevegananimalista.it
X-WR-CALDESC:Eventi per AVA
REFRESH-INTERVAL;VALUE=DURATION:PT1H
X-Robots-Tag:noindex
X-PUBLISHED-TTL:PT1H
BEGIN:VTIMEZONE
TZID:Europe/Rome
BEGIN:DAYLIGHT
TZOFFSETFROM:+0100
TZOFFSETTO:+0200
TZNAME:CEST
DTSTART:20220327T010000
END:DAYLIGHT
BEGIN:STANDARD
TZOFFSETFROM:+0200
TZOFFSETTO:+0100
TZNAME:CET
DTSTART:20221030T010000
END:STANDARD
BEGIN:DAYLIGHT
TZOFFSETFROM:+0100
TZOFFSETTO:+0200
TZNAME:CEST
DTSTART:20230326T010000
END:DAYLIGHT
BEGIN:STANDARD
TZOFFSETFROM:+0200
TZOFFSETTO:+0100
TZNAME:CET
DTSTART:20231029T010000
END:STANDARD
BEGIN:DAYLIGHT
TZOFFSETFROM:+0100
TZOFFSETTO:+0200
TZNAME:CEST
DTSTART:20240331T010000
END:DAYLIGHT
BEGIN:STANDARD
TZOFFSETFROM:+0200
TZOFFSETTO:+0100
TZNAME:CET
DTSTART:20241027T010000
END:STANDARD
END:VTIMEZONE
BEGIN:VEVENT
DTSTART;TZID=Europe/Rome:20230328T080000
DTEND;TZID=Europe/Rome:20230328T233000
DTSTAMP:20260420T162217
CREATED:20200504T095534Z
LAST-MODIFIED:20230228T210104Z
UID:4779-1679990400-1680046200@associazionevegananimalista.it
SUMMARY:La farfalla non vive per cibarsi e invecchiare\, vive solamente per amare e concepire\, e per questo è avvolta in un abito mirabile…
DESCRIPTION:La farfalla\, è qualcosa di particolare\, non è un animale come gli altri\, in fondo non è propriamente un animale ma solamente l’ultima\, più elevata\, festosa e vitalmente importante essenza di un animale. È la forma festosa\, nuziale… di quell’animale che… era giacente crisalide e ancor prima affamato bruco. \n\nLa farfalla non vive per cibarsi e invecchiare\, vive solamente per amare e concepire\, e per questo è avvolta in un abito mirabile…\n\n\n\nTale significato della farfalla è stato avvertito in tutti i tempi e da tutti i popoli…\n\n\nÈ un emblema sia dell’effimero\, sia di ciò che dura in eterno… È un simbolo dell’anima…\n\n\n(Hermann Hesse)\n\n\n\nLeggi condividi e diffondi: PROGETTO PACE NEL MONDO – EDUCARE L’UMANITA’ ALLA PACE di Franco Libero Manco \nVisita il nostro sito Associazione Vegan Animalista \nMetti “Mi piace” sulla pagina Facebook del presidente Franco Libero Manco \nMetti “Mi piace” sulla nostra pagina Facebook AVA Associazione Vegan Animalista \nVieni a trovarci presso la nostra sede di Roma in Piazza Asti\, 5/A  \nVisiona iscriviti e condividi le nostre videoconferenze dal nostro canale Youtube \n Iscriviti ai nostri gruppi su Facebook: \nAVA Associazione Vegan Animalista \nSupporta Agripunk e tutti i Rifugi di Animali Liberi \n\n\n \n\n\n\n\n\nShare on:
URL:https://associazionevegananimalista.it/event/la-farfalla-non-vive-per-cibarsi-e-invecchiare-vive-solamente-per-amare-e-concepire-e-per-questo-e-avvolta-in-un-abito-mirabile/
CATEGORIES:Citazioni
ATTACH;FMTTYPE=image/jpeg:https://associazionevegananimalista.it/wp-content/uploads/2020/05/aaaaafarf.jpg
END:VEVENT
END:VCALENDAR