BEGIN:VCALENDAR
VERSION:2.0
PRODID:-//AVA - ECPv6.15.20//NONSGML v1.0//EN
CALSCALE:GREGORIAN
METHOD:PUBLISH
X-ORIGINAL-URL:https://associazionevegananimalista.it
X-WR-CALDESC:Eventi per AVA
REFRESH-INTERVAL;VALUE=DURATION:PT1H
X-Robots-Tag:noindex
X-PUBLISHED-TTL:PT1H
BEGIN:VTIMEZONE
TZID:Europe/Rome
BEGIN:DAYLIGHT
TZOFFSETFROM:+0100
TZOFFSETTO:+0200
TZNAME:CEST
DTSTART:20220327T010000
END:DAYLIGHT
BEGIN:STANDARD
TZOFFSETFROM:+0200
TZOFFSETTO:+0100
TZNAME:CET
DTSTART:20221030T010000
END:STANDARD
BEGIN:DAYLIGHT
TZOFFSETFROM:+0100
TZOFFSETTO:+0200
TZNAME:CEST
DTSTART:20230326T010000
END:DAYLIGHT
BEGIN:STANDARD
TZOFFSETFROM:+0200
TZOFFSETTO:+0100
TZNAME:CET
DTSTART:20231029T010000
END:STANDARD
BEGIN:DAYLIGHT
TZOFFSETFROM:+0100
TZOFFSETTO:+0200
TZNAME:CEST
DTSTART:20240331T010000
END:DAYLIGHT
BEGIN:STANDARD
TZOFFSETFROM:+0200
TZOFFSETTO:+0100
TZNAME:CET
DTSTART:20241027T010000
END:STANDARD
END:VTIMEZONE
BEGIN:VEVENT
DTSTART;TZID=Europe/Rome:20230630T080000
DTEND;TZID=Europe/Rome:20230630T233000
DTSTAMP:20260420T105418
CREATED:20200619T102548Z
LAST-MODIFIED:20230531T181559Z
UID:4988-1688112000-1688167800@associazionevegananimalista.it
SUMMARY:Una sera di tanti anni fa\, al paese\, noi bambini giocavamo a nasconderci. Uno di noi\, Severino\, si nascose così bene che non riuscimmo a trovarlo.
DESCRIPTION:Una sera di tanti anni fa\, al paese\, noi bambini giocavamo a nasconderci. Uno di noi\, Severino\, si nascose così bene che non riuscimmo a trovarlo. \n\nTutti rincasammo quella sera\, meno lui. Più tardi\, noi ci siamo sposati\, ci siamo sparsi per il mondo\, ci siamo offerti al gioco della vita… E Severino? Non l’ho più visto. Ma a volte mi piace pensare che\, come quel soldato giapponese che se ne stette nascosto vent’anni nella giungla convinto che la guerra durasse ancora\, anche Severino sia ancora là\, nel cavo di un albero o in un decrepito pollaio\, rimasto fedele a quell’antico gioco. E certe notti che non riesco a dormire\, me lo immagino lì\, che trattiene il respiro\, in ascolto\, in attesa dei passi di qualcuno di noi che vada a stanarlo… E lo invidio.\n\n\n(Romano Bertola)\n\n\nLeggi condividi e diffondi: PROGETTO PACE NEL MONDO – EDUCARE L’UMANITA’ ALLA PACE di Franco Libero Manco \nVisita il nostro sito Associazione Vegan Animalista \nMetti “Mi piace” sulla pagina Facebook del presidente Franco Libero Manco \nMetti “Mi piace” sulla nostra pagina Facebook AVA Associazione Vegan Animalista \nVieni a trovarci presso la nostra sede di Roma in Piazza Asti\, 5/A  \nVisiona iscriviti e condividi le nostre videoconferenze dal nostro canale Youtube \n Iscriviti ai nostri gruppi su Facebook: \nAVA Associazione Vegan Animalista \nSupporta Agripunk e tutti i Rifugi di Animali Liberi \n\n\n \n\n\n\n\n\nShare on:
URL:https://associazionevegananimalista.it/event/una-sera-di-tanti-anni-fa-al-paese-noi-bambini-giocavamo-a-nasconderci-uno-di-noi-severino-si-nascose-cosi-bene-che-non-riuscimmo-a-trovarlo/
CATEGORIES:Citazioni
ATTACH;FMTTYPE=image/jpeg:https://associazionevegananimalista.it/wp-content/uploads/2020/06/aaaaaaocchi8.jpg
END:VEVENT
END:VCALENDAR