BEGIN:VCALENDAR
VERSION:2.0
PRODID:-//AVA - ECPv6.15.20//NONSGML v1.0//EN
CALSCALE:GREGORIAN
METHOD:PUBLISH
X-ORIGINAL-URL:https://associazionevegananimalista.it
X-WR-CALDESC:Eventi per AVA
REFRESH-INTERVAL;VALUE=DURATION:PT1H
X-Robots-Tag:noindex
X-PUBLISHED-TTL:PT1H
BEGIN:VTIMEZONE
TZID:Europe/Rome
BEGIN:DAYLIGHT
TZOFFSETFROM:+0100
TZOFFSETTO:+0200
TZNAME:CEST
DTSTART:20220327T010000
END:DAYLIGHT
BEGIN:STANDARD
TZOFFSETFROM:+0200
TZOFFSETTO:+0100
TZNAME:CET
DTSTART:20221030T010000
END:STANDARD
BEGIN:DAYLIGHT
TZOFFSETFROM:+0100
TZOFFSETTO:+0200
TZNAME:CEST
DTSTART:20230326T010000
END:DAYLIGHT
BEGIN:STANDARD
TZOFFSETFROM:+0200
TZOFFSETTO:+0100
TZNAME:CET
DTSTART:20231029T010000
END:STANDARD
BEGIN:DAYLIGHT
TZOFFSETFROM:+0100
TZOFFSETTO:+0200
TZNAME:CEST
DTSTART:20240331T010000
END:DAYLIGHT
BEGIN:STANDARD
TZOFFSETFROM:+0200
TZOFFSETTO:+0100
TZNAME:CET
DTSTART:20241027T010000
END:STANDARD
END:VTIMEZONE
BEGIN:VEVENT
DTSTART;TZID=Europe/Rome:20230401T080000
DTEND;TZID=Europe/Rome:20230401T233000
DTSTAMP:20260422T160413
CREATED:20200421T091134Z
LAST-MODIFIED:20230301T211940Z
UID:4720-1680336000-1680391800@associazionevegananimalista.it
SUMMARY:L’aquila la regina di tutti gli uccelli
DESCRIPTION:L’aquila la regina di tutti gli uccelli\, la terribile e maestosa aquila\, i cui occhi\, dicesi\, sostengono\, senza restarne abbagliati\, lo splendore del sole. \nDotata di una prodigiosa forza muscolare può lottare contro i più fieri uragani e varcare intere catene di monti\, essa vola in alto per potere abbracciare con lo sguardo una visuale più ampia sulle zone sottostanti\, vola e scruta con la sua vista acutissima tra le valli e i dirupi alla ricerca di possibili prede\, ed ecco che all’improvviso vede un topolino! \n\nSi butta in picchiata pregustando le piacevolezze del topolino\, arriva a due centimetri con il becco quasi a sfiorarlo\, ma poi con un’impennata ritorna maestosa nel cielo esclamando furiosa: “Vaffanculo l’ho già letto!”. \n\n\n\n\n\nLeggi condividi e diffondi: PROGETTO PACE NEL MONDO – EDUCARE L’UMANITA’ ALLA PACE di Franco Libero Manco \nVisita il nostro sito Associazione Vegan Animalista \nMetti “Mi piace” sulla pagina Facebook del presidente Franco Libero Manco \nMetti “Mi piace” sulla nostra pagina Facebook AVA Associazione Vegan Animalista \nVieni a trovarci presso la nostra sede di Roma in Piazza Asti\, 5/A  \nVisiona iscriviti e condividi le nostre videoconferenze dal nostro canale Youtube \n Iscriviti ai nostri gruppi su Facebook: \nAVA Associazione Vegan Animalista \nSupporta Agripunk e tutti i Rifugi di Animali Liberi \n\n\nShare on:
URL:https://associazionevegananimalista.it/event/laquila-la-regina-di-tutti-gli-uccelli/
CATEGORIES:Citazioni
ATTACH;FMTTYPE=image/jpeg:https://associazionevegananimalista.it/wp-content/uploads/2020/04/aaaaaaaquila.jpg
END:VEVENT
BEGIN:VEVENT
DTSTART;TZID=Europe/Rome:20230403T080000
DTEND;TZID=Europe/Rome:20230403T233000
DTSTAMP:20260422T160413
CREATED:20201109T103841Z
LAST-MODIFIED:20230303T180711Z
UID:5541-1680508800-1680564600@associazionevegananimalista.it
SUMMARY:È impossibile godere a fondo l’ozio se non si ha una quantità di lavoro da fare. (Jerome Klapka Jerome)
DESCRIPTION:È impossibile godere a fondo l’ozio se non si ha una quantità di lavoro da fare.\n(Jerome Klapka Jerome)\nLeggi condividi e diffondi: PROGETTO PACE NEL MONDO – EDUCARE L’UMANITA’ ALLA PACE di Franco Libero Manco \nVisita il nostro sito Associazione Vegan Animalista \nMetti “Mi piace” sulla pagina Facebook del presidente Franco Libero Manco \nMetti “Mi piace” sulla nostra pagina Facebook AVA Associazione Vegan Animalista \nVieni a trovarci presso la nostra sede di Roma in Piazza Asti\, 5/A  \nVisiona iscriviti e condividi le nostre videoconferenze dal nostro canale Youtube \n Iscriviti ai nostri gruppi su Facebook: \nAVA Associazione Vegan Animalista \nSupporta Agripunk e tutti i Rifugi di Animali Liberi \nShare on:
URL:https://associazionevegananimalista.it/event/e-impossibile-godere-a-fondo-lozio-se-non-si-ha-una-quantita-di-lavoro-da-fare-jerome-klapka-jerome/
CATEGORIES:Citazioni
ATTACH;FMTTYPE=image/jpeg:https://associazionevegananimalista.it/wp-content/uploads/2020/11/aaaaaasdraia555.jpg
END:VEVENT
BEGIN:VEVENT
DTSTART;TZID=Europe/Rome:20230411T080000
DTEND;TZID=Europe/Rome:20230411T233000
DTSTAMP:20260422T160413
CREATED:20200418T091323Z
LAST-MODIFIED:20230311T175942Z
UID:4708-1681200000-1681255800@associazionevegananimalista.it
SUMMARY:A mezz’aria si libravano libellule meravigliose\, dai riflessi turchini\, metallici; metallico e meccanico era anche il loro ronzio. Erano piccole macchine da guerra: a un tratto calavano come dardi su un’invisibile preda.  (Primo Levi)
DESCRIPTION:A mezz’aria si libravano libellule meravigliose\, dai riflessi turchini\, metallici; metallico e meccanico era anche il loro ronzio. Erano piccole macchine da guerra: a un tratto calavano come dardi su un’invisibile preda.\n(Primo Levi)\nLeggi condividi e diffondi: PROGETTO PACE NEL MONDO – EDUCARE L’UMANITA’ ALLA PACE di Franco Libero Manco \nVisita il nostro sito Associazione Vegan Animalista \nMetti “Mi piace” sulla pagina Facebook del presidente Franco Libero Manco \nMetti “Mi piace” sulla nostra pagina Facebook AVA Associazione Vegan Animalista \nVieni a trovarci presso la nostra sede di Roma in Piazza Asti\, 5/A  \nVisiona iscriviti e condividi le nostre videoconferenze dal nostro canale Youtube \n Iscriviti ai nostri gruppi su Facebook: \nAVA Associazione Vegan Animalista \nSupporta Agripunk e tutti i Rifugi di Animali Liberi \nShare on:
URL:https://associazionevegananimalista.it/event/a-mezzaria-si-libravano-libellule-meravigliose-dai-riflessi-turchini-metallici-metallico-e-meccanico-era-anche-il-loro-ronzio-erano-piccole-macchine-da-guerra-a-un-tratto-calavano-come-d/
CATEGORIES:Citazioni
ATTACH;FMTTYPE=image/jpeg:https://associazionevegananimalista.it/wp-content/uploads/2020/04/libellula6.jpg
END:VEVENT
BEGIN:VEVENT
DTSTART;TZID=Europe/Rome:20230414T080000
DTEND;TZID=Europe/Rome:20230414T233000
DTSTAMP:20260422T160413
CREATED:20201107T105247Z
LAST-MODIFIED:20230314T210458Z
UID:5531-1681459200-1681515000@associazionevegananimalista.it
SUMMARY:"La ragazza mi piace. E' bella\, ricca\, giovane\, colta. Nell'annuncio accennavate ad un piccolo difetto fisico\, di che si tratta?" " E' incinta. Oh\, ma pochissimo". (Ennio Flaiano)
DESCRIPTION:“La ragazza mi piace. E’ bella\, ricca\, giovane\, colta. Nell’annuncio accennavate ad un piccolo difetto fisico\, di che si tratta?”\n\n” E’ incinta. Oh\, ma pochissimo”.\n\n(Ennio Flaiano)\nLeggi condividi e diffondi: PROGETTO PACE NEL MONDO – EDUCARE L’UMANITA’ ALLA PACE di Franco Libero Manco \nVisita il nostro sito Associazione Vegan Animalista \nMetti “Mi piace” sulla pagina Facebook del presidente Franco Libero Manco \nMetti “Mi piace” sulla nostra pagina Facebook AVA Associazione Vegan Animalista \nVieni a trovarci presso la nostra sede di Roma in Piazza Asti\, 5/A  \nVisiona iscriviti e condividi le nostre videoconferenze dal nostro canale Youtube \n Iscriviti ai nostri gruppi su Facebook: \nAVA Associazione Vegan Animalista \nSupporta Agripunk e tutti i Rifugi di Animali Liberi \n\nShare on:
URL:https://associazionevegananimalista.it/event/la-ragazza-mi-piace-e-bella-ricca-giovane-colta-nellannuncio-accennavate-ad-un-piccolo-difetto-fisico-di-che-si-tratta-e-incinta-oh-ma-pochissimo-ennio-flaiano/
CATEGORIES:Citazioni
ATTACH;FMTTYPE=image/jpeg:https://associazionevegananimalista.it/wp-content/uploads/2020/11/aaaaaaaapapero9.jpg
END:VEVENT
BEGIN:VEVENT
DTSTART;TZID=Europe/Rome:20230415T080000
DTEND;TZID=Europe/Rome:20230415T233000
DTSTAMP:20260422T160413
CREATED:20200305T181210Z
LAST-MODIFIED:20230315T191155Z
UID:4466-1681545600-1681601400@associazionevegananimalista.it
SUMMARY:La Giraffa  La Giraffa ha il cuore lontano dai pensieri  si è innamorata ieri  e ancora non lo sa.  Stefano Benni
DESCRIPTION:La Giraffa\n\nLa Giraffa ha il cuore lontano dai pensieri\nsi è innamorata ieri\ne ancora non lo sa.\n(Stefano Benni)\nLeggi condividi e diffondi: PROGETTO PACE NEL MONDO – EDUCARE L’UMANITA’ ALLA PACE di Franco Libero Manco \nVisita il nostro sito Associazione Vegan Animalista \nMetti “Mi piace” sulla pagina Facebook del presidente Franco Libero Manco \nMetti “Mi piace” sulla nostra pagina Facebook AVA Associazione Vegan Animalista \nVieni a trovarci presso la nostra sede di Roma in Piazza Asti\, 5/A  \nVisiona iscriviti e condividi le nostre videoconferenze dal nostro canale Youtube \n Iscriviti ai nostri gruppi su Facebook: \nAVA Associazione Vegan Animalista \nSupporta Agripunk e tutti i Rifugi di Animali \n\nShare on:
URL:https://associazionevegananimalista.it/event/la-giraffa-la-giraffa-ha-il-cuore-lontano-dai-pensieri-si-e-innamorata-ieri-e-ancora-non-lo-sa-stefano-benni/
CATEGORIES:Citazioni,Eventi AVA 2020
ATTACH;FMTTYPE=image/jpeg:https://associazionevegananimalista.it/wp-content/uploads/2020/03/aaagiraffa.jpg
END:VEVENT
BEGIN:VEVENT
DTSTART;TZID=Europe/Rome:20230416T080000
DTEND;TZID=Europe/Rome:20230416T233000
DTSTAMP:20260422T160413
CREATED:20200511T090132Z
LAST-MODIFIED:20230316T225846Z
UID:4811-1681632000-1681687800@associazionevegananimalista.it
SUMMARY:Con un abito da sera e una cravatta bianca chiunque\, persino un agente di cambio\, può far credere di essere una persona civile. (Oscar Wilde)
DESCRIPTION:Con un abito da sera e una cravatta bianca chiunque\, persino un agente di cambio\, può far credere di essere una persona civile.\n\n\n(Oscar Wilde)\n\n\n\nLeggi condividi e diffondi: PROGETTO PACE NEL MONDO – EDUCARE L’UMANITA’ ALLA PACE di Franco Libero Manco \nVisita il nostro sito Associazione Vegan Animalista \nMetti “Mi piace” sulla pagina Facebook del presidente Franco Libero Manco \nMetti “Mi piace” sulla nostra pagina Facebook AVA Associazione Vegan Animalista \nIscriviti alla nostra Newsletter \nVisiona iscriviti e condividi le nostre videoconferenze dal nostro canale Youtube \n Iscriviti ai nostri gruppi su Facebook: \nAVA Associazione Vegan Animalista \nSupporta Agripunk e tutti i Rifugi di Animali Liberi \n\nShare on:
URL:https://associazionevegananimalista.it/event/con-un-abito-da-sera-e-una-cravatta-bianca-chiunque-persino-un-agente-di-cambio-puo-far-credere-di-essere-una-persona-civile-oscar-wilde/
CATEGORIES:Citazioni
ATTACH;FMTTYPE=image/jpeg:https://associazionevegananimalista.it/wp-content/uploads/2020/05/pingcol.jpg
END:VEVENT
BEGIN:VEVENT
DTSTART;TZID=Europe/Rome:20230417T080000
DTEND;TZID=Europe/Rome:20230417T233000
DTSTAMP:20260422T160413
CREATED:20200513T093629Z
LAST-MODIFIED:20230317T185219Z
UID:4821-1681718400-1681774200@associazionevegananimalista.it
SUMMARY:Non è tanto il viaggio che è importante; è il modo in cui trattiamo coloro che incontriamo e coloro che ci circondano\, lungo la strada.  (Jeremy Aldana)
DESCRIPTION:Non è tanto il viaggio che è importante; è il modo in cui trattiamo coloro che incontriamo e coloro che ci circondano\, lungo la strada.\n(Jeremy Aldana)\nLeggi condividi e diffondi: PROGETTO PACE NEL MONDO – EDUCARE L’UMANITA’ ALLA PACE di Franco Libero Manco \nVisita il nostro sito Associazione Vegan Animalista \nMetti “Mi piace” sulla pagina Facebook del presidente Franco Libero Manco \nMetti “Mi piace” sulla nostra pagina Facebook AVA Associazione Vegan Animalista \nIscriviti alla nostra Newsletter \nVisiona iscriviti e condividi le nostre videoconferenze dal nostro canale Youtube \n Iscriviti ai nostri gruppi su Facebook: \nAVA Associazione Vegan Animalista \nSupporta Agripunk e tutti i Rifugi di Animali Liberi \nShare on:
URL:https://associazionevegananimalista.it/event/non-e-tanto-il-viaggio-che-e-importante-e-il-modo-in-cui-trattiamo-coloro-che-incontriamo-e-coloro-che-ci-circondano-lungo-la-strada-jeremy-aldana/
CATEGORIES:Citazioni
ATTACH;FMTTYPE=image/jpeg:https://associazionevegananimalista.it/wp-content/uploads/2020/05/aaaamicizia7.jpg
END:VEVENT
BEGIN:VEVENT
DTSTART;TZID=Europe/Rome:20230418T080000
DTEND;TZID=Europe/Rome:20230418T233000
DTSTAMP:20260422T160413
CREATED:20200528T073727Z
LAST-MODIFIED:20230318T191502Z
UID:4896-1681804800-1681860600@associazionevegananimalista.it
SUMMARY:La farfalla\, è qualcosa di particolare\, non è un animale come gli altri
DESCRIPTION:La farfalla\, è qualcosa di particolare\, non è un animale come gli altri\, in fondo non è propriamente un animale ma solamente l’ultima\, più elevata\, festosa e vitalmente importante essenza di un animale. È la forma festosa\, nuziale… di quell’animale che… era giacente crisalide e ancor prima affamato bruco. La farfalla non vive per cibarsi e invecchiare\, vive solamente per amare e concepire\, e per questo è avvolta in un abito mirabile…\n\nTale significato della farfalla è stato avvertito in tutti i tempi e da tutti i popoli…\nÈ un emblema sia dell’effimero\, sia di ciò che dura in eterno… È un simbolo dell’anima…\n\n(Hermann Hesse)\n\n\n \n\n\n\nLeggi condividi e diffondi: PROGETTO PACE NEL MONDO – EDUCARE L’UMANITA’ ALLA PACE di Franco Libero Manco \nVisita il nostro sito Associazione Vegan Animalista \nMetti “Mi piace” sulla pagina Facebook del presidente Franco Libero Manco \nMetti “Mi piace” sulla nostra pagina Facebook AVA Associazione Vegan Animalista \nVieni a trovarci presso la nostra sede di Roma in Piazza Asti\, 5/A  \nVisiona iscriviti e condividi le nostre videoconferenze dal nostro canale Youtube \n Iscriviti ai nostri gruppi su Facebook: \nAVA Associazione Vegan Animalista \nSupporta Agripunk e tutti i Rifugi di Animali Liberi \n\n\nShare on:
URL:https://associazionevegananimalista.it/event/la-farfalla-e-qualcosa-di-particolare-non-e-un-animale-come-gli-altri/
CATEGORIES:Citazioni
ATTACH;FMTTYPE=image/jpeg:https://associazionevegananimalista.it/wp-content/uploads/2020/05/aaaaaaabimbfarf.jpg
END:VEVENT
BEGIN:VEVENT
DTSTART;TZID=Europe/Rome:20230419T080000
DTEND;TZID=Europe/Rome:20230419T233000
DTSTAMP:20260422T160413
CREATED:20200503T094001Z
LAST-MODIFIED:20230319T183430Z
UID:4776-1681891200-1681947000@associazionevegananimalista.it
SUMMARY:Le finestre che si svegliano più tardi\, i motori che riposano\, le case che profumano di ricordi\, le corse che diventano danze. È domenica.
DESCRIPTION:Le finestre che si svegliano più tardi\, i motori che riposano\, le case che profumano di ricordi\, le corse che diventano danze. È domenica.\n\n\n\nLa domenica è fatta per mangiare tardi\,\n\n\ndormire tutto il giorno\,\n\n\ne lamentarsi che domani è Lunedì.\n\n\n(Mafalda)\n\n\n\nLeggi condividi e diffondi: PROGETTO PACE NEL MONDO – EDUCARE L’UMANITA’ ALLA PACE di Franco Libero Manco \nVisita il nostro sito Associazione Vegan Animalista \nMetti “Mi piace” sulla pagina Facebook del presidente Franco Libero Manco \nMetti “Mi piace” sulla nostra pagina Facebook AVA Associazione Vegan Animalista \nVieni a trovarci presso la nostra sede di Roma in Piazza Asti\, 5/A  \nVisiona iscriviti e condividi le nostre videoconferenze dal nostro canale Youtube \n Iscriviti ai nostri gruppi su Facebook: \nAVA Associazione Vegan Animalista \nSupporta Agripunk e tutti i Rifugi di Animali Liberi \n\n\n \n\n\n\n\n\nShare on:
URL:https://associazionevegananimalista.it/event/le-finestre-che-si-svegliano-piu-tardi-i-motori-che-riposano-le-case-che-profumano-di-ricordi-le-corse-che-diventano-danze-e-domenica/
CATEGORIES:Citazioni
ATTACH;FMTTYPE=image/jpeg:https://associazionevegananimalista.it/wp-content/uploads/2020/05/aaaaaaafinestr.jpg
END:VEVENT
BEGIN:VEVENT
DTSTART;TZID=Europe/Rome:20230420T080000
DTEND;TZID=Europe/Rome:20230420T233000
DTSTAMP:20260422T160413
CREATED:20200515T093940Z
LAST-MODIFIED:20230320T183351Z
UID:4831-1681977600-1682033400@associazionevegananimalista.it
SUMMARY:Se i partiti non rappresentano più gli elettori\, cambiamoli questi benedetti elettori. (Corrado Guzzanti)
DESCRIPTION:Se i partiti non rappresentano più gli elettori\, cambiamoli questi benedetti elettori.\n\n\n(Corrado Guzzanti)\nLeggi condividi e diffondi: PROGETTO PACE NEL MONDO – EDUCARE L’UMANITA’ ALLA PACE di Franco Libero Manco \nVisita il nostro sito Associazione Vegan Animalista \nMetti “Mi piace” sulla pagina Facebook del presidente Franco Libero Manco \nMetti “Mi piace” sulla nostra pagina Facebook AVA Associazione Vegan Animalista \nIscriviti alla nostra Newsletter \nVisiona iscriviti e condividi le nostre videoconferenze dal nostro canale Youtube \n Iscriviti ai nostri gruppi su Facebook: \nAVA Associazione Vegan Animalista \nSupporta Agripunk e tutti i Rifugi di Animali Liberi \n\nShare on:
URL:https://associazionevegananimalista.it/event/se-i-partiti-non-rappresentano-piu-gli-elettori-cambiamoli-questi-benedetti-elettori-corrado-guzzanti/
CATEGORIES:Citazioni
ATTACH;FMTTYPE=image/jpeg:https://associazionevegananimalista.it/wp-content/uploads/2020/05/aaaaaaacocc77.jpg
END:VEVENT
BEGIN:VEVENT
DTSTART;TZID=Europe/Rome:20230421T080000
DTEND;TZID=Europe/Rome:20230421T233000
DTSTAMP:20260422T160413
CREATED:20200505T093557Z
LAST-MODIFIED:20230321T194049Z
UID:4785-1682064000-1682119800@associazionevegananimalista.it
SUMMARY:Sarà stato anche il miglior amante del mondo\, ma cosa potevo fare di lui nelle altre ventidue ore della giornata? (Zsa Zsa Gabor)
DESCRIPTION:Sarà stato anche il miglior amante del mondo\, ma cosa potevo fare di lui nelle altre ventidue ore della giornata?\n\n\n(Zsa Zsa Gabor)\nLeggi condividi e diffondi: PROGETTO PACE NEL MONDO – EDUCARE L’UMANITA’ ALLA PACE di Franco Libero Manco \nVisita il nostro sito Associazione Vegan Animalista \nMetti “Mi piace” sulla pagina Facebook del presidente Franco Libero Manco \nMetti “Mi piace” sulla nostra pagina Facebook AVA Associazione Vegan Animalista \nIscriviti alla nostra Newsletter \nVisiona iscriviti e condividi le nostre videoconferenze dal nostro canale Youtube \n Iscriviti ai nostri gruppi su Facebook: \nAVA Associazione Vegan Animalista \nSupporta Agripunk e tutti i Rifugi di Animali Liberi \n\n\n\n \n\n\n\n\n\nShare on:
URL:https://associazionevegananimalista.it/event/sono-tre-ore-che-sono-coi-congiunti-e-gia-spero-in-altri-tre-mesi-di-quarantena-kotiomkin/
CATEGORIES:Citazioni
ATTACH;FMTTYPE=image/jpeg:https://associazionevegananimalista.it/wp-content/uploads/2020/05/aaaaacoccguf.jpg
END:VEVENT
BEGIN:VEVENT
DTSTART;TZID=Europe/Rome:20230423T080000
DTEND;TZID=Europe/Rome:20230423T233000
DTSTAMP:20260422T160413
CREATED:20200514T101404Z
LAST-MODIFIED:20230323T203004Z
UID:4828-1682236800-1682292600@associazionevegananimalista.it
SUMMARY:Un manager con ventiquattrore e telefonino d'ordinanza entrò in una cabina telefonica... e pianse di nostalgia. (Stefano Benni)
DESCRIPTION:Un manager con ventiquattrore e telefonino d’ordinanza entrò in una cabina telefonica… e pianse di nostalgia.\n\n\n(Stefano Benni)\n\n\n\nLeggi condividi e diffondi: PROGETTO PACE NEL MONDO – EDUCARE L’UMANITA’ ALLA PACE di Franco Libero Manco \nVisita il nostro sito Associazione Vegan Animalista \nMetti “Mi piace” sulla pagina Facebook del presidente Franco Libero Manco \nMetti “Mi piace” sulla nostra pagina Facebook AVA Associazione Vegan Animalista \nIscriviti alla nostra Newsletter \nVisiona iscriviti e condividi le nostre videoconferenze dal nostro canale Youtube \n Iscriviti ai nostri gruppi su Facebook: \nAVA Associazione Vegan Animalista \nSupporta Agripunk e tutti i Rifugi di Animali Liberi \n\n\n \n\n\n\n\n\nShare on:
URL:https://associazionevegananimalista.it/event/un-manager-con-ventiquattrore-e-telefonino-dordinanza-entro-in-una-cabina-telefonia-e-pianse-di-nostalgia-stefano-benni/
CATEGORIES:Citazioni
ATTACH;FMTTYPE=image/jpeg:https://associazionevegananimalista.it/wp-content/uploads/2020/05/aaaacapretta.jpg
END:VEVENT
BEGIN:VEVENT
DTSTART;TZID=Europe/Rome:20230424T080000
DTEND;TZID=Europe/Rome:20230424T233000
DTSTAMP:20260422T160413
CREATED:20200516T102204Z
LAST-MODIFIED:20230324T191029Z
UID:4838-1682323200-1682379000@associazionevegananimalista.it
SUMMARY:La vecchiaia è come un aereo che punta in una tempesta. Una volta che sei a bordo non puoi più fare niente. (Golda Meir)
DESCRIPTION:La vecchiaia è come un aereo che punta in una tempesta. Una volta che sei a bordo non puoi più fare niente.\n\n\n(Golda Meir)\nLeggi condividi e diffondi: PROGETTO PACE NEL MONDO – EDUCARE L’UMANITA’ ALLA PACE di Franco Libero Manco \nVisita il nostro sito Associazione Vegan Animalista \nMetti “Mi piace” sulla pagina Facebook del presidente Franco Libero Manco \nMetti “Mi piace” sulla nostra pagina Facebook AVA Associazione Vegan Animalista \nIscriviti alla nostra Newsletter \nVisiona iscriviti e condividi le nostre videoconferenze dal nostro canale Youtube \n Iscriviti ai nostri gruppi su Facebook: \nAVA Associazione Vegan Animalista \nSupporta Agripunk e tutti i Rifugi di Animali Liberi \n\n\n \n\n\n\n\n\nShare on:
URL:https://associazionevegananimalista.it/event/la-vecchiaia-e-come-un-aereo-che-punta-in-una-tempesta-una-volta-che-sei-a-bordo-non-puoi-piu-fare-niente-golda-meir/
CATEGORIES:Citazioni
ATTACH;FMTTYPE=image/jpeg:https://associazionevegananimalista.it/wp-content/uploads/2020/05/aaaaaaciv54.jpg
END:VEVENT
BEGIN:VEVENT
DTSTART;TZID=Europe/Rome:20230425T080000
DTEND;TZID=Europe/Rome:20230425T233000
DTSTAMP:20260422T160413
CREATED:20200517T102311Z
LAST-MODIFIED:20230325T230957Z
UID:4841-1682409600-1682465400@associazionevegananimalista.it
SUMMARY:Vedo. Vedo un camoscio e gli stambecchi saltare un'aquila vola in alto e le marmotte zampettano circospette amore\, sei sicura che di qui si va a Rimini? (Flavio Oreglio)
DESCRIPTION:Vedo. \n\nVedo un camoscio \ne gli stambecchi saltare \nun’aquila vola in alto \ne le marmotte zampettano circospette \namore\, sei sicura che di qui si va a Rimini? \n\n(Flavio Oreglio)\nLeggi condividi e diffondi: PROGETTO PACE NEL MONDO – EDUCARE L’UMANITA’ ALLA PACE di Franco Libero Manco \nVisita il nostro sito Associazione Vegan Animalista \nMetti “Mi piace” sulla pagina Facebook del presidente Franco Libero Manco \nMetti “Mi piace” sulla nostra pagina Facebook AVA Associazione Vegan Animalista \nIscriviti alla nostra Newsletter \nVisiona iscriviti e condividi le nostre videoconferenze dal nostro canale Youtube \n Iscriviti ai nostri gruppi su Facebook: \nAVA Associazione Vegan Animalista \nSupporta Agripunk e tutti i Rifugi di Animali Liberi \n\n\n\n \n\n\n\n\n\nShare on:
URL:https://associazionevegananimalista.it/event/vedo-vedo-un-camoscio-e-gli-stambecchi-saltare-unaquila-vola-in-alto-e-le-marmotte-zampettano-circospette-amore-sei-sicura-che-di-qui-si-va-a-rimini-flavio-oreglio/
CATEGORIES:Citazioni
ATTACH;FMTTYPE=image/jpeg:https://associazionevegananimalista.it/wp-content/uploads/2020/05/aaaaaaarosp9.jpg
END:VEVENT
BEGIN:VEVENT
DTSTART;TZID=Europe/Rome:20230426T080000
DTEND;TZID=Europe/Rome:20230426T233000
DTSTAMP:20260422T160413
CREATED:20200519T094952Z
LAST-MODIFIED:20230326T202726Z
UID:4850-1682496000-1682551800@associazionevegananimalista.it
SUMMARY:Le cose vanno sempre peggio. Ho visto un uomo a terra immobile. Sono sceso dal marciapiede e gli ho chiesto: "Sta Male?" e lui: "No\, è che ho trovato un parcheggio\, così ho mandato mia moglie a comprare una macchina". (Henny Youngman)
DESCRIPTION:Le cose vanno sempre peggio. Ho visto un uomo a terra immobile. Sono sceso dal marciapiede e gli ho chiesto: “Sta Male?” e lui: “No\, è che ho trovato un parcheggio\, così ho mandato mia moglie a comprare una macchina”.\n\n\n(Henny Youngman)\nLeggi condividi e diffondi: PROGETTO PACE NEL MONDO – EDUCARE L’UMANITA’ ALLA PACE di Franco Libero Manco \nVisita il nostro sito Associazione Vegan Animalista \nMetti “Mi piace” sulla pagina Facebook del presidente Franco Libero Manco \nMetti “Mi piace” sulla nostra pagina Facebook AVA Associazione Vegan Animalista \nIscriviti alla nostra Newsletter \nVisiona iscriviti e condividi le nostre videoconferenze dal nostro canale Youtube \n Iscriviti ai nostri gruppi su Facebook: \nAVA Associazione Vegan Animalista \nSupporta Agripunk e tutti i Rifugi di Animali Liberi \n\n\n \n\n\n\n\n\nShare on:
URL:https://associazionevegananimalista.it/event/le-cose-vanno-sempre-peggio-ho-visto-un-uomo-a-terra-immobile-sono-sceso-dal-marciapiede-e-gli-ho-chiesto-sta-male-e-lui-no-e-che-ho-trovato-un-parcheggio-cosi-ho-mandato-mia-moglie-a-com/
CATEGORIES:Citazioni
ATTACH;FMTTYPE=image/jpeg:https://associazionevegananimalista.it/wp-content/uploads/2020/05/aaaaaaaaacucù.jpg
END:VEVENT
BEGIN:VEVENT
DTSTART;TZID=Europe/Rome:20230428T080000
DTEND;TZID=Europe/Rome:20230428T233000
DTSTAMP:20260422T160413
CREATED:20200510T091838Z
LAST-MODIFIED:20230328T201017Z
UID:4808-1682668800-1682724600@associazionevegananimalista.it
SUMMARY:Non ne usciremo nè cambiati nè tanto meno migliori. Ne usciremo al massimo con le orecchie a sventola per quei cavolo di elastici delle mascherine.
DESCRIPTION:Non ne usciremo nè cambiati nè tanto meno migliori. Ne usciremo al massimo con le orecchie a sventola per quei cavolo di elastici delle mascherine.\n\n\n\nE comunque\, grande problema ambientale:\n\n\nAlla fine della pandemia ci sarà il problema dello smaltimento dei virologi.\n\n\n(Prugna)\n\n\n\nLeggi condividi e diffondi: PROGETTO PACE NEL MONDO – EDUCARE L’UMANITA’ ALLA PACE di Franco Libero Manco \nVisita il nostro sito Associazione Vegan Animalista \nMetti “Mi piace” sulla pagina Facebook del presidente Franco Libero Manco \nMetti “Mi piace” sulla nostra pagina Facebook AVA Associazione Vegan Animalista \nIscriviti alla nostra Newsletter \nVisiona iscriviti e condividi le nostre videoconferenze dal nostro canale Youtube \n Iscriviti ai nostri gruppi su Facebook: \nAVA Associazione Vegan Animalista \nSupporta Agripunk e tutti i Rifugi di Animali Liberi \n\n\n \n\n\n\n\n\nShare on:
URL:https://associazionevegananimalista.it/event/non-ne-usciremo-ne-cambiati-ne-tanto-meno-migliori-ne-usciremo-al-massimo-con-le-orecchie-a-sventola-per-quei-cavolo-di-elastici-delle-mascherine/
CATEGORIES:Citazioni
ATTACH;FMTTYPE=image/jpeg:https://associazionevegananimalista.it/wp-content/uploads/2020/05/aaaaaaaaaorecchie.jpg
END:VEVENT
BEGIN:VEVENT
DTSTART;TZID=Europe/Rome:20230430T080000
DTEND;TZID=Europe/Rome:20230430T233000
DTSTAMP:20260422T160413
CREATED:20200520T095509Z
LAST-MODIFIED:20230330T132921Z
UID:4857-1682841600-1682897400@associazionevegananimalista.it
SUMMARY:Era un paese talmente piccolo che aveva una sola pagina gialla.
DESCRIPTION:Era un paese talmente piccolo che aveva una sola pagina gialla.\n\n\n\nTalmente piccolo che non avevamo neanche lo scemo del villaggio. Dovevamo fare a turno.\n\n\n(Billy Holliday)\n\n\n\nLeggi condividi e diffondi: PROGETTO PACE NEL MONDO – EDUCARE L’UMANITA’ ALLA PACE di Franco Libero Manco \nVisita il nostro sito Associazione Vegan Animalista \nMetti “Mi piace” sulla pagina Facebook del presidente Franco Libero Manco \nMetti “Mi piace” sulla nostra pagina Facebook AVA Associazione Vegan Animalista \nIscriviti alla nostra Newsletter \nVisiona iscriviti e condividi le nostre videoconferenze dal nostro canale Youtube \n Iscriviti ai nostri gruppi su Facebook: \nAVA Associazione Vegan Animalista \nSupporta Agripunk e tutti i Rifugi di Animali Liberi \n\n\n\n\nShare on:
URL:https://associazionevegananimalista.it/event/era-un-paese-talmente-piccolo-che-aveva-solo-una-pagina-gialla/
CATEGORIES:Citazioni
ATTACH;FMTTYPE=image/jpeg:https://associazionevegananimalista.it/wp-content/uploads/2020/05/aaaaaaaaapappag.jpg
END:VEVENT
END:VCALENDAR